BEGIN:VCALENDAR
VERSION:2.0
PRODID:-//jEvents 2.0 for Joomla//EN
CALSCALE:GREGORIAN
METHOD:PUBLISH
BEGIN:VTIMEZONE
TZID:America/New_York
BEGIN:STANDARD
DTSTART:20251102T010000
RDATE:20260308T030000
TZOFFSETFROM:-0400
TZOFFSETTO:-0500
TZNAME:America/New_York EST
END:STANDARD
BEGIN:STANDARD
DTSTART:20261101T010000
RDATE:20270314T030000
TZOFFSETFROM:-0400
TZOFFSETTO:-0500
TZNAME:America/New_York EST
END:STANDARD
BEGIN:STANDARD
DTSTART:20271107T010000
RDATE:20280312T030000
TZOFFSETFROM:-0400
TZOFFSETTO:-0500
TZNAME:America/New_York EST
END:STANDARD
BEGIN:STANDARD
DTSTART:20281105T010000
RDATE:20290311T030000
TZOFFSETFROM:-0400
TZOFFSETTO:-0500
TZNAME:America/New_York EST
END:STANDARD
BEGIN:DAYLIGHT
DTSTART:20250418T000000
RDATE:20251102T010000
TZOFFSETFROM:-0500
TZOFFSETTO:-0400
TZNAME:America/New_York EDT
END:DAYLIGHT
BEGIN:DAYLIGHT
DTSTART:20260308T030000
RDATE:20261101T010000
TZOFFSETFROM:-0500
TZOFFSETTO:-0400
TZNAME:America/New_York EDT
END:DAYLIGHT
BEGIN:DAYLIGHT
DTSTART:20270314T030000
RDATE:20271107T010000
TZOFFSETFROM:-0500
TZOFFSETTO:-0400
TZNAME:America/New_York EDT
END:DAYLIGHT
BEGIN:DAYLIGHT
DTSTART:20280312T030000
RDATE:20281105T010000
TZOFFSETFROM:-0500
TZOFFSETTO:-0400
TZNAME:America/New_York EDT
END:DAYLIGHT
END:VTIMEZONE
BEGIN:VEVENT
UID:4238ea57baaf92b56d231480bbeadade
CATEGORIES:Polo
CREATED:20260414T105003
SUMMARY:Vero Beach Polo Club - One Sotheby's International Realty Cup Finals
LOCATION:Vero Beach Polo Club
DESCRIPTION:Join us on Sunday April 19 for the One Sotheby's International Realty Cup F
 inals. We're having a 'BLUE' themed party to celebrate the end of the VERO 
 BEACH POLO CLUB's season. Looking forward to seeing you on the field!\n
NEX
 T MATCH: APRIL 19 SPONSORED BY ONE SOTHEBY'S INTERNATIONAL REALTY \n
RESERV
 ATIONS AVAILABLE!\n
For more information contact Gaston at gaston.thevbpc@g
 mail.com (mailto:gaston.thevbpc@gmail.com) or call Gaston at 772 321 3082.\
 n
1) Sunday matches are scheduled for 2 pm.\n
2) Gates open at 12:00.\n
3) 
 Check the website for game day changes and rainout info. \n
Daily Admission
 : $25.00\n
Pay at the gate on game day.\n
Children under 10 are free!\n
Loc
 ation: The Vero Beach Polo Club
1084 E. Polo Grounds Lane
on 12th Street be
 tween 74th and 82nd Avenues
Vero Beach, Fl 32966
X-ALT-DESC;FMTTYPE=text/html:<p>Join us on Sunday April 19 for the One Sotheby's International Realty Cu
 p Finals. We're having a 'BLUE' themed party to celebrate the end of the VE
 RO BEACH POLO CLUB's season. Looking forward to seeing you on the field!</p
 ><p />NEXT MATCH: APRIL 19 SPONSORED BY ONE SOTHEBY'S INTERNATIONAL REALTY 
 <br />RESERVATIONS AVAILABLE!<br />For more information contact Gaston at <
 a href="mailto:gaston.thevbpc@gmail.com">gaston.thevbpc@gmail.com</a> or ca
 ll Gaston at 772 321 3082.<br />1) Sunday matches are scheduled for 2 pm.<b
 r />2) Gates open at 12:00.<br />3) Check the website for game day changes 
 and rainout info. <br />Daily Admission: $25.00<br />Pay at the gate on gam
 e day.<br />Children under 10 are free!<br />Location: The Vero Beach Polo 
 Club1084 E. Polo Grounds Laneon 12th Street between 74th and 82nd AvenuesVe
 ro Beach, Fl 32966
DTSTAMP:20260424T135821
DTSTART;TZID=America/New_York;VALUE=DATE:20260419
DTEND;TZID=America/New_York;VALUE=DATE:20260420
SEQUENCE:0
TRANSP:OPAQUE
END:VEVENT
END:VCALENDAR