BEGIN:VCALENDAR
VERSION:2.0
PRODID:-//jEvents 2.0 for Joomla//EN
CALSCALE:GREGORIAN
METHOD:PUBLISH
BEGIN:VTIMEZONE
TZID:America/New_York
BEGIN:STANDARD
DTSTART:20251114T000000
RDATE:20260308T030000
TZOFFSETFROM:-0400
TZOFFSETTO:-0500
TZNAME:America/New_York EST
END:STANDARD
BEGIN:STANDARD
DTSTART:20261101T010000
RDATE:20270314T030000
TZOFFSETFROM:-0400
TZOFFSETTO:-0500
TZNAME:America/New_York EST
END:STANDARD
BEGIN:STANDARD
DTSTART:20271107T010000
RDATE:20280312T030000
TZOFFSETFROM:-0400
TZOFFSETTO:-0500
TZNAME:America/New_York EST
END:STANDARD
BEGIN:STANDARD
DTSTART:20281105T010000
RDATE:20290311T030000
TZOFFSETFROM:-0400
TZOFFSETTO:-0500
TZNAME:America/New_York EST
END:STANDARD
BEGIN:DAYLIGHT
DTSTART:20260308T030000
RDATE:20261101T010000
TZOFFSETFROM:-0500
TZOFFSETTO:-0400
TZNAME:America/New_York EDT
END:DAYLIGHT
BEGIN:DAYLIGHT
DTSTART:20270314T030000
RDATE:20271107T010000
TZOFFSETFROM:-0500
TZOFFSETTO:-0400
TZNAME:America/New_York EDT
END:DAYLIGHT
BEGIN:DAYLIGHT
DTSTART:20280312T030000
RDATE:20281105T010000
TZOFFSETFROM:-0500
TZOFFSETTO:-0400
TZNAME:America/New_York EDT
END:DAYLIGHT
END:VTIMEZONE
BEGIN:VEVENT
UID:db53141cf523a98a983a6dbac958011d
CATEGORIES:Racing Sales
CREATED:20260331T135700
SUMMARY:Goffs IRE - November Sale 
LOCATION:Goffs Kildare Paddocks
DESCRIPTION:GOFFS November Sale 2026\n
Kildare | 15 - 21 November\n
Featuring Europe's 
 premier foal sale and top class breeding stock.
X-ALT-DESC;FMTTYPE=text/html:GOFFS November Sale 2026<br />Kildare | 15 - 21 November<br />Featuring Eur
 ope's premier foal sale and top class breeding stock.
DTSTAMP:20260424T185525
DTSTART;TZID=America/New_York;VALUE=DATE:20261115
DTEND;TZID=America/New_York;VALUE=DATE:20261122
SEQUENCE:0
TRANSP:OPAQUE
END:VEVENT
END:VCALENDAR