BEGIN:VCALENDAR
VERSION:2.0
PRODID:-//jEvents 2.0 for Joomla//EN
CALSCALE:GREGORIAN
METHOD:PUBLISH
BEGIN:VTIMEZONE
TZID:America/New_York
BEGIN:STANDARD
DTSTART:20251102T010000
RDATE:20260308T030000
TZOFFSETFROM:-0400
TZOFFSETTO:-0500
TZNAME:America/New_York EST
END:STANDARD
BEGIN:STANDARD
DTSTART:20261101T010000
RDATE:20270314T030000
TZOFFSETFROM:-0400
TZOFFSETTO:-0500
TZNAME:America/New_York EST
END:STANDARD
BEGIN:STANDARD
DTSTART:20271107T010000
RDATE:20280312T030000
TZOFFSETFROM:-0400
TZOFFSETTO:-0500
TZNAME:America/New_York EST
END:STANDARD
BEGIN:STANDARD
DTSTART:20281105T010000
RDATE:20290311T030000
TZOFFSETFROM:-0400
TZOFFSETTO:-0500
TZNAME:America/New_York EST
END:STANDARD
BEGIN:DAYLIGHT
DTSTART:20251101T010000
RDATE:20251102T010000
TZOFFSETFROM:-0500
TZOFFSETTO:-0400
TZNAME:America/New_York EDT
END:DAYLIGHT
BEGIN:DAYLIGHT
DTSTART:20260308T030000
RDATE:20261101T010000
TZOFFSETFROM:-0500
TZOFFSETTO:-0400
TZNAME:America/New_York EDT
END:DAYLIGHT
BEGIN:DAYLIGHT
DTSTART:20270314T030000
RDATE:20271107T010000
TZOFFSETFROM:-0500
TZOFFSETTO:-0400
TZNAME:America/New_York EDT
END:DAYLIGHT
BEGIN:DAYLIGHT
DTSTART:20280312T030000
RDATE:20281105T010000
TZOFFSETFROM:-0500
TZOFFSETTO:-0400
TZNAME:America/New_York EDT
END:DAYLIGHT
END:VTIMEZONE
BEGIN:VEVENT
UID:a6a13e506689d95f242d1c91441e68cb
CATEGORIES:Racing Sales
CREATED:20260331T135544
SUMMARY:Goffs IRE - Autumn HIT & Yearling Sale
LOCATION:Goffs Kildare Paddocks
DESCRIPTION:GOFFS Autumn HIT &amp; Yearling Sale 2026\n
Kildare | 2 - 5 November\n
Feat
 uring three-days of horses-in-training and quality, commercial yearlings. 
X-ALT-DESC;FMTTYPE=text/html:GOFFS Autumn HIT & Yearling Sale 2026<br />Kildare | 2 - 5 November<br />Fe
 aturing three-days of horses-in-training and quality, commercial yearlings.
  
DTSTAMP:20260424T185520
DTSTART;TZID=America/New_York;VALUE=DATE:20261102
DTEND;TZID=America/New_York;VALUE=DATE:20261106
SEQUENCE:0
TRANSP:OPAQUE
END:VEVENT
END:VCALENDAR