BEGIN:VCALENDAR
VERSION:2.0
PRODID:-//jEvents 2.0 for Joomla//EN
CALSCALE:GREGORIAN
METHOD:PUBLISH
BEGIN:VTIMEZONE
TZID:America/New_York
BEGIN:STANDARD
DTSTART:20251102T010000
RDATE:20260308T030000
TZOFFSETFROM:-0400
TZOFFSETTO:-0500
TZNAME:America/New_York EST
END:STANDARD
BEGIN:STANDARD
DTSTART:20261101T010000
RDATE:20270314T030000
TZOFFSETFROM:-0400
TZOFFSETTO:-0500
TZNAME:America/New_York EST
END:STANDARD
BEGIN:STANDARD
DTSTART:20271107T010000
RDATE:20280312T030000
TZOFFSETFROM:-0400
TZOFFSETTO:-0500
TZNAME:America/New_York EST
END:STANDARD
BEGIN:STANDARD
DTSTART:20281105T010000
RDATE:20290311T030000
TZOFFSETFROM:-0400
TZOFFSETTO:-0500
TZNAME:America/New_York EST
END:STANDARD
BEGIN:DAYLIGHT
DTSTART:20250429T000000
RDATE:20251102T010000
TZOFFSETFROM:-0500
TZOFFSETTO:-0400
TZNAME:America/New_York EDT
END:DAYLIGHT
BEGIN:DAYLIGHT
DTSTART:20260308T030000
RDATE:20261101T010000
TZOFFSETFROM:-0500
TZOFFSETTO:-0400
TZNAME:America/New_York EDT
END:DAYLIGHT
BEGIN:DAYLIGHT
DTSTART:20270314T030000
RDATE:20271107T010000
TZOFFSETFROM:-0500
TZOFFSETTO:-0400
TZNAME:America/New_York EDT
END:DAYLIGHT
BEGIN:DAYLIGHT
DTSTART:20280312T030000
RDATE:20281105T010000
TZOFFSETFROM:-0500
TZOFFSETTO:-0400
TZNAME:America/New_York EDT
END:DAYLIGHT
END:VTIMEZONE
BEGIN:VEVENT
UID:6972a2135b3a676d93fa2fc82273c13a
CATEGORIES:Racing Sales
CREATED:20260326T134425
SUMMARY:Goffs IRE - Punchestown Sale
LOCATION:Punchestown Racecourse
DESCRIPTION:Punchestown Sale 2026\n
April 30\n
A boutique sale of pointers held at the 
 Punchestown Festival. Sold horses up to €500,000 and produced numerous Grad
 e 1 winners.  
X-ALT-DESC;FMTTYPE=text/html:Punchestown Sale 2026<br />April 30<br />A boutique sale of pointers held a
 t the Punchestown Festival. Sold horses up to €500,000 and produced numerou
 s Grade 1 winners.  
DTSTAMP:20260424T135823
DTSTART;TZID=America/New_York;VALUE=DATE:20260430
DTEND;TZID=America/New_York;VALUE=DATE:20260501
SEQUENCE:0
TRANSP:OPAQUE
END:VEVENT
END:VCALENDAR