BEGIN:VCALENDAR
VERSION:2.0
PRODID:-//jEvents 2.0 for Joomla//EN
CALSCALE:GREGORIAN
METHOD:PUBLISH
BEGIN:VTIMEZONE
TZID:America/New_York
BEGIN:STANDARD
DTSTART:20251102T010000
RDATE:20260308T030000
TZOFFSETFROM:-0400
TZOFFSETTO:-0500
TZNAME:America/New_York EST
END:STANDARD
BEGIN:STANDARD
DTSTART:20261101T010000
RDATE:20270314T030000
TZOFFSETFROM:-0400
TZOFFSETTO:-0500
TZNAME:America/New_York EST
END:STANDARD
BEGIN:STANDARD
DTSTART:20271107T010000
RDATE:20280312T030000
TZOFFSETFROM:-0400
TZOFFSETTO:-0500
TZNAME:America/New_York EST
END:STANDARD
BEGIN:STANDARD
DTSTART:20281105T010000
RDATE:20290311T030000
TZOFFSETFROM:-0400
TZOFFSETTO:-0500
TZNAME:America/New_York EST
END:STANDARD
BEGIN:DAYLIGHT
DTSTART:20250331T000000
RDATE:20251102T010000
TZOFFSETFROM:-0500
TZOFFSETTO:-0400
TZNAME:America/New_York EDT
END:DAYLIGHT
BEGIN:DAYLIGHT
DTSTART:20260308T030000
RDATE:20261101T010000
TZOFFSETFROM:-0500
TZOFFSETTO:-0400
TZNAME:America/New_York EDT
END:DAYLIGHT
BEGIN:DAYLIGHT
DTSTART:20270314T030000
RDATE:20271107T010000
TZOFFSETFROM:-0500
TZOFFSETTO:-0400
TZNAME:America/New_York EDT
END:DAYLIGHT
BEGIN:DAYLIGHT
DTSTART:20280312T030000
RDATE:20281105T010000
TZOFFSETFROM:-0500
TZOFFSETTO:-0400
TZNAME:America/New_York EDT
END:DAYLIGHT
END:VTIMEZONE
BEGIN:VEVENT
UID:9fcf5a599d446da121fb477bf660d8a1
CATEGORIES:English Riding
CREATED:20260326T131958
SUMMARY:Terranova Dressage I - CDI 3* USEF LEVEL 5
LOCATION:TerraNova Equestrian Center
DESCRIPTION:TerraNova Equestrian Center welcomes you to Dressage at TerraNova CDI-3* an
 d National Level 5, April 1-4, 2026, showcasing the Olympic sport of dressa
 ge. Join us for the ultimate in equestrian sport and a lovely day in the co
 untry. General admission and VIP experiences are available. Our goal is to 
 create a world-class experience for all levels of riders, horses and specta
 tors. TerraNova Dressage is a destination event for competitors, owners and
  sponsors, located just a short drive from the Sarasota and Bradenton areas
  and some of the nation’s top beaches, resort hotels, golf courses and upsc
 ale restaurants.
\n

This show does not run on Easter Sunday! Please take n
 ote of the adjusted schedule. \n
USEF - US Equestrian Foundation approved e
 vent\n
CCI4*-S, CCI3*-L, and Advanced Level Competitions\n
X-ALT-DESC;FMTTYPE=text/html:<p>TerraNova Equestrian Center welcomes you to Dressage at TerraNova CDI-3*
  and National Level 5, April 1-4, 2026, showcasing the Olympic sport of dre
 ssage. Join us for the ultimate in equestrian sport and a lovely day in the
  country. General admission and VIP experiences are available. Our goal is 
 to create a world-class experience for all levels of riders, horses and spe
 ctators. TerraNova Dressage is a destination event for competitors, owners 
 and sponsors, located just a short drive from the Sarasota and Bradenton ar
 eas and some of the nation’s top beaches, resort hotels, golf courses and u
 pscale restaurants.</p><p>This show does not run on Easter Sunday! Please t
 ake note of the adjusted schedule. </p><p>USEF - US Equestrian Foundation a
 pproved event<br />CCI4*-S, CCI3*-L, and Advanced Level Competitions</p>
DTSTAMP:20260424T135823
DTSTART;TZID=America/New_York;VALUE=DATE:20260401
DTEND;TZID=America/New_York;VALUE=DATE:20260405
SEQUENCE:0
TRANSP:OPAQUE
END:VEVENT
END:VCALENDAR