BEGIN:VCALENDAR
VERSION:2.0
PRODID:-//jEvents 2.0 for Joomla//EN
CALSCALE:GREGORIAN
METHOD:PUBLISH
BEGIN:VTIMEZONE
TZID:America/New_York
BEGIN:STANDARD
DTSTART:20251102T010000
RDATE:20260308T030000
TZOFFSETFROM:-0400
TZOFFSETTO:-0500
TZNAME:America/New_York EST
END:STANDARD
BEGIN:STANDARD
DTSTART:20261101T010000
RDATE:20270314T030000
TZOFFSETFROM:-0400
TZOFFSETTO:-0500
TZNAME:America/New_York EST
END:STANDARD
BEGIN:STANDARD
DTSTART:20271107T010000
RDATE:20280312T030000
TZOFFSETFROM:-0400
TZOFFSETTO:-0500
TZNAME:America/New_York EST
END:STANDARD
BEGIN:STANDARD
DTSTART:20281105T010000
RDATE:20290311T030000
TZOFFSETFROM:-0400
TZOFFSETTO:-0500
TZNAME:America/New_York EST
END:STANDARD
BEGIN:DAYLIGHT
DTSTART:20251102T010000
RDATE:20251102T010000
TZOFFSETFROM:-0500
TZOFFSETTO:-0400
TZNAME:America/New_York EDT
END:DAYLIGHT
BEGIN:DAYLIGHT
DTSTART:20260308T030000
RDATE:20261101T010000
TZOFFSETFROM:-0500
TZOFFSETTO:-0400
TZNAME:America/New_York EDT
END:DAYLIGHT
BEGIN:DAYLIGHT
DTSTART:20270314T030000
RDATE:20271107T010000
TZOFFSETFROM:-0500
TZOFFSETTO:-0400
TZNAME:America/New_York EDT
END:DAYLIGHT
BEGIN:DAYLIGHT
DTSTART:20280312T030000
RDATE:20281105T010000
TZOFFSETFROM:-0500
TZOFFSETTO:-0400
TZNAME:America/New_York EDT
END:DAYLIGHT
END:VTIMEZONE
BEGIN:VEVENT
UID:47fa60dcd596528e81148cc1bc2ebee7
CATEGORIES:Horse Racing
CREATED:20251222T143313
SUMMARY:The Melbourne Cup
LOCATION:Flemington Racecourse
DESCRIPTION:The 2026 Melbourne Cup will be held on Tuesday, November 3, 2026, at Flemin
 gton Racecourse in Melbourne, Australia. The race, which is Race 7 on the d
 ay's card, is scheduled to start at 3:00 PM AEDT. \n
Location: Flemington R
 acecourse, Melbourne, Victoria.\n
Race Distance: 3200 metres.\n
Prize Money
 : The total prize pool is approximately $10 million AUD.\n
Event Status: It
  is a Group 1 handicap race, known as "the race that stops a nation".\n
Pub
 lic Holiday: Melbourne Cup Day is a public holiday in the state of Victoria
  only. \n
The event is the highlight of the week-long Melbourne Cup Carniva
 l, which includes three other major race days. Tickets and hospitality pack
 ages are available for pre-purchase online through the Victoria Racing Club
  and Ticketmaster websites. 
X-ALT-DESC;FMTTYPE=text/html:The 2026 Melbourne Cup will be held on Tuesday, November 3, 2026, at Flemin
 gton Racecourse in Melbourne, Australia. The race, which is Race 7 on the d
 ay's card, is scheduled to start at 3:00 PM AEDT. <br />Location: Flemingto
 n Racecourse, Melbourne, Victoria.<br />Race Distance: 3200 metres.<br />Pr
 ize Money: The total prize pool is approximately $10 million AUD.<br />Even
 t Status: It is a Group 1 handicap race, known as "the race that stops a na
 tion".<br />Public Holiday: Melbourne Cup Day is a public holiday in the st
 ate of Victoria only. <br />The event is the highlight of the week-long Mel
 bourne Cup Carnival, which includes three other major race days. Tickets an
 d hospitality packages are available for pre-purchase online through the Vi
 ctoria Racing Club and Ticketmaster websites. 
DTSTAMP:20260424T174306
DTSTART;TZID=America/New_York;VALUE=DATE:20261103
DTEND;TZID=America/New_York;VALUE=DATE:20261104
SEQUENCE:0
TRANSP:OPAQUE
END:VEVENT
END:VCALENDAR