BEGIN:VCALENDAR
VERSION:2.0
PRODID:-//jEvents 2.0 for Joomla//EN
CALSCALE:GREGORIAN
METHOD:PUBLISH
BEGIN:VTIMEZONE
TZID:America/New_York
BEGIN:STANDARD
DTSTART:20250213T000000
RDATE:20250309T030000
TZOFFSETFROM:-0400
TZOFFSETTO:-0500
TZNAME:America/New_York EST
END:STANDARD
BEGIN:STANDARD
DTSTART:20251102T010000
RDATE:20260308T030000
TZOFFSETFROM:-0400
TZOFFSETTO:-0500
TZNAME:America/New_York EST
END:STANDARD
BEGIN:STANDARD
DTSTART:20261101T010000
RDATE:20270314T030000
TZOFFSETFROM:-0400
TZOFFSETTO:-0500
TZNAME:America/New_York EST
END:STANDARD
BEGIN:STANDARD
DTSTART:20271107T010000
RDATE:20280312T030000
TZOFFSETFROM:-0400
TZOFFSETTO:-0500
TZNAME:America/New_York EST
END:STANDARD
BEGIN:STANDARD
DTSTART:20281105T010000
RDATE:20290311T030000
TZOFFSETFROM:-0400
TZOFFSETTO:-0500
TZNAME:America/New_York EST
END:STANDARD
BEGIN:DAYLIGHT
DTSTART:20250309T030000
RDATE:20251102T010000
TZOFFSETFROM:-0500
TZOFFSETTO:-0400
TZNAME:America/New_York EDT
END:DAYLIGHT
BEGIN:DAYLIGHT
DTSTART:20260308T030000
RDATE:20261101T010000
TZOFFSETFROM:-0500
TZOFFSETTO:-0400
TZNAME:America/New_York EDT
END:DAYLIGHT
BEGIN:DAYLIGHT
DTSTART:20270314T030000
RDATE:20271107T010000
TZOFFSETFROM:-0500
TZOFFSETTO:-0400
TZNAME:America/New_York EDT
END:DAYLIGHT
BEGIN:DAYLIGHT
DTSTART:20280312T030000
RDATE:20281105T010000
TZOFFSETFROM:-0500
TZOFFSETTO:-0400
TZNAME:America/New_York EDT
END:DAYLIGHT
END:VTIMEZONE
BEGIN:VEVENT
UID:379d0b66b3e6f910c18a26b454a5e2f1
CATEGORIES:Horse Racing
CREATED:20251222T141013
SUMMARY:The Saudi Cup
LOCATION:King Abdulaziz Equestrian Field
DESCRIPTION:Location: King Abdulaziz Racetrack (King Abdul Aziz Equestrian Square) is a
  sophisticated venue located on the outskirts of Riyadh.\n
\n
Main Race: Th
 e Grade 1 Saudi Cup itself is run on a 2000-meter (9f) dirt track, offering
  a US$20 million prize purse, with the winner receiving $10 million.\n
\n
F
 estival: The event is a two-day festival that includes a series of eight th
 oroughbred races and one Purebred Arabian race, with total prize money exce
 eding $38 million for the entire weekend.\n
\n
Features: The race weekend c
 ombines high-stakes racing with cultural entertainment, live music, fine di
 ning, and a focus on fashion. \n
Tickets and information are available thro
 ugh the Jockey Club of Saudi Arabia website
X-ALT-DESC;FMTTYPE=text/html:Location: King Abdulaziz Racetrack (King Abdul Aziz Equestrian Square) is a
  sophisticated venue located on the outskirts of Riyadh.<br /><br />Main Ra
 ce: The Grade 1 Saudi Cup itself is run on a 2000-meter (9f) dirt track, of
 fering a US$20 million prize purse, with the winner receiving $10 million.<
 br /><br />Festival: The event is a two-day festival that includes a series
  of eight thoroughbred races and one Purebred Arabian race, with total priz
 e money exceeding $38 million for the entire weekend.<br /><br />Features: 
 The race weekend combines high-stakes racing with cultural entertainment, l
 ive music, fine dining, and a focus on fashion. <br />Tickets and informati
 on are available through the Jockey Club of Saudi Arabia website
DTSTAMP:20260424T185618
DTSTART;TZID=America/New_York;VALUE=DATE:20260214
DTEND;TZID=America/New_York;VALUE=DATE:20260215
SEQUENCE:0
TRANSP:OPAQUE
END:VEVENT
END:VCALENDAR