BEGIN:VCALENDAR
VERSION:2.0
PRODID:-//jEvents 2.0 for Joomla//EN
CALSCALE:GREGORIAN
METHOD:PUBLISH
BEGIN:VTIMEZONE
TZID:America/New_York
BEGIN:STANDARD
DTSTART:20251102T010000
RDATE:20260308T030000
TZOFFSETFROM:-0400
TZOFFSETTO:-0500
TZNAME:America/New_York EST
END:STANDARD
BEGIN:STANDARD
DTSTART:20261101T010000
RDATE:20270314T030000
TZOFFSETFROM:-0400
TZOFFSETTO:-0500
TZNAME:America/New_York EST
END:STANDARD
BEGIN:STANDARD
DTSTART:20271107T010000
RDATE:20280312T030000
TZOFFSETFROM:-0400
TZOFFSETTO:-0500
TZNAME:America/New_York EST
END:STANDARD
BEGIN:STANDARD
DTSTART:20281105T010000
RDATE:20290311T030000
TZOFFSETFROM:-0400
TZOFFSETTO:-0500
TZNAME:America/New_York EST
END:STANDARD
BEGIN:DAYLIGHT
DTSTART:20251029T000000
RDATE:20251102T010000
TZOFFSETFROM:-0500
TZOFFSETTO:-0400
TZNAME:America/New_York EDT
END:DAYLIGHT
BEGIN:DAYLIGHT
DTSTART:20260308T030000
RDATE:20261101T010000
TZOFFSETFROM:-0500
TZOFFSETTO:-0400
TZNAME:America/New_York EDT
END:DAYLIGHT
BEGIN:DAYLIGHT
DTSTART:20270314T030000
RDATE:20271107T010000
TZOFFSETFROM:-0500
TZOFFSETTO:-0400
TZNAME:America/New_York EDT
END:DAYLIGHT
BEGIN:DAYLIGHT
DTSTART:20280312T030000
RDATE:20281105T010000
TZOFFSETFROM:-0500
TZOFFSETTO:-0400
TZNAME:America/New_York EDT
END:DAYLIGHT
END:VTIMEZONE
BEGIN:VEVENT
UID:46a9dc2ae917ab820495d651299ef100
CATEGORIES:Horse Racing
CREATED:20251222T140432
SUMMARY:Breeders' Cup World Championships 
LOCATION:Keeneland
DESCRIPTION:Each racing season ends with just one finish line: the Breeders’ Cup World 
 Championships. It’s the two-day, 14-race, year-end culmination that every h
 orse, jockey, trainer, and owner across the globe has in their sights.
\n


 It all starts with Future Stars Friday, where the sport’s stars of tomorrow
  compete in five Juvenile (two-year-old) races. The non-stop action continu
 es on Saturday where the Breeders’ Cup will crown nine more World Champions
  across different surfaces and divisions, including the season-defining $7 
 million Longines Breeders’ Cup Classic.
\n
Keeneland and Breeders' Cup shar
 e a strong commitment to showcasing the very best of Thoroughbred racing, a
 nd we look forward to helping deliver another world-class event.” The 2026 
 running will mark the fourth time that Keeneland will host the World Champi
 onships after 2015, 2020, and 2022.\n
X-ALT-DESC;FMTTYPE=text/html:<p>Each racing season ends with just one finish line: the Breeders’ Cup Wor
 ld Championships. It’s the two-day, 14-race, year-end culmination that ever
 y horse, jockey, trainer, and owner across the globe has in their sights.</
 p><p>It all starts with Future Stars Friday, where the sport’s stars of tom
 orrow compete in five Juvenile (two-year-old) races. The non-stop action co
 ntinues on Saturday where the Breeders’ Cup will crown nine more World Cham
 pions across different surfaces and divisions, including the season-definin
 g $7 million Longines Breeders’ Cup Classic.</p><p>Keeneland and Breeders' 
 Cup share a strong commitment to showcasing the very best of Thoroughbred r
 acing, and we look forward to helping deliver another world-class event.” T
 he 2026 running will mark the fourth time that Keeneland will host the Worl
 d Championships after 2015, 2020, and 2022.</p>
DTSTAMP:20260424T193301
DTSTART;TZID=America/New_York;VALUE=DATE:20261030
DTEND;TZID=America/New_York;VALUE=DATE:20261101
SEQUENCE:0
TRANSP:OPAQUE
END:VEVENT
END:VCALENDAR