BEGIN:VCALENDAR
VERSION:2.0
PRODID:-//jEvents 2.0 for Joomla//EN
CALSCALE:GREGORIAN
METHOD:PUBLISH
BEGIN:VTIMEZONE
TZID:America/New_York
BEGIN:STANDARD
DTSTART:20251102T010000
RDATE:20260308T030000
TZOFFSETFROM:-0400
TZOFFSETTO:-0500
TZNAME:America/New_York EST
END:STANDARD
BEGIN:STANDARD
DTSTART:20261101T010000
RDATE:20270314T030000
TZOFFSETFROM:-0400
TZOFFSETTO:-0500
TZNAME:America/New_York EST
END:STANDARD
BEGIN:STANDARD
DTSTART:20271107T010000
RDATE:20280312T030000
TZOFFSETFROM:-0400
TZOFFSETTO:-0500
TZNAME:America/New_York EST
END:STANDARD
BEGIN:STANDARD
DTSTART:20281105T010000
RDATE:20290311T030000
TZOFFSETFROM:-0400
TZOFFSETTO:-0500
TZNAME:America/New_York EST
END:STANDARD
BEGIN:DAYLIGHT
DTSTART:20251002T000000
RDATE:20251102T010000
TZOFFSETFROM:-0500
TZOFFSETTO:-0400
TZNAME:America/New_York EDT
END:DAYLIGHT
BEGIN:DAYLIGHT
DTSTART:20260308T030000
RDATE:20261101T010000
TZOFFSETFROM:-0500
TZOFFSETTO:-0400
TZNAME:America/New_York EDT
END:DAYLIGHT
BEGIN:DAYLIGHT
DTSTART:20270314T030000
RDATE:20271107T010000
TZOFFSETFROM:-0500
TZOFFSETTO:-0400
TZNAME:America/New_York EDT
END:DAYLIGHT
BEGIN:DAYLIGHT
DTSTART:20280312T030000
RDATE:20281105T010000
TZOFFSETFROM:-0500
TZOFFSETTO:-0400
TZNAME:America/New_York EDT
END:DAYLIGHT
END:VTIMEZONE
BEGIN:VEVENT
UID:7096e4025ebc4f65629034ac52d3b012
CATEGORIES:Horse Racing
CREATED:20251222T135018
SUMMARY:Prix de l'Arc de Triomphe 2026
LOCATION:Hippodrome ParisLongchamp
DESCRIPTION:The main event of the Prix de l'Arc de Triomphe 2026 is scheduled to take p
 lace on Sunday, October 4, 2026, with related races held on Saturday, Octob
 er 3, at the ParisLongchamp Racecourse in Paris. <br />The event weekend ru
 ns from Saturday, October 3 to Sunday, October 4, 2026.<br />The main race 
 is Europe's richest flat race with a prize fund of €5 million.<br />
DTSTAMP:20260424T193610
DTSTART;TZID=America/New_York;VALUE=DATE:20261003
DTEND;TZID=America/New_York;VALUE=DATE:20261005
SEQUENCE:0
TRANSP:OPAQUE
END:VEVENT
END:VCALENDAR