BEGIN:VCALENDAR
VERSION:2.0
PRODID:-//jEvents 2.0 for Joomla//EN
CALSCALE:GREGORIAN
METHOD:PUBLISH
BEGIN:VTIMEZONE
TZID:America/New_York
BEGIN:STANDARD
DTSTART:20251102T010000
RDATE:20260308T030000
TZOFFSETFROM:-0400
TZOFFSETTO:-0500
TZNAME:America/New_York EST
END:STANDARD
BEGIN:STANDARD
DTSTART:20261101T010000
RDATE:20270314T030000
TZOFFSETFROM:-0400
TZOFFSETTO:-0500
TZNAME:America/New_York EST
END:STANDARD
BEGIN:STANDARD
DTSTART:20271107T010000
RDATE:20280312T030000
TZOFFSETFROM:-0400
TZOFFSETTO:-0500
TZNAME:America/New_York EST
END:STANDARD
BEGIN:STANDARD
DTSTART:20281105T010000
RDATE:20290311T030000
TZOFFSETFROM:-0400
TZOFFSETTO:-0500
TZNAME:America/New_York EST
END:STANDARD
BEGIN:DAYLIGHT
DTSTART:20250615T000000
RDATE:20251102T010000
TZOFFSETFROM:-0500
TZOFFSETTO:-0400
TZNAME:America/New_York EDT
END:DAYLIGHT
BEGIN:DAYLIGHT
DTSTART:20260308T030000
RDATE:20261101T010000
TZOFFSETFROM:-0500
TZOFFSETTO:-0400
TZNAME:America/New_York EDT
END:DAYLIGHT
BEGIN:DAYLIGHT
DTSTART:20270314T030000
RDATE:20271107T010000
TZOFFSETFROM:-0500
TZOFFSETTO:-0400
TZNAME:America/New_York EDT
END:DAYLIGHT
BEGIN:DAYLIGHT
DTSTART:20280312T030000
RDATE:20281105T010000
TZOFFSETFROM:-0500
TZOFFSETTO:-0400
TZNAME:America/New_York EDT
END:DAYLIGHT
END:VTIMEZONE
BEGIN:VEVENT
UID:30681fd9d94999e1e355355e9063e273
CATEGORIES:Horse Racing
CREATED:20251222T134256
SUMMARY:Royal Ascot Meeting 2026
LOCATION:Ascot Racecourse
DESCRIPTION:The Royal Ascot Gold Cup 2026 will be held on Thursday, June 18, 2026. This
  race is the highlight of the third day of the broader Royal Ascot meeting,
  which runs for five days from Tuesday, June 16, to Saturday, June 20, 2026
 . \n
The event will take place at the historic Ascot Racecourse in Berkshir
 e, Great Britain. The Gold Cup race is run over a distance of 2 miles, 3 fu
 rlongs, and 210 yards (4,014 meters). \n
Key Dates for the Royal Ascot 2026
  meeting:
Tuesday, June 16 – Opening Day\n
Wednesday, June 17\n
Thursday, J
 une 18 – Gold Cup Day (also known as Ladies' Day)\n
Friday, June 19\n
Satur
 day, June 20 – The meeting's grand finale 
X-ALT-DESC;FMTTYPE=text/html:The Royal Ascot Gold Cup 2026 will be held on Thursday, June 18, 2026. This
  race is the highlight of the third day of the broader Royal Ascot meeting,
  which runs for five days from Tuesday, June 16, to Saturday, June 20, 2026
 . <br />The event will take place at the historic Ascot Racecourse in Berks
 hire, Great Britain. The Gold Cup race is run over a distance of 2 miles, 3
  furlongs, and 210 yards (4,014 meters). <br /><H2>Key Dates for the Royal 
 Ascot 2026 meeting:</H2>Tuesday, June 16 – Opening Day<br />Wednesday, June
  17<br />Thursday, June 18 – Gold Cup Day (also known as Ladies' Day)<br />
 Friday, June 19<br />Saturday, June 20 – The meeting's grand finale 
DTSTAMP:20260424T185523
DTSTART;TZID=America/New_York;VALUE=DATE:20260616
DTEND;TZID=America/New_York;VALUE=DATE:20260621
SEQUENCE:0
TRANSP:OPAQUE
END:VEVENT
END:VCALENDAR