BEGIN:VCALENDAR
VERSION:2.0
PRODID:-//jEvents 2.0 for Joomla//EN
CALSCALE:GREGORIAN
METHOD:PUBLISH
BEGIN:VTIMEZONE
TZID:America/New_York
BEGIN:STANDARD
DTSTART:20251102T010000
RDATE:20260308T030000
TZOFFSETFROM:-0400
TZOFFSETTO:-0500
TZNAME:America/New_York EST
END:STANDARD
BEGIN:STANDARD
DTSTART:20261101T010000
RDATE:20270314T030000
TZOFFSETFROM:-0400
TZOFFSETTO:-0500
TZNAME:America/New_York EST
END:STANDARD
BEGIN:STANDARD
DTSTART:20271107T010000
RDATE:20280312T030000
TZOFFSETFROM:-0400
TZOFFSETTO:-0500
TZNAME:America/New_York EST
END:STANDARD
BEGIN:STANDARD
DTSTART:20281105T010000
RDATE:20290311T030000
TZOFFSETFROM:-0400
TZOFFSETTO:-0500
TZNAME:America/New_York EST
END:STANDARD
BEGIN:DAYLIGHT
DTSTART:20250617T000000
RDATE:20251102T010000
TZOFFSETFROM:-0500
TZOFFSETTO:-0400
TZNAME:America/New_York EDT
END:DAYLIGHT
BEGIN:DAYLIGHT
DTSTART:20260308T030000
RDATE:20261101T010000
TZOFFSETFROM:-0500
TZOFFSETTO:-0400
TZNAME:America/New_York EDT
END:DAYLIGHT
BEGIN:DAYLIGHT
DTSTART:20270314T030000
RDATE:20271107T010000
TZOFFSETFROM:-0500
TZOFFSETTO:-0400
TZNAME:America/New_York EDT
END:DAYLIGHT
BEGIN:DAYLIGHT
DTSTART:20280312T030000
RDATE:20281105T010000
TZOFFSETFROM:-0500
TZOFFSETTO:-0400
TZNAME:America/New_York EDT
END:DAYLIGHT
END:VTIMEZONE
BEGIN:VEVENT
UID:c1980f7ebd8221b5d2c46a50e5001d72
CATEGORIES:Horse Racing
CREATED:20251222T134241
SUMMARY:Royal Ascot Gold Cup 2026
LOCATION:Ascot Racecourse
DESCRIPTION:The Royal Ascot Gold Cup 2026 will be held on Thursday, June 18, 2026. This
  race is the highlight of the third day of the broader Royal Ascot meeting,
  which runs for five days from Tuesday, June 16, to Saturday, June 20, 2026
 . <br />The event will take place at the historic Ascot Racecourse in Berks
 hire, Great Britain. The Gold Cup race is run over a distance of 2 miles, 3
  furlongs, and 210 yards (4,014 meters). <br />Key Dates for the Royal Asco
 t 2026 meeting:<br />Tuesday, June 16 – Opening Day<br />Wednesday, June 17
 <br />Thursday, June 18 – Gold Cup Day (also known as Ladies' Day)<br />Fri
 day, June 19<br />Saturday, June 20 – The meeting's grand finale 
DTSTAMP:20260424T185654
DTSTART;TZID=America/New_York;VALUE=DATE:20260618
DTEND;TZID=America/New_York;VALUE=DATE:20260619
SEQUENCE:0
TRANSP:OPAQUE
END:VEVENT
END:VCALENDAR