BEGIN:VCALENDAR
VERSION:2.0
PRODID:-//jEvents 2.0 for Joomla//EN
CALSCALE:GREGORIAN
METHOD:PUBLISH
BEGIN:VTIMEZONE
TZID:America/New_York
BEGIN:STANDARD
DTSTART:20251102T010000
RDATE:20260308T030000
TZOFFSETFROM:-0400
TZOFFSETTO:-0500
TZNAME:America/New_York EST
END:STANDARD
BEGIN:STANDARD
DTSTART:20261101T010000
RDATE:20270314T030000
TZOFFSETFROM:-0400
TZOFFSETTO:-0500
TZNAME:America/New_York EST
END:STANDARD
BEGIN:STANDARD
DTSTART:20271107T010000
RDATE:20280312T030000
TZOFFSETFROM:-0400
TZOFFSETTO:-0500
TZNAME:America/New_York EST
END:STANDARD
BEGIN:STANDARD
DTSTART:20281105T010000
RDATE:20290311T030000
TZOFFSETFROM:-0400
TZOFFSETTO:-0500
TZNAME:America/New_York EST
END:STANDARD
BEGIN:DAYLIGHT
DTSTART:20250604T000000
RDATE:20251102T010000
TZOFFSETFROM:-0500
TZOFFSETTO:-0400
TZNAME:America/New_York EDT
END:DAYLIGHT
BEGIN:DAYLIGHT
DTSTART:20260308T030000
RDATE:20261101T010000
TZOFFSETFROM:-0500
TZOFFSETTO:-0400
TZNAME:America/New_York EDT
END:DAYLIGHT
BEGIN:DAYLIGHT
DTSTART:20270314T030000
RDATE:20271107T010000
TZOFFSETFROM:-0500
TZOFFSETTO:-0400
TZNAME:America/New_York EDT
END:DAYLIGHT
BEGIN:DAYLIGHT
DTSTART:20280312T030000
RDATE:20281105T010000
TZOFFSETFROM:-0500
TZOFFSETTO:-0400
TZNAME:America/New_York EDT
END:DAYLIGHT
END:VTIMEZONE
BEGIN:VEVENT
UID:d2500424646efca5fc2f61533f3650ad
CATEGORIES:Horse Racing
CREATED:20251222T133501
SUMMARY:Epsom Derby Festival 2026
LOCATION:Epsom Downs Racecourse
DESCRIPTION:The Epsom Derby Festival 2026 will take place on Friday, June 5 and Saturda
 y, June 6, 2026, at Epsom Downs Racecourse in Surrey, England.\n
\n
The two
  main days of the festival are:\n
Ladies' Day: Friday, June 5, 2026, featur
 ing the Betfred Oaks race.\n
Derby Day: Saturday, June 6, 2026, featuring t
 he prestigious Betfred Derby race, often called "the greatest flat race in 
 the world". 
X-ALT-DESC;FMTTYPE=text/html:The Epsom Derby Festival 2026 will take place on Friday, June 5 and Saturda
 y, June 6, 2026, at Epsom Downs Racecourse in Surrey, England.<br /><br />T
 he two main days of the festival are:<br />Ladies' Day: Friday, June 5, 202
 6, featuring the Betfred Oaks race.<br />Derby Day: Saturday, June 6, 2026,
  featuring the prestigious Betfred Derby race, often called "the greatest f
 lat race in the world". 
DTSTAMP:20260424T174314
DTSTART;TZID=America/New_York;VALUE=DATE:20260605
DTEND;TZID=America/New_York;VALUE=DATE:20260607
SEQUENCE:0
TRANSP:OPAQUE
END:VEVENT
END:VCALENDAR