BEGIN:VCALENDAR
VERSION:2.0
PRODID:-//jEvents 2.0 for Joomla//EN
CALSCALE:GREGORIAN
METHOD:PUBLISH
BEGIN:VTIMEZONE
TZID:America/New_York
BEGIN:STANDARD
DTSTART:20251102T010000
RDATE:20260308T030000
TZOFFSETFROM:-0400
TZOFFSETTO:-0500
TZNAME:America/New_York EST
END:STANDARD
BEGIN:STANDARD
DTSTART:20261101T010000
RDATE:20270314T030000
TZOFFSETFROM:-0400
TZOFFSETTO:-0500
TZNAME:America/New_York EST
END:STANDARD
BEGIN:STANDARD
DTSTART:20271107T010000
RDATE:20280312T030000
TZOFFSETFROM:-0400
TZOFFSETTO:-0500
TZNAME:America/New_York EST
END:STANDARD
BEGIN:STANDARD
DTSTART:20281105T010000
RDATE:20290311T030000
TZOFFSETFROM:-0400
TZOFFSETTO:-0500
TZNAME:America/New_York EST
END:STANDARD
BEGIN:DAYLIGHT
DTSTART:20250605T000000
RDATE:20251102T010000
TZOFFSETFROM:-0500
TZOFFSETTO:-0400
TZNAME:America/New_York EDT
END:DAYLIGHT
BEGIN:DAYLIGHT
DTSTART:20260308T030000
RDATE:20261101T010000
TZOFFSETFROM:-0500
TZOFFSETTO:-0400
TZNAME:America/New_York EDT
END:DAYLIGHT
BEGIN:DAYLIGHT
DTSTART:20270314T030000
RDATE:20271107T010000
TZOFFSETFROM:-0500
TZOFFSETTO:-0400
TZNAME:America/New_York EDT
END:DAYLIGHT
BEGIN:DAYLIGHT
DTSTART:20280312T030000
RDATE:20281105T010000
TZOFFSETFROM:-0500
TZOFFSETTO:-0400
TZNAME:America/New_York EDT
END:DAYLIGHT
END:VTIMEZONE
BEGIN:VEVENT
UID:a53754de5aff3b8371b21bcb6d74a302
CATEGORIES:Horse Racing
CREATED:20251222T132000
SUMMARY:Belmont Stakes 2026
LOCATION:Saratoga Race Course
DESCRIPTION:<h2>Belmont Stakes 2026</h2><p><A href="https://www.nyra.com/belmont-stakes
 /tickets/" />Tickets are available</a>.</p><p>The Belmont Stakes holds seve
 ral special distinctions within the world of horse racing, especially as th
 e final leg of the American Triple Crown. </p><p />25+ Stakes RacesExperien
 ce five straight days of world-class racing, with over $11 million in stake
 s purses on the line.June 5 - 8.
DTSTAMP:20260424T185657
DTSTART;TZID=America/New_York;VALUE=DATE:20260606
DTEND;TZID=America/New_York;VALUE=DATE:20260607
SEQUENCE:0
TRANSP:OPAQUE
END:VEVENT
END:VCALENDAR