BEGIN:VCALENDAR
VERSION:2.0
PRODID:-//jEvents 2.0 for Joomla//EN
CALSCALE:GREGORIAN
METHOD:PUBLISH
BEGIN:VTIMEZONE
TZID:America/New_York
BEGIN:STANDARD
DTSTART:20250121T000000
RDATE:20250309T030000
TZOFFSETFROM:-0400
TZOFFSETTO:-0500
TZNAME:America/New_York EST
END:STANDARD
BEGIN:STANDARD
DTSTART:20251102T010000
RDATE:20260308T030000
TZOFFSETFROM:-0400
TZOFFSETTO:-0500
TZNAME:America/New_York EST
END:STANDARD
BEGIN:STANDARD
DTSTART:20261101T010000
RDATE:20270314T030000
TZOFFSETFROM:-0400
TZOFFSETTO:-0500
TZNAME:America/New_York EST
END:STANDARD
BEGIN:STANDARD
DTSTART:20271107T010000
RDATE:20280312T030000
TZOFFSETFROM:-0400
TZOFFSETTO:-0500
TZNAME:America/New_York EST
END:STANDARD
BEGIN:STANDARD
DTSTART:20281105T010000
RDATE:20290311T030000
TZOFFSETFROM:-0400
TZOFFSETTO:-0500
TZNAME:America/New_York EST
END:STANDARD
BEGIN:DAYLIGHT
DTSTART:20250309T030000
RDATE:20251102T010000
TZOFFSETFROM:-0500
TZOFFSETTO:-0400
TZNAME:America/New_York EDT
END:DAYLIGHT
BEGIN:DAYLIGHT
DTSTART:20260308T030000
RDATE:20261101T010000
TZOFFSETFROM:-0500
TZOFFSETTO:-0400
TZNAME:America/New_York EDT
END:DAYLIGHT
BEGIN:DAYLIGHT
DTSTART:20270314T030000
RDATE:20271107T010000
TZOFFSETFROM:-0500
TZOFFSETTO:-0400
TZNAME:America/New_York EDT
END:DAYLIGHT
BEGIN:DAYLIGHT
DTSTART:20280312T030000
RDATE:20281105T010000
TZOFFSETFROM:-0500
TZOFFSETTO:-0400
TZNAME:America/New_York EDT
END:DAYLIGHT
END:VTIMEZONE
BEGIN:VEVENT
UID:5700ec808782da316627cfbd9912f00e
CATEGORIES:English Riding
CREATED:20251222T123446
SUMMARY:Combined Driving at Terranova  - FEI 3*/2*/1* and  USEF Competition
LOCATION:TerraNova Equestrian Center
DESCRIPTION:Combined Driving at Terranova  - FEI 3*/2*/1* and  USEF Competition\n
Combi
 ned driving is an exciting equestrian sport similar to eventing, but instea
 d of riding, horses are driven to pull carriages through three phases of sp
 ort. Like a triathlon, horse and driver combinations compete in driven dres
 sage, marathon (a cross-country obstacle course featuring water crossing an
 d more), and cones, a timed phase testing precision and skill.
X-ALT-DESC;FMTTYPE=text/html:Combined Driving at Terranova  - FEI 3*/2*/1* and  USEF Competition<br />Co
 mbined driving is an exciting equestrian sport similar to eventing, but ins
 tead of riding, horses are driven to pull carriages through three phases of
  sport. Like a triathlon, horse and driver combinations compete in driven d
 ressage, marathon (a cross-country obstacle course featuring water crossing
  and more), and cones, a timed phase testing precision and skill.
DTSTAMP:20260424T174228
DTSTART;TZID=America/New_York;VALUE=DATE:20260122
DTEND;TZID=America/New_York;VALUE=DATE:20260126
SEQUENCE:0
TRANSP:OPAQUE
END:VEVENT
END:VCALENDAR