BEGIN:VCALENDAR
VERSION:2.0
PRODID:-//jEvents 2.0 for Joomla//EN
CALSCALE:GREGORIAN
METHOD:PUBLISH
BEGIN:VTIMEZONE
TZID:America/New_York
BEGIN:STANDARD
DTSTART:20250213T000000
RDATE:20250309T030000
TZOFFSETFROM:-0400
TZOFFSETTO:-0500
TZNAME:America/New_York EST
END:STANDARD
BEGIN:STANDARD
DTSTART:20251102T010000
RDATE:20260308T030000
TZOFFSETFROM:-0400
TZOFFSETTO:-0500
TZNAME:America/New_York EST
END:STANDARD
BEGIN:STANDARD
DTSTART:20261101T010000
RDATE:20270314T030000
TZOFFSETFROM:-0400
TZOFFSETTO:-0500
TZNAME:America/New_York EST
END:STANDARD
BEGIN:STANDARD
DTSTART:20271107T010000
RDATE:20280312T030000
TZOFFSETFROM:-0400
TZOFFSETTO:-0500
TZNAME:America/New_York EST
END:STANDARD
BEGIN:STANDARD
DTSTART:20281105T010000
RDATE:20290311T030000
TZOFFSETFROM:-0400
TZOFFSETTO:-0500
TZNAME:America/New_York EST
END:STANDARD
BEGIN:DAYLIGHT
DTSTART:20250309T030000
RDATE:20251102T010000
TZOFFSETFROM:-0500
TZOFFSETTO:-0400
TZNAME:America/New_York EDT
END:DAYLIGHT
BEGIN:DAYLIGHT
DTSTART:20260308T030000
RDATE:20261101T010000
TZOFFSETFROM:-0500
TZOFFSETTO:-0400
TZNAME:America/New_York EDT
END:DAYLIGHT
BEGIN:DAYLIGHT
DTSTART:20270314T030000
RDATE:20271107T010000
TZOFFSETFROM:-0500
TZOFFSETTO:-0400
TZNAME:America/New_York EDT
END:DAYLIGHT
BEGIN:DAYLIGHT
DTSTART:20280312T030000
RDATE:20281105T010000
TZOFFSETFROM:-0500
TZOFFSETTO:-0400
TZNAME:America/New_York EDT
END:DAYLIGHT
END:VTIMEZONE
BEGIN:VEVENT
UID:d65b278f98266fb989e46c1ceeb82d13
CATEGORIES:Rodeo
CREATED:20251222T115202
SUMMARY:Bulls, Bands, & Barrels at Kentucky Horse Park
LOCATION:Alltech Arena at the Kentucky Horse Park
DESCRIPTION:Get ready, LEXINGTON – the wildest show in Western Sports is rolling into t
 own! <br />Bulls, Bands, and Barrels brings together the toughest cowboys, 
 fastest cowgirls, and the biggest party for one unforgettable night of chao
 s and country.<br />Before the lights go down and the music cranks up, you’
 ll be on the edge of your seat watching world-class bull riders face off ag
 ainst rank, high-flying bulls, lightning-fast barrel racers battle the cloc
 k, and freestyle bullfighters risk it all. <br /><br />Then, when the dust 
 settles, the stage lights up for a LIVE concert featuring DYLAN GOSSETT wit
 h special guest, TYLER NANCE! <br />This ain’t your grandpappy’s rodeo… Thi
 s is Bulls, Bands, and Barrels – and it’s comin’ for ALLTECH ARENA on FEBRU
 ARY 14!<br />For fans seeking a behind-the-scenes look, the exclusive “Behi
 nd the Chutes Experience” is available as a $110 VIP add-on. This package i
 ncludes standing pit privileges near the stage, merchandise vouchers, a pri
 vate VIP entrance, and bar access for the ultimate BBB experience.
DTSTAMP:20260424T185716
DTSTART;TZID=America/New_York;VALUE=DATE:20260214
DTEND;TZID=America/New_York;VALUE=DATE:20260215
SEQUENCE:0
TRANSP:OPAQUE
END:VEVENT
END:VCALENDAR