BEGIN:VCALENDAR
VERSION:2.0
PRODID:-//jEvents 2.0 for Joomla//EN
CALSCALE:GREGORIAN
METHOD:PUBLISH
BEGIN:VTIMEZONE
TZID:America/New_York
BEGIN:STANDARD
DTSTART:20251102T010000
RDATE:20260308T030000
TZOFFSETFROM:-0400
TZOFFSETTO:-0500
TZNAME:America/New_York EST
END:STANDARD
BEGIN:STANDARD
DTSTART:20261101T010000
RDATE:20270314T030000
TZOFFSETFROM:-0400
TZOFFSETTO:-0500
TZNAME:America/New_York EST
END:STANDARD
BEGIN:STANDARD
DTSTART:20271107T010000
RDATE:20280312T030000
TZOFFSETFROM:-0400
TZOFFSETTO:-0500
TZNAME:America/New_York EST
END:STANDARD
BEGIN:STANDARD
DTSTART:20281105T010000
RDATE:20290311T030000
TZOFFSETFROM:-0400
TZOFFSETTO:-0500
TZNAME:America/New_York EST
END:STANDARD
BEGIN:DAYLIGHT
DTSTART:20250410T000000
RDATE:20251102T010000
TZOFFSETFROM:-0500
TZOFFSETTO:-0400
TZNAME:America/New_York EDT
END:DAYLIGHT
BEGIN:DAYLIGHT
DTSTART:20260308T030000
RDATE:20261101T010000
TZOFFSETFROM:-0500
TZOFFSETTO:-0400
TZNAME:America/New_York EDT
END:DAYLIGHT
BEGIN:DAYLIGHT
DTSTART:20270314T030000
RDATE:20271107T010000
TZOFFSETFROM:-0500
TZOFFSETTO:-0400
TZNAME:America/New_York EDT
END:DAYLIGHT
BEGIN:DAYLIGHT
DTSTART:20280312T030000
RDATE:20281105T010000
TZOFFSETFROM:-0500
TZOFFSETTO:-0400
TZNAME:America/New_York EDT
END:DAYLIGHT
END:VTIMEZONE
BEGIN:VEVENT
UID:6504842d75682f2d0f3eaae60803e765
CATEGORIES:Horse Show
CREATED:20251208T115427
SUMMARY:US Mounted Games at Kentucky Horse Park
LOCATION:Hunter Jumper Complex
DESCRIPTION:For 27 years the United States Mounted Games Association has provided oppor
 tunities for riders of all ages to enjoy games on horseback and to compete 
 internationally as well as in the United States. The United States Mounted 
 Games Association was formed to inspire, encourage interest, and increase p
 articipation in Mounted Games in the United States. Their mission is to inc
 rease the number of riders involved in Mounted Games, improve the quality a
 nd number of our United States competitions, and to enhance the image of eq
 uestrian games as a spectator sport. USMGA aims to provide niche in equine 
 sports by making Mounted Games, a relatively inexpensive horse sport, avail
 able to the general public for the advancement and understanding of the equ
 ine industry.
DTSTAMP:20260424T135951
DTSTART;TZID=America/New_York;VALUE=DATE:20260411
DTEND;TZID=America/New_York;VALUE=DATE:20260413
SEQUENCE:0
TRANSP:OPAQUE
END:VEVENT
END:VCALENDAR