BEGIN:VCALENDAR
VERSION:2.0
PRODID:-//jEvents 2.0 for Joomla//EN
CALSCALE:GREGORIAN
METHOD:PUBLISH
BEGIN:VTIMEZONE
TZID:America/New_York
BEGIN:STANDARD
DTSTART:20250213T000000
RDATE:20250309T030000
TZOFFSETFROM:-0400
TZOFFSETTO:-0500
TZNAME:America/New_York EST
END:STANDARD
BEGIN:STANDARD
DTSTART:20251102T010000
RDATE:20260308T030000
TZOFFSETFROM:-0400
TZOFFSETTO:-0500
TZNAME:America/New_York EST
END:STANDARD
BEGIN:STANDARD
DTSTART:20261101T010000
RDATE:20270314T030000
TZOFFSETFROM:-0400
TZOFFSETTO:-0500
TZNAME:America/New_York EST
END:STANDARD
BEGIN:STANDARD
DTSTART:20271107T010000
RDATE:20280312T030000
TZOFFSETFROM:-0400
TZOFFSETTO:-0500
TZNAME:America/New_York EST
END:STANDARD
BEGIN:STANDARD
DTSTART:20281105T010000
RDATE:20290311T030000
TZOFFSETFROM:-0400
TZOFFSETTO:-0500
TZNAME:America/New_York EST
END:STANDARD
BEGIN:DAYLIGHT
DTSTART:20250309T030000
RDATE:20251102T010000
TZOFFSETFROM:-0500
TZOFFSETTO:-0400
TZNAME:America/New_York EDT
END:DAYLIGHT
BEGIN:DAYLIGHT
DTSTART:20260308T030000
RDATE:20261101T010000
TZOFFSETFROM:-0500
TZOFFSETTO:-0400
TZNAME:America/New_York EDT
END:DAYLIGHT
BEGIN:DAYLIGHT
DTSTART:20270314T030000
RDATE:20271107T010000
TZOFFSETFROM:-0500
TZOFFSETTO:-0400
TZNAME:America/New_York EDT
END:DAYLIGHT
BEGIN:DAYLIGHT
DTSTART:20280312T030000
RDATE:20281105T010000
TZOFFSETFROM:-0500
TZOFFSETTO:-0400
TZNAME:America/New_York EDT
END:DAYLIGHT
END:VTIMEZONE
BEGIN:VEVENT
UID:5f5649421db39823571093e43065bb55
CATEGORIES:Polo
CREATED:20251208T114339
SUMMARY:White Turf Snow Polo, Family Days, Rennverein St. Moritz, Switzerland
LOCATION:Rennverein St. Moritz
DESCRIPTION:Noble thoroughbred horses from all over Europe and international jockeys as
  well as a fantastic supporting programme will once again delight guests fr
 om all over the world on the frozen St. Moritzersee. in 2026.
119. White Tu
 rf Racing Days - 8., 15., and 22. February 2026

White Turf Family Days 7.,
  14., and 21. February 2026

White Turf, a unique, exclusive, top-class eve
 nt with exciting horse-racing, gourmet catering, lively music and inspiring
  art exhibitions, all taking place in winter sunshine on the frozen lake am
 ong the stunningly beautiful, snow-capped mountains of St. Moritz.\n
\n
Thi
 s spectacular, major event is not just one with Champagne on ice for the ri
 ch and beautiful but an annual event where race-horse owners, trainers and 
 jockeys from all over the world meet up as well as being an unmissable fixt
 ure on the calendar for local people.\n
\n
It is thanks to the sponsors as 
 well as the municipality of St Moritz and the local tourist board, who have
  been supporting White Turf for decades, to make this top-class race-meetin
 g possible.
\n





    
        
                    
            





X-ALT-DESC;FMTTYPE=text/html:Noble thoroughbred horses from all over Europe and international jockeys as
  well as a fantastic supporting programme will once again delight guests fr
 om all over the world on the frozen St. Moritzersee. in 2026.</br>119. Whit
 e Turf Racing Days - 8., 15., and 22. February 2026White Turf Family Days 7
 ., 14., and 21. February 2026White Turf, a unique, exclusive, top-class eve
 nt with exciting horse-racing, gourmet catering, lively music and inspiring
  art exhibitions, all taking place in winter sunshine on the frozen lake am
 ong the stunningly beautiful, snow-capped mountains of St. Moritz.<br /><br
  />This spectacular, major event is not just one with Champagne on ice for 
 the rich and beautiful but an annual event where race-horse owners, trainer
 s and jockeys from all over the world meet up as well as being an unmissabl
 e fixture on the calendar for local people.<br /><br />It is thanks to the 
 sponsors as well as the municipality of St Moritz and the local tourist boa
 rd, who have been supporting White Turf for decades, to make this top-class
  race-meeting possible.<br />

<!-- JoomlaWorks "AllVideos" Plugin (v7.0) s
 tarts here -->

<div class="avPlayerWrapper avVideo">
    <div class="avPla
 yerContainer">
        <div id="AVPlayerID_0_d3b17e3456598c3bdbd6846104b2be
 37" class="avPlayerBlock">
            <iframe src="https://www.youtube.com
 /embed/WPQBh_4vtLE?si=RMc_KTdFmOe-tGlY&amp;rel=0&amp;fs=1&amp;wmode=transpa
 rent" width="400" height="300" allow="autoplay; fullscreen; encrypted-media
 " allowfullscreen="true" frameborder="0" scrolling="no" title="JoomlaWorks 
 AllVideos Player"></iframe>        </div>
            </div>
</div>

<!-- J
 oomlaWorks "AllVideos" Plugin (v7.0) ends here -->


DTSTAMP:20260424T185617
DTSTART;TZID=America/New_York;VALUE=DATE:20260214
DTEND;TZID=America/New_York;VALUE=DATE:20260215
SEQUENCE:0
TRANSP:OPAQUE
END:VEVENT
END:VCALENDAR