BEGIN:VCALENDAR
VERSION:2.0
PRODID:-//jEvents 2.0 for Joomla//EN
CALSCALE:GREGORIAN
METHOD:PUBLISH
BEGIN:VTIMEZONE
TZID:America/New_York
BEGIN:STANDARD
DTSTART:20241215T180000
RDATE:20250309T030000
TZOFFSETFROM:-0400
TZOFFSETTO:-0500
TZNAME:America/New_York EST
END:STANDARD
BEGIN:STANDARD
DTSTART:20251102T010000
RDATE:20260308T030000
TZOFFSETFROM:-0400
TZOFFSETTO:-0500
TZNAME:America/New_York EST
END:STANDARD
BEGIN:STANDARD
DTSTART:20261101T010000
RDATE:20270314T030000
TZOFFSETFROM:-0400
TZOFFSETTO:-0500
TZNAME:America/New_York EST
END:STANDARD
BEGIN:STANDARD
DTSTART:20271107T010000
RDATE:20280312T030000
TZOFFSETFROM:-0400
TZOFFSETTO:-0500
TZNAME:America/New_York EST
END:STANDARD
BEGIN:STANDARD
DTSTART:20281105T010000
RDATE:20290311T030000
TZOFFSETFROM:-0400
TZOFFSETTO:-0500
TZNAME:America/New_York EST
END:STANDARD
BEGIN:DAYLIGHT
DTSTART:20250309T030000
RDATE:20251102T010000
TZOFFSETFROM:-0500
TZOFFSETTO:-0400
TZNAME:America/New_York EDT
END:DAYLIGHT
BEGIN:DAYLIGHT
DTSTART:20260308T030000
RDATE:20261101T010000
TZOFFSETFROM:-0500
TZOFFSETTO:-0400
TZNAME:America/New_York EDT
END:DAYLIGHT
BEGIN:DAYLIGHT
DTSTART:20270314T030000
RDATE:20271107T010000
TZOFFSETFROM:-0500
TZOFFSETTO:-0400
TZNAME:America/New_York EDT
END:DAYLIGHT
BEGIN:DAYLIGHT
DTSTART:20280312T030000
RDATE:20281105T010000
TZOFFSETFROM:-0500
TZOFFSETTO:-0400
TZNAME:America/New_York EDT
END:DAYLIGHT
END:VTIMEZONE
BEGIN:VEVENT
UID:37c0d75afa0cd4d32da749babce9c967
CATEGORIES:Health & Education
CREATED:20251208T110046
SUMMARY:Cornell’s Equine Seminar Series 
LOCATION:Online Virtual Event
DESCRIPTION:Cornell’s Equine Seminar Series presents “After the Last Ride. Understandin
 g Common Equine Health Problems Through Necropsy”\n
WHAT: Dr. Mason Jager w
 ill discuss the most frequent postmortem findings in horses\n
WHEN: Tuesday
 , December 16, 2025, 6:00-7:00 p.m. ET\n
WHERE: Via Zoom; registration requ
 ired at this LINK\n
MEDIA: The event is free and open to the public. Media 
 members are asked to RSVP to Len Johnson, Len.Johnson@Cornell.edu\n
\n
ITHA
 CA, N.Y. – Have you ever wondered what a pathologist looks for during an eq
 uine necropsy or what common problems we uncover after a horse passes away?
  This seminar will walk through some of the most frequent postmortem findin
 gs in horses—including laminitis, shipping fever, and the major causes of c
 olic—in a clear, accessible way for owners, farmers, and enthusiasts. Join 
 us to gain a better understanding of these conditions and what they can tea
 ch us about equine health.\n
\n
Please note that, as this is a pathology le
 cture, it may include mildly graphic images of blood, organs, or other depi
 ctions necessary for the education of the audience.\n
\n
About Dr. Jager: D
 r. Mason Jager serves as an Assistant Professor in the Department of Popula
 tion Medicine and Diagnostic Sciences at Cornell University. As faculty in 
 the section of Anatomical Pathology, he performs diagnostic services at the
  NYS Animal Health Diagnostic Center while mentoring residents and veterina
 ry students. Within the Pathology Discovery Laboratory at the CVM, Dr. Jage
 r leads research exploring host-pathogen interactions with a particular foc
 us on viral pathogenesis. He is currently investigating the replication dyn
 amics of equine parvovirus-hepatitis, a novel virus associated with hepatit
 is and fatal hepatic necrosis in horses. Dr. Jager is a lifelong horse enth
 usiast who grew up around horses and was a member of the US Pony Club from 
 age 5 well into his college years.\n
This seminar is part of the Cornell Eq
 uine Seminar Series, and will be presented on Tuesday, December 16, 2025 fr
 om 6:00-7:00 p.m. Eastern Time via Zoom. Please register in advance.\n
The 
 Cornell Equine Seminar Series is presented by the Cornell Equine Hospital a
 nd Cornell Cooperative Extension. Held monthly, equine experts present on i
 mportant equine health and management topics. The event is free and open to
  the public.  Media members are asked to register with Len Johnson at Len.J
 ohnson@Cornell.edu.\n
\n
For additional information about the college, see 
 the College of Veterinary Medicine news website.
X-ALT-DESC;FMTTYPE=text/html:Cornell’s Equine Seminar Series presents “After the Last Ride. Understandin
 g Common Equine Health Problems Through Necropsy”<br />WHAT: Dr. Mason Jage
 r will discuss the most frequent postmortem findings in horses<br />WHEN: T
 uesday, December 16, 2025, 6:00-7:00 p.m. ET<br />WHERE: Via Zoom; registra
 tion required at this LINK<br />MEDIA: The event is free and open to the pu
 blic. Media members are asked to RSVP to Len Johnson, Len.Johnson@Cornell.e
 du<br /><br />ITHACA, N.Y. – Have you ever wondered what a pathologist look
 s for during an equine necropsy or what common problems we uncover after a 
 horse passes away? This seminar will walk through some of the most frequent
  postmortem findings in horses—including laminitis, shipping fever, and the
  major causes of colic—in a clear, accessible way for owners, farmers, and 
 enthusiasts. Join us to gain a better understanding of these conditions and
  what they can teach us about equine health.<br /><br />Please note that, a
 s this is a pathology lecture, it may include mildly graphic images of bloo
 d, organs, or other depictions necessary for the education of the audience.
 <br /><br />About Dr. Jager: Dr. Mason Jager serves as an Assistant Profess
 or in the Department of Population Medicine and Diagnostic Sciences at Corn
 ell University. As faculty in the section of Anatomical Pathology, he perfo
 rms diagnostic services at the NYS Animal Health Diagnostic Center while me
 ntoring residents and veterinary students. Within the Pathology Discovery L
 aboratory at the CVM, Dr. Jager leads research exploring host-pathogen inte
 ractions with a particular focus on viral pathogenesis. He is currently inv
 estigating the replication dynamics of equine parvovirus-hepatitis, a novel
  virus associated with hepatitis and fatal hepatic necrosis in horses. Dr. 
 Jager is a lifelong horse enthusiast who grew up around horses and was a me
 mber of the US Pony Club from age 5 well into his college years.<br />This 
 seminar is part of the Cornell Equine Seminar Series, and will be presented
  on Tuesday, December 16, 2025 from 6:00-7:00 p.m. Eastern Time via Zoom. P
 lease register in advance.<br />The Cornell Equine Seminar Series is presen
 ted by the Cornell Equine Hospital and Cornell Cooperative Extension. Held 
 monthly, equine experts present on important equine health and management t
 opics. The event is free and open to the public.  Media members are asked t
 o register with Len Johnson at Len.Johnson@Cornell.edu.<br /><br />For addi
 tional information about the college, see the College of Veterinary Medicin
 e news website.
DTSTAMP:20260424T225416
DTSTART;TZID=America/New_York:20251216T180000
DTEND;TZID=America/New_York:20251216T190000
SEQUENCE:0
TRANSP:OPAQUE
END:VEVENT
END:VCALENDAR