BEGIN:VCALENDAR
VERSION:2.0
PRODID:-//jEvents 2.0 for Joomla//EN
CALSCALE:GREGORIAN
METHOD:PUBLISH
BEGIN:VTIMEZONE
TZID:America/New_York
BEGIN:STANDARD
DTSTART:20251102T010000
RDATE:20260308T030000
TZOFFSETFROM:-0400
TZOFFSETTO:-0500
TZNAME:America/New_York EST
END:STANDARD
BEGIN:STANDARD
DTSTART:20261101T010000
RDATE:20270314T030000
TZOFFSETFROM:-0400
TZOFFSETTO:-0500
TZNAME:America/New_York EST
END:STANDARD
BEGIN:STANDARD
DTSTART:20271107T010000
RDATE:20280312T030000
TZOFFSETFROM:-0400
TZOFFSETTO:-0500
TZNAME:America/New_York EST
END:STANDARD
BEGIN:STANDARD
DTSTART:20281105T010000
RDATE:20290311T030000
TZOFFSETFROM:-0400
TZOFFSETTO:-0500
TZNAME:America/New_York EST
END:STANDARD
BEGIN:DAYLIGHT
DTSTART:20250624T000000
RDATE:20251102T010000
TZOFFSETFROM:-0500
TZOFFSETTO:-0400
TZNAME:America/New_York EDT
END:DAYLIGHT
BEGIN:DAYLIGHT
DTSTART:20260308T030000
RDATE:20261101T010000
TZOFFSETFROM:-0500
TZOFFSETTO:-0400
TZNAME:America/New_York EDT
END:DAYLIGHT
BEGIN:DAYLIGHT
DTSTART:20270314T030000
RDATE:20271107T010000
TZOFFSETFROM:-0500
TZOFFSETTO:-0400
TZNAME:America/New_York EDT
END:DAYLIGHT
BEGIN:DAYLIGHT
DTSTART:20280312T030000
RDATE:20281105T010000
TZOFFSETFROM:-0500
TZOFFSETTO:-0400
TZNAME:America/New_York EDT
END:DAYLIGHT
END:VTIMEZONE
BEGIN:VEVENT
UID:60250b92aa4c08689f2b236304db9002
CATEGORIES:Recreation & Lifestyle
CREATED:20251202T150413
SUMMARY:Spruce Meadows - 'Pan American* presented by Rolex
LOCATION:Spruce Meadows
DESCRIPTION:Welcome to the vibrant 'Pan American', proudly presented by Rolex! This eve
 nt brings together top athletes from across North America and offers an arr
 ay of competitions sanctioned by both Equestrian Canada and the FEI, with h
 eights ranging from 1.00m to 1.55m.<br /><br />CSI5*/CSI2*/National competi
 tions<br /><br />All tournament tickets include access to sport, entertainm
 ent, and our weekend activities throughout the grounds—plus complimentary p
 arking.<br /><br />Thursdays are always Seniors’ Day at Spruce Meadows! Gue
 sts 65+ are warmly welcomed to attend with our compliments.
DTSTAMP:20260424T185655
DTSTART;TZID=America/New_York;VALUE=DATE:20260625
DTEND;TZID=America/New_York;VALUE=DATE:20260629
SEQUENCE:0
TRANSP:OPAQUE
END:VEVENT
END:VCALENDAR