BEGIN:VCALENDAR
VERSION:2.0
PRODID:-//jEvents 2.0 for Joomla//EN
CALSCALE:GREGORIAN
METHOD:PUBLISH
BEGIN:VTIMEZONE
TZID:America/New_York
BEGIN:STANDARD
DTSTART:20251102T010000
RDATE:20260308T030000
TZOFFSETFROM:-0400
TZOFFSETTO:-0500
TZNAME:America/New_York EST
END:STANDARD
BEGIN:STANDARD
DTSTART:20261101T010000
RDATE:20270314T030000
TZOFFSETFROM:-0400
TZOFFSETTO:-0500
TZNAME:America/New_York EST
END:STANDARD
BEGIN:STANDARD
DTSTART:20271107T010000
RDATE:20280312T030000
TZOFFSETFROM:-0400
TZOFFSETTO:-0500
TZNAME:America/New_York EST
END:STANDARD
BEGIN:STANDARD
DTSTART:20281105T010000
RDATE:20290311T030000
TZOFFSETFROM:-0400
TZOFFSETTO:-0500
TZNAME:America/New_York EST
END:STANDARD
BEGIN:DAYLIGHT
DTSTART:20250311T000000
RDATE:20251102T010000
TZOFFSETFROM:-0500
TZOFFSETTO:-0400
TZNAME:America/New_York EDT
END:DAYLIGHT
BEGIN:DAYLIGHT
DTSTART:20260308T030000
RDATE:20261101T010000
TZOFFSETFROM:-0500
TZOFFSETTO:-0400
TZNAME:America/New_York EDT
END:DAYLIGHT
BEGIN:DAYLIGHT
DTSTART:20270314T030000
RDATE:20271107T010000
TZOFFSETFROM:-0500
TZOFFSETTO:-0400
TZNAME:America/New_York EDT
END:DAYLIGHT
BEGIN:DAYLIGHT
DTSTART:20280312T030000
RDATE:20281105T010000
TZOFFSETFROM:-0500
TZOFFSETTO:-0400
TZNAME:America/New_York EDT
END:DAYLIGHT
END:VTIMEZONE
BEGIN:VEVENT
UID:442d87fc27f5d51f56a72384a71667ad
CATEGORIES:Recreation & Lifestyle
CREATED:20251202T145915
SUMMARY:Spruce Meadows - Spring Welcome - Show Jumping
LOCATION:Spruce Meadows
DESCRIPTION:The fourth, and final, show jumping event of the Winter Series, the Spring 
 Welcome tournament takes to the indoor comfort of the Spruce Meadows Equi-P
 lex.\n
Welcome to the Winter Series at Spruce Meadows, one of the most exci
 ting indoor equestrian events of the year.  Held in the Equi-Plex, the Wint
 er Series offers spectators a unique opportunity to exciting equestrian act
 ion in a comfortable indoor setting. With free admission and free parking i
 n Lot 7, Spruce Meadows is the perfect destination for a fun and affordable
  family outing. And don't miss the food concession that is open all weekend
 . Whether you're an equestrian enthusiast or just looking for a fun day out
 , the Winter Series at Spruce Meadows is an event not to be missed.
\n
No t
 ickets are required. This event is complimentary. \n
X-ALT-DESC;FMTTYPE=text/html:<p>The fourth, and final, show jumping event of the Winter Series, the Spri
 ng Welcome tournament takes to the indoor comfort of the Spruce Meadows Equ
 i-Plex.</p><p>Welcome to the Winter Series at Spruce Meadows, one of the mo
 st exciting indoor equestrian events of the year.  Held in the Equi-Plex, t
 he Winter Series offers spectators a unique opportunity to exciting equestr
 ian action in a comfortable indoor setting. With free admission and free pa
 rking in Lot 7, Spruce Meadows is the perfect destination for a fun and aff
 ordable family outing. And don't miss the food concession that is open all 
 weekend. Whether you're an equestrian enthusiast or just looking for a fun 
 day out, the Winter Series at Spruce Meadows is an event not to be missed.<
 /p><p>No tickets are required. This event is complimentary. </p>
DTSTAMP:20260424T161243
DTSTART;TZID=America/New_York;VALUE=DATE:20260312
DTEND;TZID=America/New_York;VALUE=DATE:20260316
SEQUENCE:0
TRANSP:OPAQUE
END:VEVENT
END:VCALENDAR