BEGIN:VCALENDAR
VERSION:2.0
PRODID:-//jEvents 2.0 for Joomla//EN
CALSCALE:GREGORIAN
METHOD:PUBLISH
BEGIN:VTIMEZONE
TZID:America/New_York
BEGIN:STANDARD
DTSTART:20250219T000000
RDATE:20250309T030000
TZOFFSETFROM:-0400
TZOFFSETTO:-0500
TZNAME:America/New_York EST
END:STANDARD
BEGIN:STANDARD
DTSTART:20251102T010000
RDATE:20260308T030000
TZOFFSETFROM:-0400
TZOFFSETTO:-0500
TZNAME:America/New_York EST
END:STANDARD
BEGIN:STANDARD
DTSTART:20261101T010000
RDATE:20270314T030000
TZOFFSETFROM:-0400
TZOFFSETTO:-0500
TZNAME:America/New_York EST
END:STANDARD
BEGIN:STANDARD
DTSTART:20271107T010000
RDATE:20280312T030000
TZOFFSETFROM:-0400
TZOFFSETTO:-0500
TZNAME:America/New_York EST
END:STANDARD
BEGIN:STANDARD
DTSTART:20281105T010000
RDATE:20290311T030000
TZOFFSETFROM:-0400
TZOFFSETTO:-0500
TZNAME:America/New_York EST
END:STANDARD
BEGIN:DAYLIGHT
DTSTART:20250309T030000
RDATE:20251102T010000
TZOFFSETFROM:-0500
TZOFFSETTO:-0400
TZNAME:America/New_York EDT
END:DAYLIGHT
BEGIN:DAYLIGHT
DTSTART:20260308T030000
RDATE:20261101T010000
TZOFFSETFROM:-0500
TZOFFSETTO:-0400
TZNAME:America/New_York EDT
END:DAYLIGHT
BEGIN:DAYLIGHT
DTSTART:20270314T030000
RDATE:20271107T010000
TZOFFSETFROM:-0500
TZOFFSETTO:-0400
TZNAME:America/New_York EDT
END:DAYLIGHT
BEGIN:DAYLIGHT
DTSTART:20280312T030000
RDATE:20281105T010000
TZOFFSETFROM:-0500
TZOFFSETTO:-0400
TZNAME:America/New_York EDT
END:DAYLIGHT
END:VTIMEZONE
BEGIN:VEVENT
UID:3ecd94588675895d9f5e964b7ef704f6
CATEGORIES:Horse Show
CREATED:20251202T145704
SUMMARY:Spruce Meadows - Feb Classic II - Show Jumping
LOCATION:Spruce Meadows
DESCRIPTION:<p>The second show jumping event of the Winter Series, the February Classic
  takes to the indoor comfort of the Spruce Meadows Equi-Plex.</p><p>Welcome
  to the Winter Series at Spruce Meadows, one of the most exciting indoor eq
 uestrian events of the year.  Held in the Equi-Plex, the Winter Series offe
 rs spectators a unique opportunity to exciting equestrian action in a comfo
 rtable indoor setting. With free admission and free parking in Lot 7, Spruc
 e Meadows is the perfect destination for a fun and affordable family outing
 . And don't miss the food concession that is open all weekend. Whether you'
 re an equestrian enthusiast or just looking for a fun day out, the Winter S
 eries at Spruce Meadows is an event not to be missed.</p><p>No tickets are 
 required. This event is complimentary. </p>
DTSTAMP:20260424T185654
DTSTART;TZID=America/New_York;VALUE=DATE:20260220
DTEND;TZID=America/New_York;VALUE=DATE:20260223
SEQUENCE:0
TRANSP:OPAQUE
END:VEVENT
END:VCALENDAR