BEGIN:VCALENDAR
VERSION:2.0
PRODID:-//jEvents 2.0 for Joomla//EN
CALSCALE:GREGORIAN
METHOD:PUBLISH
BEGIN:VTIMEZONE
TZID:America/New_York
BEGIN:STANDARD
DTSTART:20251102T010000
RDATE:20260308T030000
TZOFFSETFROM:-0400
TZOFFSETTO:-0500
TZNAME:America/New_York EST
END:STANDARD
BEGIN:STANDARD
DTSTART:20261101T010000
RDATE:20270314T030000
TZOFFSETFROM:-0400
TZOFFSETTO:-0500
TZNAME:America/New_York EST
END:STANDARD
BEGIN:STANDARD
DTSTART:20271107T010000
RDATE:20280312T030000
TZOFFSETFROM:-0400
TZOFFSETTO:-0500
TZNAME:America/New_York EST
END:STANDARD
BEGIN:STANDARD
DTSTART:20281105T010000
RDATE:20290311T030000
TZOFFSETFROM:-0400
TZOFFSETTO:-0500
TZNAME:America/New_York EST
END:STANDARD
BEGIN:DAYLIGHT
DTSTART:20250410T080000
RDATE:20251102T010000
TZOFFSETFROM:-0500
TZOFFSETTO:-0400
TZNAME:America/New_York EDT
END:DAYLIGHT
BEGIN:DAYLIGHT
DTSTART:20260308T030000
RDATE:20261101T010000
TZOFFSETFROM:-0500
TZOFFSETTO:-0400
TZNAME:America/New_York EDT
END:DAYLIGHT
BEGIN:DAYLIGHT
DTSTART:20270314T030000
RDATE:20271107T010000
TZOFFSETFROM:-0500
TZOFFSETTO:-0400
TZNAME:America/New_York EDT
END:DAYLIGHT
BEGIN:DAYLIGHT
DTSTART:20280312T030000
RDATE:20281105T010000
TZOFFSETFROM:-0500
TZOFFSETTO:-0400
TZNAME:America/New_York EDT
END:DAYLIGHT
END:VTIMEZONE
BEGIN:VEVENT
UID:5803d1bac9465085a4557ad979f1ed0f
CATEGORIES:English Riding
CREATED:20251202T144041
SUMMARY:Spring Bay Horse Trials at Kentucky Horse Park
LOCATION:Hunter Jumper Complex
DESCRIPTION:The Spring Bay Horse Trails are held yearly at the Kentucky Horse Park in L
 exington, Kentucky (Area VIII), offering Starter through Preliminary levels
 .\n
Divisions\n
USEF Endorsed/USEA Recognized: T,TR,TN,N,NR,BN,BNR\n
USEF/U
 SEA Recognized: PM,M\n
USEA Recognized Tests: Starter,Tadpole
X-ALT-DESC;FMTTYPE=text/html:The Spring Bay Horse Trails are held yearly at the Kentucky Horse Park in L
 exington, Kentucky (Area VIII), offering Starter through Preliminary levels
 .<br />Divisions<br />USEF Endorsed/USEA Recognized: T,TR,TN,N,NR,BN,BNR<br
  />USEF/USEA Recognized: PM,M<br />USEA Recognized Tests: Starter,Tadpole
DTSTAMP:20260424T135823
DTSTART;TZID=America/New_York:20260411T080000
DTEND;TZID=America/New_York:20260412T170000
SEQUENCE:0
TRANSP:OPAQUE
END:VEVENT
END:VCALENDAR