BEGIN:VCALENDAR
VERSION:2.0
PRODID:-//jEvents 2.0 for Joomla//EN
CALSCALE:GREGORIAN
METHOD:PUBLISH
BEGIN:VTIMEZONE
TZID:America/New_York
BEGIN:STANDARD
DTSTART:20251102T010000
RDATE:20260308T030000
TZOFFSETFROM:-0400
TZOFFSETTO:-0500
TZNAME:America/New_York EST
END:STANDARD
BEGIN:STANDARD
DTSTART:20261101T010000
RDATE:20270314T030000
TZOFFSETFROM:-0400
TZOFFSETTO:-0500
TZNAME:America/New_York EST
END:STANDARD
BEGIN:STANDARD
DTSTART:20271107T010000
RDATE:20280312T030000
TZOFFSETFROM:-0400
TZOFFSETTO:-0500
TZNAME:America/New_York EST
END:STANDARD
BEGIN:STANDARD
DTSTART:20281105T010000
RDATE:20290311T030000
TZOFFSETFROM:-0400
TZOFFSETTO:-0500
TZNAME:America/New_York EST
END:STANDARD
BEGIN:DAYLIGHT
DTSTART:20250310T000000
RDATE:20251102T010000
TZOFFSETFROM:-0500
TZOFFSETTO:-0400
TZNAME:America/New_York EDT
END:DAYLIGHT
BEGIN:DAYLIGHT
DTSTART:20260308T030000
RDATE:20261101T010000
TZOFFSETFROM:-0500
TZOFFSETTO:-0400
TZNAME:America/New_York EDT
END:DAYLIGHT
BEGIN:DAYLIGHT
DTSTART:20270314T030000
RDATE:20271107T010000
TZOFFSETFROM:-0500
TZOFFSETTO:-0400
TZNAME:America/New_York EDT
END:DAYLIGHT
BEGIN:DAYLIGHT
DTSTART:20280312T030000
RDATE:20281105T010000
TZOFFSETFROM:-0500
TZOFFSETTO:-0400
TZNAME:America/New_York EDT
END:DAYLIGHT
END:VTIMEZONE
BEGIN:VEVENT
UID:6071f0d4cb20fb4ae25d71d95c51ab67
CATEGORIES:Horse Show
CREATED:20251202T142004
SUMMARY:HITS Ocala Winter Celebration – IX - Premier / 5
LOCATION:HITS Post Time Farm
DESCRIPTION:For four decades and counting, the HITS Ocala Winter Circuit has provided o
 ne of the largest show circuits in the country. Over a period of 12 weeks e
 ach winter, HITS Ocala hosts an array of top-level USEF-rated shows , where
  premier competition and diverse opportunities for riders and horses of all
  levels come together to create a vibrant and unforgettable equestrian expe
 rience.\n
\n
Entry Closing Date: TBA\n
World Champion Hunter Rider\n
\n
$5,
 000 Pyranha/NAL Jr/Am 1.25m Jumper Classic\n
\n
$5,000 Gowe Farms/NAL Jr/Am
  1.35m Jumper Classic\n
\n
$5,000 Jr/Am 1.45m Jumper Classic\n
\n
$24,500 A
 lliant Private Client Cup\n
\n
$10,000 Adequan Open Welcome\n
\n
$15,000 ST
 X Open Speed\n
\n
$24,500 Horseflight Jumper Classic\n
\n
$7,500 Gambler’s 
 Choice\n
\n
$60,000 Purina Animal Nutrition Grand Prix
X-ALT-DESC;FMTTYPE=text/html:For four decades and counting, the HITS Ocala Winter Circuit has provided o
 ne of the largest show circuits in the country. Over a period of 12 weeks e
 ach winter, HITS Ocala hosts an array of top-level USEF-rated shows , where
  premier competition and diverse opportunities for riders and horses of all
  levels come together to create a vibrant and unforgettable equestrian expe
 rience.<br /><br />Entry Closing Date: TBA<br />World Champion Hunter Rider
 <br /><br />$5,000 Pyranha/NAL Jr/Am 1.25m Jumper Classic<br /><br />$5,000
  Gowe Farms/NAL Jr/Am 1.35m Jumper Classic<br /><br />$5,000 Jr/Am 1.45m Ju
 mper Classic<br /><br />$24,500 Alliant Private Client Cup<br /><br />$10,0
 00 Adequan Open Welcome<br /><br />$15,000 STX Open Speed<br /><br />$24,50
 0 Horseflight Jumper Classic<br /><br />$7,500 Gambler’s Choice<br /><br />
 $60,000 Purina Animal Nutrition Grand Prix
DTSTAMP:20260424T185619
DTSTART;TZID=America/New_York;VALUE=DATE:20260311
DTEND;TZID=America/New_York;VALUE=DATE:20260316
SEQUENCE:0
TRANSP:OPAQUE
END:VEVENT
END:VCALENDAR