BEGIN:VCALENDAR
VERSION:2.0
PRODID:-//jEvents 2.0 for Joomla//EN
CALSCALE:GREGORIAN
METHOD:PUBLISH
BEGIN:VTIMEZONE
TZID:America/New_York
BEGIN:STANDARD
DTSTART:20250203T000000
RDATE:20250309T030000
TZOFFSETFROM:-0400
TZOFFSETTO:-0500
TZNAME:America/New_York EST
END:STANDARD
BEGIN:STANDARD
DTSTART:20251102T010000
RDATE:20260308T030000
TZOFFSETFROM:-0400
TZOFFSETTO:-0500
TZNAME:America/New_York EST
END:STANDARD
BEGIN:STANDARD
DTSTART:20261101T010000
RDATE:20270314T030000
TZOFFSETFROM:-0400
TZOFFSETTO:-0500
TZNAME:America/New_York EST
END:STANDARD
BEGIN:STANDARD
DTSTART:20271107T010000
RDATE:20280312T030000
TZOFFSETFROM:-0400
TZOFFSETTO:-0500
TZNAME:America/New_York EST
END:STANDARD
BEGIN:STANDARD
DTSTART:20281105T010000
RDATE:20290311T030000
TZOFFSETFROM:-0400
TZOFFSETTO:-0500
TZNAME:America/New_York EST
END:STANDARD
BEGIN:DAYLIGHT
DTSTART:20250309T030000
RDATE:20251102T010000
TZOFFSETFROM:-0500
TZOFFSETTO:-0400
TZNAME:America/New_York EDT
END:DAYLIGHT
BEGIN:DAYLIGHT
DTSTART:20260308T030000
RDATE:20261101T010000
TZOFFSETFROM:-0500
TZOFFSETTO:-0400
TZNAME:America/New_York EDT
END:DAYLIGHT
BEGIN:DAYLIGHT
DTSTART:20270314T030000
RDATE:20271107T010000
TZOFFSETFROM:-0500
TZOFFSETTO:-0400
TZNAME:America/New_York EDT
END:DAYLIGHT
BEGIN:DAYLIGHT
DTSTART:20280312T030000
RDATE:20281105T010000
TZOFFSETFROM:-0500
TZOFFSETTO:-0400
TZNAME:America/New_York EDT
END:DAYLIGHT
END:VTIMEZONE
BEGIN:VEVENT
UID:f7878cfc601cbbd6f4c68fd971b07d93
CATEGORIES:Horse Show
CREATED:20251202T141426
SUMMARY:HITS Ocala Winter Classic – IV - Premier / 5
LOCATION:HITS Post Time Farm
DESCRIPTION:For four decades and counting, the HITS Ocala Winter Circuit has provided o
 ne of the largest show circuits in the country. Over a period of 12 weeks e
 ach winter, HITS Ocala hosts an array of top-level USEF-rated shows , where
  premier competition and diverse opportunities for riders and horses of all
  levels come together to create a vibrant and unforgettable equestrian expe
 rience.\n
February 4-8

Premier / 5

Entry Closing Date: TBA
World Champion
  Hunter Rider

$15,000 The League/NAL/WIHS Jr/Am 1.15m Jumper Classic

$7,5
 00 Pyranha/NAL Jr/Am 1.25m Jumper Classic

$5,000 Gowe Farms/NAL Jr/Am 1.35
 m Jumper Classic

$24,500 Alliant Private Client Cup

$10,000 Adequan Open 
 Welcome

$15,000 STX Open Speed

$24,500 Horseflight Jumper Classic

$60,00
 0 HITS Grand Prix
$1,500 USHJA Pony Hunter Derby - Featuring\n
WCHR  - Feat
 uring\n
X-ALT-DESC;FMTTYPE=text/html:<p>For four decades and counting, the HITS Ocala Winter Circuit has provide
 d one of the largest show circuits in the country. Over a period of 12 week
 s each winter, HITS Ocala hosts an array of top-level USEF-rated shows , wh
 ere premier competition and diverse opportunities for riders and horses of 
 all levels come together to create a vibrant and unforgettable equestrian e
 xperience.</p>February 4-8Premier / 5Entry Closing Date: TBAWorld Champion 
 Hunter Rider$15,000 The League/NAL/WIHS Jr/Am 1.15m Jumper Classic$7,500 Py
 ranha/NAL Jr/Am 1.25m Jumper Classic$5,000 Gowe Farms/NAL Jr/Am 1.35m Jumpe
 r Classic$24,500 Alliant Private Client Cup$10,000 Adequan Open Welcome$15,
 000 STX Open Speed$24,500 Horseflight Jumper Classic$60,000 HITS Grand Prix
 $1,500 USHJA Pony Hunter Derby - Featuring<br />WCHR  - Featuring<br />
DTSTAMP:20260424T161249
DTSTART;TZID=America/New_York;VALUE=DATE:20260204
DTEND;TZID=America/New_York;VALUE=DATE:20260209
SEQUENCE:0
TRANSP:OPAQUE
END:VEVENT
END:VCALENDAR