BEGIN:VCALENDAR
VERSION:2.0
PRODID:-//jEvents 2.0 for Joomla//EN
CALSCALE:GREGORIAN
METHOD:PUBLISH
BEGIN:VTIMEZONE
TZID:America/New_York
BEGIN:STANDARD
DTSTART:20250127T000000
RDATE:20250309T030000
TZOFFSETFROM:-0400
TZOFFSETTO:-0500
TZNAME:America/New_York EST
END:STANDARD
BEGIN:STANDARD
DTSTART:20251102T010000
RDATE:20260308T030000
TZOFFSETFROM:-0400
TZOFFSETTO:-0500
TZNAME:America/New_York EST
END:STANDARD
BEGIN:STANDARD
DTSTART:20261101T010000
RDATE:20270314T030000
TZOFFSETFROM:-0400
TZOFFSETTO:-0500
TZNAME:America/New_York EST
END:STANDARD
BEGIN:STANDARD
DTSTART:20271107T010000
RDATE:20280312T030000
TZOFFSETFROM:-0400
TZOFFSETTO:-0500
TZNAME:America/New_York EST
END:STANDARD
BEGIN:STANDARD
DTSTART:20281105T010000
RDATE:20290311T030000
TZOFFSETFROM:-0400
TZOFFSETTO:-0500
TZNAME:America/New_York EST
END:STANDARD
BEGIN:DAYLIGHT
DTSTART:20250309T030000
RDATE:20251102T010000
TZOFFSETFROM:-0500
TZOFFSETTO:-0400
TZNAME:America/New_York EDT
END:DAYLIGHT
BEGIN:DAYLIGHT
DTSTART:20260308T030000
RDATE:20261101T010000
TZOFFSETFROM:-0500
TZOFFSETTO:-0400
TZNAME:America/New_York EDT
END:DAYLIGHT
BEGIN:DAYLIGHT
DTSTART:20270314T030000
RDATE:20271107T010000
TZOFFSETFROM:-0500
TZOFFSETTO:-0400
TZNAME:America/New_York EDT
END:DAYLIGHT
BEGIN:DAYLIGHT
DTSTART:20280312T030000
RDATE:20281105T010000
TZOFFSETFROM:-0500
TZOFFSETTO:-0400
TZNAME:America/New_York EDT
END:DAYLIGHT
END:VTIMEZONE
BEGIN:VEVENT
UID:f27531cd2eac6b9e75fd045145622a4e
CATEGORIES:Health & Education
CREATED:20251201T132109
SUMMARY:Pony Club, USPC Convention, Lincolnshire, IL.
LOCATION:Lincolnshire Marriott Resort
DESCRIPTION:Each year, Pony Club hosts the USPC Convention in a new location around the
  United States. You can find the 2026 USPC Convention in Lincolnshire, Ill.
 , at the Lincolnshire Marriott Resort, January 28–February 1, 2026. The eve
 nt is open to the general public and includes extensive hands-on opportunit
 ies, such as the Anatomy Room, Horse Management Room, a variety of educatio
 nal workshops, and the ability to connect with equine professionals from ar
 ound the country.


The USPC Convention is the only time of year when the e
 ntirety of Pony Club comes together, which means, alongside the fun, we con
 nect about the future of Pony Club. The first two days (Thursday and Friday
 ) consist of leadership trainings. Friday afternoon begins the educational 
 workshops around all topics horse, kicking off a weekend of fun and interac
 tive learning for members and equine enthusiasts alike continuing into Satu
 rday and Sunday. Saturday morning, we invite weekend and all-access attende
 es to join us for a complimentary continental breakfast at the Meeting of t
 he Corporation. Then, enjoy the rest of the day perusing through the trade 
 fair or attending a variety of educational workshops. Don’t forget to sign 
 up for the evening event, the Saturday Night Banquet, for fine dining and t
 he chance to dance the night away. And you won't want to miss out on grabbi
 ng souvenirs and spirit wear from Shop Pony Club, as Pony Club gear sells o
 ut fast. On Sunday afternoon, we begin saying our farewells as we pack up a
 nd begin planning for the next great USPC Convention.
\n


Join us January 
 28–February 1, 2026 to connect with leaders, members, and friends from acro
 ss the United States.\n
X-ALT-DESC;FMTTYPE=text/html:Each year, Pony Club hosts the USPC Convention in a new location around the
  United States. You can find the 2026 USPC Convention in Lincolnshire, Ill.
 , at the Lincolnshire Marriott Resort, January 28–February 1, 2026. The eve
 nt is open to the general public and includes extensive hands-on opportunit
 ies, such as the Anatomy Room, Horse Management Room, a variety of educatio
 nal workshops, and the ability to connect with equine professionals from ar
 ound the country.<p>The USPC Convention is the only time of year when the e
 ntirety of Pony Club comes together, which means, alongside the fun, we con
 nect about the future of Pony Club. The first two days (Thursday and Friday
 ) consist of leadership trainings. Friday afternoon begins the educational 
 workshops around all topics horse, kicking off a weekend of fun and interac
 tive learning for members and equine enthusiasts alike continuing into Satu
 rday and Sunday. Saturday morning, we invite weekend and all-access attende
 es to join us for a complimentary continental breakfast at the Meeting of t
 he Corporation. Then, enjoy the rest of the day perusing through the trade 
 fair or attending a variety of educational workshops. Don’t forget to sign 
 up for the evening event, the Saturday Night Banquet, for fine dining and t
 he chance to dance the night away. And you won't want to miss out on grabbi
 ng souvenirs and spirit wear from Shop Pony Club, as Pony Club gear sells o
 ut fast. On Sunday afternoon, we begin saying our farewells as we pack up a
 nd begin planning for the next great USPC Convention.</p><p>Join us January
  28–February 1, 2026 to connect with leaders, members, and friends from acr
 oss the United States.</p>
DTSTAMP:20260424T161213
DTSTART;TZID=America/New_York;VALUE=DATE:20260128
DTEND;TZID=America/New_York;VALUE=DATE:20260202
SEQUENCE:0
TRANSP:OPAQUE
END:VEVENT
END:VCALENDAR