BEGIN:VCALENDAR
VERSION:2.0
PRODID:-//jEvents 2.0 for Joomla//EN
CALSCALE:GREGORIAN
METHOD:PUBLISH
BEGIN:VTIMEZONE
TZID:America/New_York
BEGIN:STANDARD
DTSTART:20251102T010000
RDATE:20260308T030000
TZOFFSETFROM:-0400
TZOFFSETTO:-0500
TZNAME:America/New_York EST
END:STANDARD
BEGIN:STANDARD
DTSTART:20261101T010000
RDATE:20270314T030000
TZOFFSETFROM:-0400
TZOFFSETTO:-0500
TZNAME:America/New_York EST
END:STANDARD
BEGIN:STANDARD
DTSTART:20271107T010000
RDATE:20280312T030000
TZOFFSETFROM:-0400
TZOFFSETTO:-0500
TZNAME:America/New_York EST
END:STANDARD
BEGIN:STANDARD
DTSTART:20281105T010000
RDATE:20290311T030000
TZOFFSETFROM:-0400
TZOFFSETTO:-0500
TZNAME:America/New_York EST
END:STANDARD
BEGIN:DAYLIGHT
DTSTART:20251027T000000
RDATE:20251102T010000
TZOFFSETFROM:-0500
TZOFFSETTO:-0400
TZNAME:America/New_York EDT
END:DAYLIGHT
BEGIN:DAYLIGHT
DTSTART:20260308T030000
RDATE:20261101T010000
TZOFFSETFROM:-0500
TZOFFSETTO:-0400
TZNAME:America/New_York EDT
END:DAYLIGHT
BEGIN:DAYLIGHT
DTSTART:20270314T030000
RDATE:20271107T010000
TZOFFSETFROM:-0500
TZOFFSETTO:-0400
TZNAME:America/New_York EDT
END:DAYLIGHT
BEGIN:DAYLIGHT
DTSTART:20280312T030000
RDATE:20281105T010000
TZOFFSETFROM:-0500
TZOFFSETTO:-0400
TZNAME:America/New_York EDT
END:DAYLIGHT
END:VTIMEZONE
BEGIN:VEVENT
UID:10c9d75016f9e5913d13e454a676560f
CATEGORIES:Racing Sales
CREATED:20251201T130814
SUMMARY:Keeneland Championship Sale, Keeneland, Lexington, KY
LOCATION:Keeneland
DESCRIPTION:An Invitation to Play at the Highest Level<br />The Championship Sale comes
  to Keeneland in 2026.<br /><br />Seize the moment at the Keeneland Champio
 nship Sale: a boutique, high-impact event held on racing’s biggest stage du
 ring Breeders’ Cup Week.<br /><br />This exclusive event attracts the sport
 ’s most engaged global audience: owners, trainers and participants already 
 gathered to compete at the highest level. Join industry leaders and rising 
 stars for an electrifying Wednesday evening before the World Championships,
  where elite racing and sales converge.
DTSTAMP:20260424T185658
DTSTART;TZID=America/New_York;VALUE=DATE:20261028
DTEND;TZID=America/New_York;VALUE=DATE:20261029
SEQUENCE:0
TRANSP:OPAQUE
END:VEVENT
END:VCALENDAR