BEGIN:VCALENDAR
VERSION:2.0
PRODID:-//jEvents 2.0 for Joomla//EN
CALSCALE:GREGORIAN
METHOD:PUBLISH
BEGIN:VTIMEZONE
TZID:America/New_York
BEGIN:STANDARD
DTSTART:20250111T000000
RDATE:20250309T030000
TZOFFSETFROM:-0400
TZOFFSETTO:-0500
TZNAME:America/New_York EST
END:STANDARD
BEGIN:STANDARD
DTSTART:20251102T010000
RDATE:20260308T030000
TZOFFSETFROM:-0400
TZOFFSETTO:-0500
TZNAME:America/New_York EST
END:STANDARD
BEGIN:STANDARD
DTSTART:20261101T010000
RDATE:20270314T030000
TZOFFSETFROM:-0400
TZOFFSETTO:-0500
TZNAME:America/New_York EST
END:STANDARD
BEGIN:STANDARD
DTSTART:20271107T010000
RDATE:20280312T030000
TZOFFSETFROM:-0400
TZOFFSETTO:-0500
TZNAME:America/New_York EST
END:STANDARD
BEGIN:STANDARD
DTSTART:20281105T010000
RDATE:20290311T030000
TZOFFSETFROM:-0400
TZOFFSETTO:-0500
TZNAME:America/New_York EST
END:STANDARD
BEGIN:DAYLIGHT
DTSTART:20250309T030000
RDATE:20251102T010000
TZOFFSETFROM:-0500
TZOFFSETTO:-0400
TZNAME:America/New_York EDT
END:DAYLIGHT
BEGIN:DAYLIGHT
DTSTART:20260308T030000
RDATE:20261101T010000
TZOFFSETFROM:-0500
TZOFFSETTO:-0400
TZNAME:America/New_York EDT
END:DAYLIGHT
BEGIN:DAYLIGHT
DTSTART:20270314T030000
RDATE:20271107T010000
TZOFFSETFROM:-0500
TZOFFSETTO:-0400
TZNAME:America/New_York EDT
END:DAYLIGHT
BEGIN:DAYLIGHT
DTSTART:20280312T030000
RDATE:20281105T010000
TZOFFSETFROM:-0500
TZOFFSETTO:-0400
TZNAME:America/New_York EDT
END:DAYLIGHT
END:VTIMEZONE
BEGIN:VEVENT
UID:252e718977ed3b47ce9de73ffdbfc9b5
CATEGORIES:Racing Sales
CREATED:20251201T130325
SUMMARY:Keeneland January Horses of All Ages Sale, Keeneland, Lexington, KY
LOCATION:Keeneland
DESCRIPTION:Keeneland's January Horses of All Ages Sale is noted for high-quality brood
 mare prospects and short yearlings (horses born the previous year) and for 
 being among the final opportunities for breeders to obtain stock as breedin
 g season nears. \n
The Keeneland January Horses of All Ages Sale is the tru
 sted marketplace where breeders and owners launch the new year with confide
 nce. Strategically timed at the start of the season, the sale provides an i
 deal platform to showcase broodmares, broodmare prospects, short yearlings 
 and racehorses to a global audience of buyers. It’s the perfect opportunity
  to set the stage for success in the year ahead.
X-ALT-DESC;FMTTYPE=text/html:Keeneland's January Horses of All Ages Sale is noted for high-quality brood
 mare prospects and short yearlings (horses born the previous year) and for 
 being among the final opportunities for breeders to obtain stock as breedin
 g season nears. <br />The Keeneland January Horses of All Ages Sale is the 
 trusted marketplace where breeders and owners launch the new year with conf
 idence. Strategically timed at the start of the season, the sale provides a
 n ideal platform to showcase broodmares, broodmare prospects, short yearlin
 gs and racehorses to a global audience of buyers. It’s the perfect opportun
 ity to set the stage for success in the year ahead.
DTSTAMP:20260424T160640
DTSTART;TZID=America/New_York;VALUE=DATE:20260112
DTEND;TZID=America/New_York;VALUE=DATE:20260114
SEQUENCE:0
TRANSP:OPAQUE
END:VEVENT
END:VCALENDAR