BEGIN:VCALENDAR
VERSION:2.0
PRODID:-//jEvents 2.0 for Joomla//EN
CALSCALE:GREGORIAN
METHOD:PUBLISH
BEGIN:VTIMEZONE
TZID:America/New_York
BEGIN:STANDARD
DTSTART:20251102T010000
RDATE:20260308T030000
TZOFFSETFROM:-0400
TZOFFSETTO:-0500
TZNAME:America/New_York EST
END:STANDARD
BEGIN:STANDARD
DTSTART:20261101T010000
RDATE:20270314T030000
TZOFFSETFROM:-0400
TZOFFSETTO:-0500
TZNAME:America/New_York EST
END:STANDARD
BEGIN:STANDARD
DTSTART:20271107T010000
RDATE:20280312T030000
TZOFFSETFROM:-0400
TZOFFSETTO:-0500
TZNAME:America/New_York EST
END:STANDARD
BEGIN:STANDARD
DTSTART:20281105T010000
RDATE:20290311T030000
TZOFFSETFROM:-0400
TZOFFSETTO:-0500
TZNAME:America/New_York EST
END:STANDARD
BEGIN:DAYLIGHT
DTSTART:20250927T000000
RDATE:20251102T010000
TZOFFSETFROM:-0500
TZOFFSETTO:-0400
TZNAME:America/New_York EDT
END:DAYLIGHT
BEGIN:DAYLIGHT
DTSTART:20260308T030000
RDATE:20261101T010000
TZOFFSETFROM:-0500
TZOFFSETTO:-0400
TZNAME:America/New_York EDT
END:DAYLIGHT
BEGIN:DAYLIGHT
DTSTART:20270314T030000
RDATE:20271107T010000
TZOFFSETFROM:-0500
TZOFFSETTO:-0400
TZNAME:America/New_York EDT
END:DAYLIGHT
BEGIN:DAYLIGHT
DTSTART:20280312T030000
RDATE:20281105T010000
TZOFFSETFROM:-0500
TZOFFSETTO:-0400
TZNAME:America/New_York EDT
END:DAYLIGHT
END:VTIMEZONE
BEGIN:VEVENT
UID:0b9ecce65e03ac63b7c4262842c545b8
CATEGORIES:Health & Education
CREATED:20251201T124813
SUMMARY:Monty Robert Intermediate Course Individual Module 4: Trailer Loading II
LOCATION:Flag Is Up Farms
DESCRIPTION:Course Structure
\n

The NEW Monty Roberts Intermediate Course of Horsemans
 hip is a comprehensive program consisting of 8 modules.
\n

This page is fo
 r students who wish to enroll in Individual Module 2: Fine Tune Long Lining
 : Practice long-lining with feel, focus, and clear intent. Building on trus
 t and understanding, this module develops your skills to use long-lining fo
 r balance, fitness, and muscle development. Body language, timing, and ener
 gy flow become refined tools in your training, without force.
\n

The singl
 e-module option is ideal for those who cannot commit to a full course block
 . It provides the same high-quality instruction as the full course, allowin
 g you to progress at your own pace.
\n

To qualify as a Monty Roberts Certi
 fied Instructor, students must complete Modules 1–5 (mandatory) and earn th
 e required points to advance. Modules 6-8 are elective modules that allow y
 ou to specialize and expand your skills.
\n

The full Intermediate Course i
 ncludes the following modules:
\n

Module 1: Intention &amp; Body Language

 (2 Days · 200 Points)
The horse reads your body language long before you sp
 eak. This module builds on the knowledge gained in your Join-Up™ (Introduct
 ory Module) and teaches you to translate inner clarity into outer presence.
  Learn how posture, breath, and mental focus directly influence the horse a
 nd the connection between you.
\n

Module 2: Fine-Tuning Long Lining
(3 Day
 s · 300 Points)
Practice long-lining with feel, focus, and clear intent. Bu
 ilding on trust and understanding, this module develops your skills to use 
 long-lining for balance, fitness, and muscle development. Body language, ti
 ming, and energy flow become refined tools in your training, without force.
 
\n

Module 3: Tricks and Training
(3 Days · 300 Points)
Tricks become brid
 ges to trust. In a playful setting, horses learn to explore new tasks volun
 tarily. This module covers learning theory, timing, feel, and soft communic
 ation to spark joy in training—always with respect and partnership. Monty’s
  Dually Halter and the language of Equus remain the foundation of all exerc
 ises.
\n

Module 4: Trailer Loading II
(3 Days · 300 Points)
Trailer loadin
 g starts not at the ramp, but in the relationship. This module deepens volu
 ntary loading through trust, respectful leadership, correct use of the Dual
 ly Halter, and incremental training steps. The goal: a confident horse that
  loads easily and willingly.
\n

Module 5: Problem Solving
(5 Days · 500 Po
 ints)
Every behavior tells a story. This module teaches you to understand r
 ather than correct. You’ll develop trust-based solutions rooted in Monty’s 
 principles of nonviolence, deep observation, and incremental steps—for real
  transformation, not symptom suppression.
\n

Module 6: Confident Horse &am
 p; Human
(3 Days · 150 Points)
Confidence grows from safety, not control. T
 his module empowers both horse and human through calm presence, clear leade
 rship, and consistency. Learn how to read equine body language, respond wit
 h emotional stability, and become a reliable partner your horse can trust.

 \n

Module 7: Youngster School
(4 Days · 200 Points)
First steps shape a li
 fetime. This module guides young horses through respectful early education—
 from leading to environmental exposure—using Join-Up™, the Dually Halter, a
 nd nonverbal communication. Ideal for students with young horses who want t
 o build a lasting partnership.
\n

Module 8: Riding in Harmony
(3 Days · 30
 0 Points)
Riding in harmony begins on the ground. This module blends seat, 
 breath, energy, and equine understanding into a fluid dialogue. It focuses 
 on mental and physical balance, creating a soft, connected riding style bas
 ed on partnership rather than control.
\n

For students working toward inst
 ructor certification, the course block format—which combines multiple modul
 es into a single block—is recommended, as it enables faster completion of a
 ll eight modules. These block courses are offered as Intermediate Course A,
  B, and C.
\n

To qualify as a Monty Roberts Certified Instructor, students
  must complete the mandatory courses and accumulate sufficient points to pr
 ogress. \n


X-ALT-DESC;FMTTYPE=text/html:<p>Course Structure</p><p>The NEW Monty Roberts Intermediate Course of Hors
 emanship is a comprehensive program consisting of 8 modules.</p><p>This pag
 e is for students who wish to enroll in Individual Module 2: Fine Tune Long
  Lining: Practice long-lining with feel, focus, and clear intent. Building 
 on trust and understanding, this module develops your skills to use long-li
 ning for balance, fitness, and muscle development. Body language, timing, a
 nd energy flow become refined tools in your training, without force.</p><p>
 The single-module option is ideal for those who cannot commit to a full cou
 rse block. It provides the same high-quality instruction as the full course
 , allowing you to progress at your own pace.</p><p>To qualify as a Monty Ro
 berts Certified Instructor, students must complete Modules 1–5 (mandatory) 
 and earn the required points to advance. Modules 6-8 are elective modules t
 hat allow you to specialize and expand your skills.</p><p>The full Intermed
 iate Course includes the following modules:</p><p>Module 1: Intention & Bod
 y Language(2 Days · 200 Points)The horse reads your body language long befo
 re you speak. This module builds on the knowledge gained in your Join-Up™ (
 Introductory Module) and teaches you to translate inner clarity into outer 
 presence. Learn how posture, breath, and mental focus directly influence th
 e horse and the connection between you.</p><p>Module 2: Fine-Tuning Long Li
 ning(3 Days · 300 Points)Practice long-lining with feel, focus, and clear i
 ntent. Building on trust and understanding, this module develops your skill
 s to use long-lining for balance, fitness, and muscle development. Body lan
 guage, timing, and energy flow become refined tools in your training, witho
 ut force.</p><p>Module 3: Tricks and Training(3 Days · 300 Points)Tricks be
 come bridges to trust. In a playful setting, horses learn to explore new ta
 sks voluntarily. This module covers learning theory, timing, feel, and soft
  communication to spark joy in training—always with respect and partnership
 . Monty’s Dually Halter and the language of Equus remain the foundation of 
 all exercises.</p><p>Module 4: Trailer Loading II(3 Days · 300 Points)Trail
 er loading starts not at the ramp, but in the relationship. This module dee
 pens voluntary loading through trust, respectful leadership, correct use of
  the Dually Halter, and incremental training steps. The goal: a confident h
 orse that loads easily and willingly.</p><p>Module 5: Problem Solving(5 Day
 s · 500 Points)Every behavior tells a story. This module teaches you to und
 erstand rather than correct. You’ll develop trust-based solutions rooted in
  Monty’s principles of nonviolence, deep observation, and incremental steps
 —for real transformation, not symptom suppression.</p><p>Module 6: Confiden
 t Horse & Human(3 Days · 150 Points)Confidence grows from safety, not contr
 ol. This module empowers both horse and human through calm presence, clear 
 leadership, and consistency. Learn how to read equine body language, respon
 d with emotional stability, and become a reliable partner your horse can tr
 ust.</p><p>Module 7: Youngster School(4 Days · 200 Points)First steps shape
  a lifetime. This module guides young horses through respectful early educa
 tion—from leading to environmental exposure—using Join-Up™, the Dually Halt
 er, and nonverbal communication. Ideal for students with young horses who w
 ant to build a lasting partnership.</p><p>Module 8: Riding in Harmony(3 Day
 s · 300 Points)Riding in harmony begins on the ground. This module blends s
 eat, breath, energy, and equine understanding into a fluid dialogue. It foc
 uses on mental and physical balance, creating a soft, connected riding styl
 e based on partnership rather than control.</p><p>For students working towa
 rd instructor certification, the course block format—which combines multipl
 e modules into a single block—is recommended, as it enables faster completi
 on of all eight modules. These block courses are offered as Intermediate Co
 urse A, B, and C.</p><p>To qualify as a Monty Roberts Certified Instructor,
  students must complete the mandatory courses and accumulate sufficient poi
 nts to progress. </p>
DTSTAMP:20260424T185617
DTSTART;TZID=America/New_York;VALUE=DATE:20260928
DTEND;TZID=America/New_York;VALUE=DATE:20261001
SEQUENCE:0
TRANSP:OPAQUE
END:VEVENT
END:VCALENDAR