BEGIN:VCALENDAR
VERSION:2.0
PRODID:-//jEvents 2.0 for Joomla//EN
CALSCALE:GREGORIAN
METHOD:PUBLISH
BEGIN:VTIMEZONE
TZID:America/New_York
BEGIN:STANDARD
DTSTART:20251102T010000
RDATE:20260308T030000
TZOFFSETFROM:-0400
TZOFFSETTO:-0500
TZNAME:America/New_York EST
END:STANDARD
BEGIN:STANDARD
DTSTART:20261101T010000
RDATE:20270314T030000
TZOFFSETFROM:-0400
TZOFFSETTO:-0500
TZNAME:America/New_York EST
END:STANDARD
BEGIN:STANDARD
DTSTART:20271107T010000
RDATE:20280312T030000
TZOFFSETFROM:-0400
TZOFFSETTO:-0500
TZNAME:America/New_York EST
END:STANDARD
BEGIN:STANDARD
DTSTART:20281105T010000
RDATE:20290311T030000
TZOFFSETFROM:-0400
TZOFFSETTO:-0500
TZNAME:America/New_York EST
END:STANDARD
BEGIN:DAYLIGHT
DTSTART:20250408T000000
RDATE:20251102T010000
TZOFFSETFROM:-0500
TZOFFSETTO:-0400
TZNAME:America/New_York EDT
END:DAYLIGHT
BEGIN:DAYLIGHT
DTSTART:20260308T030000
RDATE:20261101T010000
TZOFFSETFROM:-0500
TZOFFSETTO:-0400
TZNAME:America/New_York EDT
END:DAYLIGHT
BEGIN:DAYLIGHT
DTSTART:20270314T030000
RDATE:20271107T010000
TZOFFSETFROM:-0500
TZOFFSETTO:-0400
TZNAME:America/New_York EDT
END:DAYLIGHT
BEGIN:DAYLIGHT
DTSTART:20280312T030000
RDATE:20281105T010000
TZOFFSETFROM:-0500
TZOFFSETTO:-0400
TZNAME:America/New_York EDT
END:DAYLIGHT
END:VTIMEZONE
BEGIN:VEVENT
UID:d1adaf0df9c3f564968c1fab77ca9877
CATEGORIES:Recreation & Lifestyle
CREATED:20251028T113113
SUMMARY:Equine Affaire "Fantasia® - A Musical Celebration of the Horse", Ohio Expo Center
LOCATION:The Ohio Expo Center
DESCRIPTION:North America’s premiere equine exposition and equestrian gathering . . . a
  unique celebration of the horse offering unparalleled education, entertain
 ment, and shopping opportunities.\n
This special equine musical revue will 
 feature a star-studded line-up of professional equestrian performers and ex
 ceptional horses choreo­graphed to a wide variety of musical styles. The Fa
 ntasia promises to be an evening of extraordinary entertainment you won’t w
 ant to miss!
X-ALT-DESC;FMTTYPE=text/html:North America’s premiere equine exposition and equestrian gathering . . . a
  unique celebration of the horse offering unparalleled education, entertain
 ment, and shopping opportunities.<br />This special equine musical revue wi
 ll feature a star-studded line-up of professional equestrian performers and
  exceptional horses choreo­graphed to a wide variety of musical styles. The
  Fantasia promises to be an evening of extraordinary entertainment you won’
 t want to miss!
DTSTAMP:20260424T141958
DTSTART;TZID=America/New_York;VALUE=DATE:20260409
DTEND;TZID=America/New_York;VALUE=DATE:20260413
SEQUENCE:0
TRANSP:OPAQUE
END:VEVENT
END:VCALENDAR