BEGIN:VCALENDAR
VERSION:2.0
PRODID:-//jEvents 2.0 for Joomla//EN
CALSCALE:GREGORIAN
METHOD:PUBLISH
BEGIN:VTIMEZONE
TZID:America/New_York
BEGIN:STANDARD
DTSTART:20251102T010000
RDATE:20260308T030000
TZOFFSETFROM:-0400
TZOFFSETTO:-0500
TZNAME:America/New_York EST
END:STANDARD
BEGIN:STANDARD
DTSTART:20261101T010000
RDATE:20270314T030000
TZOFFSETFROM:-0400
TZOFFSETTO:-0500
TZNAME:America/New_York EST
END:STANDARD
BEGIN:STANDARD
DTSTART:20271107T010000
RDATE:20280312T030000
TZOFFSETFROM:-0400
TZOFFSETTO:-0500
TZNAME:America/New_York EST
END:STANDARD
BEGIN:STANDARD
DTSTART:20281105T010000
RDATE:20290311T030000
TZOFFSETFROM:-0400
TZOFFSETTO:-0500
TZNAME:America/New_York EST
END:STANDARD
BEGIN:DAYLIGHT
DTSTART:20250531T000000
RDATE:20251102T010000
TZOFFSETFROM:-0500
TZOFFSETTO:-0400
TZNAME:America/New_York EDT
END:DAYLIGHT
BEGIN:DAYLIGHT
DTSTART:20260308T030000
RDATE:20261101T010000
TZOFFSETFROM:-0500
TZOFFSETTO:-0400
TZNAME:America/New_York EDT
END:DAYLIGHT
BEGIN:DAYLIGHT
DTSTART:20270314T030000
RDATE:20271107T010000
TZOFFSETFROM:-0500
TZOFFSETTO:-0400
TZNAME:America/New_York EDT
END:DAYLIGHT
BEGIN:DAYLIGHT
DTSTART:20280312T030000
RDATE:20281105T010000
TZOFFSETFROM:-0500
TZOFFSETTO:-0400
TZNAME:America/New_York EDT
END:DAYLIGHT
END:VTIMEZONE
BEGIN:VEVENT
UID:c0824c0c148122f0826a182cff38fd22
CATEGORIES:Horse Show
CREATED:20250911T110908
SUMMARY:UPPERVILLE COLT & HORSE SHOW PRESENTED BY MARS Equestrian™
LOCATION:Upperville Colt &amp; Horse Show
DESCRIPTION:COLT &amp; HORSE SHOW PRESENTED BY MARS Equestrian™
See you Under the Oaks

 JUNE 1-7, 2026
FEI/CSI 4*\n
US Equestrian Premier Hunter Jumper Level 6\n
I
 n the shade of the majestic oaks near the village of Upperville, Virginia, 
 the 173rd anniversary of the oldest horse show in America runs June 1-7, 20
 26. During this week, the nation’s top ranked hunters and jumpers will comp
 ete alongside the local ponies, sidesaddle ladies and the future of the spo
 rt in Hunter Breeding and leadline classes.
\n

Additional, non-horsey, com
 petitions include the Horses &amp; Horsepower Car Show and the Pup Parade!\
 n

X-ALT-DESC;FMTTYPE=text/html:COLT & HORSE SHOW PRESENTED BY MARS Equestrian™See you Under the OaksJUNE 1
 -7, 2026FEI/CSI 4*<br />US Equestrian Premier Hunter Jumper Level 6<br /><p
 >In the shade of the majestic oaks near the village of Upperville, Virginia
 , the 173rd anniversary of the oldest horse show in America runs June 1-7, 
 2026. During this week, the nation’s top ranked hunters and jumpers will co
 mpete alongside the local ponies, sidesaddle ladies and the future of the s
 port in Hunter Breeding and leadline classes.</p><P />Additional, non-horse
 y, competitions include the Horses & Horsepower Car Show and the Pup Parade
 !</p>
DTSTAMP:20260424T191802
DTSTART;TZID=America/New_York;VALUE=DATE:20260601
DTEND;TZID=America/New_York;VALUE=DATE:20260608
SEQUENCE:0
TRANSP:OPAQUE
END:VEVENT
END:VCALENDAR