BEGIN:VCALENDAR
VERSION:2.0
PRODID:-//jEvents 2.0 for Joomla//EN
CALSCALE:GREGORIAN
METHOD:PUBLISH
BEGIN:VTIMEZONE
TZID:America/New_York
BEGIN:STANDARD
DTSTART:20241103T010000
RDATE:20250309T030000
TZOFFSETFROM:-0400
TZOFFSETTO:-0500
TZNAME:America/New_York EST
END:STANDARD
BEGIN:STANDARD
DTSTART:20251102T010000
RDATE:20260308T030000
TZOFFSETFROM:-0400
TZOFFSETTO:-0500
TZNAME:America/New_York EST
END:STANDARD
BEGIN:STANDARD
DTSTART:20261101T010000
RDATE:20270314T030000
TZOFFSETFROM:-0400
TZOFFSETTO:-0500
TZNAME:America/New_York EST
END:STANDARD
BEGIN:STANDARD
DTSTART:20271107T010000
RDATE:20280312T030000
TZOFFSETFROM:-0400
TZOFFSETTO:-0500
TZNAME:America/New_York EST
END:STANDARD
BEGIN:STANDARD
DTSTART:20281105T010000
RDATE:20290311T030000
TZOFFSETFROM:-0400
TZOFFSETTO:-0500
TZNAME:America/New_York EST
END:STANDARD
BEGIN:DAYLIGHT
DTSTART:20241002T140000
RDATE:20241103T010000
TZOFFSETFROM:-0500
TZOFFSETTO:-0400
TZNAME:America/New_York EDT
END:DAYLIGHT
BEGIN:DAYLIGHT
DTSTART:20250309T030000
RDATE:20251102T010000
TZOFFSETFROM:-0500
TZOFFSETTO:-0400
TZNAME:America/New_York EDT
END:DAYLIGHT
BEGIN:DAYLIGHT
DTSTART:20260308T030000
RDATE:20261101T010000
TZOFFSETFROM:-0500
TZOFFSETTO:-0400
TZNAME:America/New_York EDT
END:DAYLIGHT
BEGIN:DAYLIGHT
DTSTART:20270314T030000
RDATE:20271107T010000
TZOFFSETFROM:-0500
TZOFFSETTO:-0400
TZNAME:America/New_York EDT
END:DAYLIGHT
BEGIN:DAYLIGHT
DTSTART:20280312T030000
RDATE:20281105T010000
TZOFFSETFROM:-0500
TZOFFSETTO:-0400
TZNAME:America/New_York EDT
END:DAYLIGHT
END:VTIMEZONE
BEGIN:VEVENT
UID:dab85fa3bcd90d7bd6437ced5a3e576a
CATEGORIES:Health & Education
CREATED:20250819T135114
SUMMARY:Fall Farrier Expo - International Assoc. of Professional Farriers
LOCATION:Missouri Forget-Me-Not Horse Rescue &amp; Sanctuary
DESCRIPTION:International Association of Professional Farriers presents the IAPF Fall F
 arrier Expo (17 CE).\n
Join the International Association of Professional F
 arriers (IAPF) and Missouri Forget-Me-Not Horse Rescue &amp; Sanctuary for 
 the Fall Farrier Expo, taking place October 3–5, 2025. Sponsored by Glue-U 
 Adhesives and Werkman Hoofcare, this three-day educational event brings tog
 ether farriers, veterinarians, and equine professionals for a dynamic lineu
 p of presentations, live demonstrations, and hands-on workshops.\n
\n
Kick 
 off Friday afternoon with a series of engaging one-hour presentations featu
 ring industry experts covering topics from shoe modification credentials to
  GluShu applications and veterinary insights.\n
\n
Saturday is Demonstratio
 n Day, where you'll observe live demos including advanced shoeing technique
 s, glue-on technology, and collaborative vet-farrier care approaches—plus a
 n interactive lunch break for networking.\n
\n
Sunday wraps up with small g
 roup, 30 minute hands-on sessions rotating through specialized stations for
  in-depth learning and practical skill-building with each presenter.\n
\n
W
 hether you're looking to expand your technical knowledge or connect with pr
 ofessionals in the field, the Fall Farrier Expo offers valuable continuing 
 education in a supportive and collaborative environment.
X-ALT-DESC;FMTTYPE=text/html:International Association of Professional Farriers presents the IAPF Fall F
 arrier Expo (17 CE).<br />Join the International Association of Professiona
 l Farriers (IAPF) and Missouri Forget-Me-Not Horse Rescue & Sanctuary for t
 he Fall Farrier Expo, taking place October 3–5, 2025. Sponsored by Glue-U A
 dhesives and Werkman Hoofcare, this three-day educational event brings toge
 ther farriers, veterinarians, and equine professionals for a dynamic lineup
  of presentations, live demonstrations, and hands-on workshops.<br /><br />
 Kick off Friday afternoon with a series of engaging one-hour presentations 
 featuring industry experts covering topics from shoe modification credentia
 ls to GluShu applications and veterinary insights.<br /><br />Saturday is D
 emonstration Day, where you'll observe live demos including advanced shoein
 g techniques, glue-on technology, and collaborative vet-farrier care approa
 ches—plus an interactive lunch break for networking.<br /><br />Sunday wrap
 s up with small group, 30 minute hands-on sessions rotating through special
 ized stations for in-depth learning and practical skill-building with each 
 presenter.<br /><br />Whether you're looking to expand your technical knowl
 edge or connect with professionals in the field, the Fall Farrier Expo offe
 rs valuable continuing education in a supportive and collaborative environm
 ent.
DTSTAMP:20260425T030712
DTSTART;TZID=America/New_York:20251003T140000
DTEND;TZID=America/New_York:20251005T170000
SEQUENCE:0
TRANSP:OPAQUE
END:VEVENT
END:VCALENDAR