BEGIN:VCALENDAR
VERSION:2.0
PRODID:-//jEvents 2.0 for Joomla//EN
CALSCALE:GREGORIAN
METHOD:PUBLISH
BEGIN:VTIMEZONE
TZID:America/New_York
BEGIN:STANDARD
DTSTART:20241103T010000
RDATE:20250309T030000
TZOFFSETFROM:-0400
TZOFFSETTO:-0500
TZNAME:America/New_York EST
END:STANDARD
BEGIN:STANDARD
DTSTART:20251102T010000
RDATE:20260308T030000
TZOFFSETFROM:-0400
TZOFFSETTO:-0500
TZNAME:America/New_York EST
END:STANDARD
BEGIN:STANDARD
DTSTART:20261101T010000
RDATE:20270314T030000
TZOFFSETFROM:-0400
TZOFFSETTO:-0500
TZNAME:America/New_York EST
END:STANDARD
BEGIN:STANDARD
DTSTART:20271107T010000
RDATE:20280312T030000
TZOFFSETFROM:-0400
TZOFFSETTO:-0500
TZNAME:America/New_York EST
END:STANDARD
BEGIN:STANDARD
DTSTART:20281105T010000
RDATE:20290311T030000
TZOFFSETFROM:-0400
TZOFFSETTO:-0500
TZNAME:America/New_York EST
END:STANDARD
BEGIN:DAYLIGHT
DTSTART:20240809T190000
RDATE:20241103T010000
TZOFFSETFROM:-0500
TZOFFSETTO:-0400
TZNAME:America/New_York EDT
END:DAYLIGHT
BEGIN:DAYLIGHT
DTSTART:20250309T030000
RDATE:20251102T010000
TZOFFSETFROM:-0500
TZOFFSETTO:-0400
TZNAME:America/New_York EDT
END:DAYLIGHT
BEGIN:DAYLIGHT
DTSTART:20260308T030000
RDATE:20261101T010000
TZOFFSETFROM:-0500
TZOFFSETTO:-0400
TZNAME:America/New_York EDT
END:DAYLIGHT
BEGIN:DAYLIGHT
DTSTART:20270314T030000
RDATE:20271107T010000
TZOFFSETFROM:-0500
TZOFFSETTO:-0400
TZNAME:America/New_York EDT
END:DAYLIGHT
BEGIN:DAYLIGHT
DTSTART:20280312T030000
RDATE:20281105T010000
TZOFFSETFROM:-0500
TZOFFSETTO:-0400
TZNAME:America/New_York EDT
END:DAYLIGHT
END:VTIMEZONE
BEGIN:VEVENT
UID:b5f4c338e624fbd7fa36463801328f9f
CATEGORIES:Racing Sales
CREATED:20250804T103717
SUMMARY:Fasig-Tipton Sales, New York Bred Yearlings, Saratoga Springs, NY
LOCATION:Fasig-Tipton Saratoga
DESCRIPTION:Held the Sunday and Monday following The Saratoga Sale, the New York Bred Y
 earlings sale is the industry’s leading source of quality New York-bred yea
 rlings.\n
Fasig-Tipton has catalogued 304 entries for the New York Bred Yea
 rlings sale, to be held Sunday and Monday, August 10 and 11, in the Humphre
 y S. Finney Pavilion in Saratoga Springs, New York.\n
The Sunday session wi
 ll begin at 7 pm, and the Monday session will begin at noon.\n
“The New Yor
 k Bred Yearlings sale annually offers the highest concentration of quality 
 New York-breds of any Thoroughbred auction,” said Fasig-Tipton President Br
 owning.  “It’s the ‘go-to’ source for those looking to take advantage of th
 e lucrative New York-bred racing program.”\n
\n
An exciting new development
  for the New York-bred program is that beginning in 2026, New York-breds wi
 ll run for equal purse money on the NYRA circuit as open company horses.\n

 \n
\n
“All yearlings offered in this catalogue will compete for the same pu
 rse money as open company horses on the NYRA circuit next year, providing b
 uyers even more incentive to participate in this year’s sale,” added Browni
 ng.  “There has never been a better time to own a New York-bred.”\n
\n
\n
T
 his year’s catalogue cover features Mo Plex, recent winner of the Ohio Derb
 y (G3) as well as last year’s Sanford S. (G3) at Saratoga.  Also pictured a
 re Pandagate, New York-bred Champion Three Year Old Male; and With the Ange
 ls, New York-bred Champion Two-Year-Old Filly.
X-ALT-DESC;FMTTYPE=text/html:Held the Sunday and Monday following The Saratoga Sale, the New York Bred Y
 earlings sale is the industry’s leading source of quality New York-bred yea
 rlings.<br />Fasig-Tipton has catalogued 304 entries for the New York Bred 
 Yearlings sale, to be held Sunday and Monday, August 10 and 11, in the Hump
 hrey S. Finney Pavilion in Saratoga Springs, New York.<br />The Sunday sess
 ion will begin at 7 pm, and the Monday session will begin at noon.<br />“Th
 e New York Bred Yearlings sale annually offers the highest concentration of
  quality New York-breds of any Thoroughbred auction,” said Fasig-Tipton Pre
 sident Browning.  “It’s the ‘go-to’ source for those looking to take advant
 age of the lucrative New York-bred racing program.”<br /><br />An exciting 
 new development for the New York-bred program is that beginning in 2026, Ne
 w York-breds will run for equal purse money on the NYRA circuit as open com
 pany horses.<br /><br /><br />“All yearlings offered in this catalogue will
  compete for the same purse money as open company horses on the NYRA circui
 t next year, providing buyers even more incentive to participate in this ye
 ar’s sale,” added Browning.  “There has never been a better time to own a N
 ew York-bred.”<br /><br /><br />This year’s catalogue cover features Mo Ple
 x, recent winner of the Ohio Derby (G3) as well as last year’s Sanford S. (
 G3) at Saratoga.  Also pictured are Pandagate, New York-bred Champion Three
  Year Old Male; and With the Angels, New York-bred Champion Two-Year-Old Fi
 lly.
DTSTAMP:20260424T234948
DTSTART;TZID=America/New_York:20250810T190000
DTEND;TZID=America/New_York;VALUE=DATE:20250812
SEQUENCE:0
TRANSP:OPAQUE
END:VEVENT
END:VCALENDAR