BEGIN:VCALENDAR
VERSION:2.0
PRODID:-//jEvents 2.0 for Joomla//EN
CALSCALE:GREGORIAN
METHOD:PUBLISH
BEGIN:VTIMEZONE
TZID:America/New_York
BEGIN:STANDARD
DTSTART:20241103T010000
RDATE:20250309T030000
TZOFFSETFROM:-0400
TZOFFSETTO:-0500
TZNAME:America/New_York EST
END:STANDARD
BEGIN:STANDARD
DTSTART:20251102T010000
RDATE:20260308T030000
TZOFFSETFROM:-0400
TZOFFSETTO:-0500
TZNAME:America/New_York EST
END:STANDARD
BEGIN:STANDARD
DTSTART:20261101T010000
RDATE:20270314T030000
TZOFFSETFROM:-0400
TZOFFSETTO:-0500
TZNAME:America/New_York EST
END:STANDARD
BEGIN:STANDARD
DTSTART:20271107T010000
RDATE:20280312T030000
TZOFFSETFROM:-0400
TZOFFSETTO:-0500
TZNAME:America/New_York EST
END:STANDARD
BEGIN:STANDARD
DTSTART:20281105T010000
RDATE:20290311T030000
TZOFFSETFROM:-0400
TZOFFSETTO:-0500
TZNAME:America/New_York EST
END:STANDARD
BEGIN:DAYLIGHT
DTSTART:20240812T100000
RDATE:20241103T010000
TZOFFSETFROM:-0500
TZOFFSETTO:-0400
TZNAME:America/New_York EDT
END:DAYLIGHT
BEGIN:DAYLIGHT
DTSTART:20250309T030000
RDATE:20251102T010000
TZOFFSETFROM:-0500
TZOFFSETTO:-0400
TZNAME:America/New_York EDT
END:DAYLIGHT
BEGIN:DAYLIGHT
DTSTART:20260308T030000
RDATE:20261101T010000
TZOFFSETFROM:-0500
TZOFFSETTO:-0400
TZNAME:America/New_York EDT
END:DAYLIGHT
BEGIN:DAYLIGHT
DTSTART:20270314T030000
RDATE:20271107T010000
TZOFFSETFROM:-0500
TZOFFSETTO:-0400
TZNAME:America/New_York EDT
END:DAYLIGHT
BEGIN:DAYLIGHT
DTSTART:20280312T030000
RDATE:20281105T010000
TZOFFSETFROM:-0500
TZOFFSETTO:-0400
TZNAME:America/New_York EDT
END:DAYLIGHT
END:VTIMEZONE
BEGIN:VEVENT
UID:8b4ef80e660513c2add4bc29fef451a6
CATEGORIES:Recreation & Lifestyle
CREATED:20250729T133405
SUMMARY:NY Race Track Chaplaincy 18th Annual Brunch - Aug 13, 2025
LOCATION:Saratoga National Golf Course
DESCRIPTION:Welcome to the NY Race Track Chaplaincy 18th Annual Brunch Honoring LEN GRE
 EN
New York Race Track Chaplaincy, P.O. Box 37191, Elmont , NY 11003\n
Over
  3,500 people make up the community of workers who toil behind the scenes i
 n support of the Thoroughbred racing industry at Belmont Park, Aqueduct Rac
 etrack, and Saratoga Springs Race Course. The New York Race Track Chaplainc
 y ministers to the heart and soul of this entire community of stable worker
 s and their families with children’s enrichment, teen mentoring, women’s pr
 ogramming, social service, recreational, and educational programs as well a
 s non-denominational religious services. The NY Chaplaincy provides these e
 xtensive services with the intent of satisfying spiritual needs and basic h
 uman necessities, as well as  providing the tools necessary for the realiza
 tion of personal strength and growth through a connection to God and commun
 ity.\n

X-ALT-DESC;FMTTYPE=text/html:<h3>Welcome to the NY Race Track Chaplaincy 18th Annual Brunch Honoring LEN
  GREEN</h3><p>New York Race Track Chaplaincy, P.O. Box 37191, Elmont , NY 1
 1003</p><p>Over 3,500 people make up the community of workers who toil behi
 nd the scenes in support of the Thoroughbred racing industry at Belmont Par
 k, Aqueduct Racetrack, and Saratoga Springs Race Course. The New York Race 
 Track Chaplaincy ministers to the heart and soul of this entire community o
 f stable workers and their families with children’s enrichment, teen mentor
 ing, women’s programming, social service, recreational, and educational pro
 grams as well as non-denominational religious services. The NY Chaplaincy p
 rovides these extensive services with the intent of satisfying spiritual ne
 eds and basic human necessities, as well as  providing the tools necessary 
 for the realization of personal strength and growth through a connection to
  God and community.</p>
DTSTAMP:20260425T023615
DTSTART;TZID=America/New_York:20250813T100000
SEQUENCE:0
TRANSP:OPAQUE
END:VEVENT
END:VCALENDAR