BEGIN:VCALENDAR
VERSION:2.0
PRODID:-//jEvents 2.0 for Joomla//EN
CALSCALE:GREGORIAN
METHOD:PUBLISH
BEGIN:VTIMEZONE
TZID:America/New_York
BEGIN:STANDARD
DTSTART:20241103T010000
RDATE:20250309T030000
TZOFFSETFROM:-0400
TZOFFSETTO:-0500
TZNAME:America/New_York EST
END:STANDARD
BEGIN:STANDARD
DTSTART:20251102T010000
RDATE:20260308T030000
TZOFFSETFROM:-0400
TZOFFSETTO:-0500
TZNAME:America/New_York EST
END:STANDARD
BEGIN:STANDARD
DTSTART:20261101T010000
RDATE:20270314T030000
TZOFFSETFROM:-0400
TZOFFSETTO:-0500
TZNAME:America/New_York EST
END:STANDARD
BEGIN:STANDARD
DTSTART:20271107T010000
RDATE:20280312T030000
TZOFFSETFROM:-0400
TZOFFSETTO:-0500
TZNAME:America/New_York EST
END:STANDARD
BEGIN:STANDARD
DTSTART:20281105T010000
RDATE:20290311T030000
TZOFFSETFROM:-0400
TZOFFSETTO:-0500
TZNAME:America/New_York EST
END:STANDARD
BEGIN:DAYLIGHT
DTSTART:20240926T000000
RDATE:20241103T010000
TZOFFSETFROM:-0500
TZOFFSETTO:-0400
TZNAME:America/New_York EDT
END:DAYLIGHT
BEGIN:DAYLIGHT
DTSTART:20250309T030000
RDATE:20251102T010000
TZOFFSETFROM:-0500
TZOFFSETTO:-0400
TZNAME:America/New_York EDT
END:DAYLIGHT
BEGIN:DAYLIGHT
DTSTART:20260308T030000
RDATE:20261101T010000
TZOFFSETFROM:-0500
TZOFFSETTO:-0400
TZNAME:America/New_York EDT
END:DAYLIGHT
BEGIN:DAYLIGHT
DTSTART:20270314T030000
RDATE:20271107T010000
TZOFFSETFROM:-0500
TZOFFSETTO:-0400
TZNAME:America/New_York EDT
END:DAYLIGHT
BEGIN:DAYLIGHT
DTSTART:20280312T030000
RDATE:20281105T010000
TZOFFSETFROM:-0500
TZOFFSETTO:-0400
TZNAME:America/New_York EDT
END:DAYLIGHT
END:VTIMEZONE
BEGIN:VEVENT
UID:5238f49b635506afdb5184594a254b47
CATEGORIES:Health & Education
CREATED:20250729T125556
SUMMARY:Cal Middleton Horsemanship Clinic - Sept 27-30, 2025
LOCATION:Peotone\, IL
DESCRIPTION:There are many out there today offering a variety of services, but Cal may 
 stand alone as one who has a true understanding of the good and bad of the 
 show horse arena reaching high levels of success himself, has real world ex
 perience on farms and ranches, and understands the depths of true horsemans
 hip being able to teach it to others while always keeping the horses’ best 
 interest in mind. 
\n

Cal published his first book in 2016, started the Ho
 rses and Life podcast in 2019 and has contributing author to many equine ma
 gazines for over a decade. 
\n

Cal has a passion for children and has work
 ed full time as a behavioral implementor and consultant inside schools and 
 homes. He also worked 8 years as a high school wrestling coach, among many 
 other jobs in the real world. 
\n

Cal is a past president of the Heart of 
 America Brangus Association and a former judge for the National Reining Hor
 se Association. He is a lifetime member of the AQHA, NRHA, ASHA, ApHC, APHA
 , IBHA, ACHA, and many others. 
\n
The HORSEMANSHIP class is a continuation
  of the foundation class. In the Horsemanship class, we start mounted and o
 nly do a small amount of groundwork if deemed necessary for safety. The cla
 ss consists of gaining better control of our horses feet through feel, timi
 ng, and balance. We work on building confidence with our horses, and helpin
 g the riders and horses react favorably to stressful and exciting situation
 s. We work on straightness, different forms of transitions, and ways of mov
 ing the hindquarters and the front end. Cal will take into consideration, t
 he riders in each clinic and adjust accordingly. Those who are only able to
  attend the Horsemanship class are encouraged to come and audit the Foundat
 ion class at no extra cost, in order to have a deeper understanding of thei
 r horses. \n
X-ALT-DESC;FMTTYPE=text/html:<p>There are many out there today offering a variety of services, but Cal m
 ay stand alone as one who has a true understanding of the good and bad of t
 he show horse arena reaching high levels of success himself, has real world
  experience on farms and ranches, and understands the depths of true horsem
 anship being able to teach it to others while always keeping the horses’ be
 st interest in mind. </p><p>Cal published his first book in 2016, started t
 he Horses and Life podcast in 2019 and has contributing author to many equi
 ne magazines for over a decade. </p><p>Cal has a passion for children and h
 as worked full time as a behavioral implementor and consultant inside schoo
 ls and homes. He also worked 8 years as a high school wrestling coach, amon
 g many other jobs in the real world. </p><p>Cal is a past president of the 
 Heart of America Brangus Association and a former judge for the National Re
 ining Horse Association. He is a lifetime member of the AQHA, NRHA, ASHA, A
 pHC, APHA, IBHA, ACHA, and many others. </p><p>The HORSEMANSHIP class is a 
 continuation of the foundation class. In the Horsemanship class, we start m
 ounted and only do a small amount of groundwork if deemed necessary for saf
 ety. The class consists of gaining better control of our horses feet throug
 h feel, timing, and balance. We work on building confidence with our horses
 , and helping the riders and horses react favorably to stressful and exciti
 ng situations. We work on straightness, different forms of transitions, and
  ways of moving the hindquarters and the front end. Cal will take into cons
 ideration, the riders in each clinic and adjust accordingly. Those who are 
 only able to attend the Horsemanship class are encouraged to come and audit
  the Foundation class at no extra cost, in order to have a deeper understan
 ding of their horses. </p>
DTSTAMP:20260425T030723
DTSTART;TZID=America/New_York;VALUE=DATE:20250927
DTEND;TZID=America/New_York;VALUE=DATE:20251001
SEQUENCE:0
TRANSP:OPAQUE
END:VEVENT
END:VCALENDAR