BEGIN:VCALENDAR
VERSION:2.0
PRODID:-//jEvents 2.0 for Joomla//EN
CALSCALE:GREGORIAN
METHOD:PUBLISH
BEGIN:VTIMEZONE
TZID:America/New_York
BEGIN:STANDARD
DTSTART:20241103T010000
RDATE:20250309T030000
TZOFFSETFROM:-0400
TZOFFSETTO:-0500
TZNAME:America/New_York EST
END:STANDARD
BEGIN:STANDARD
DTSTART:20251102T010000
RDATE:20260308T030000
TZOFFSETFROM:-0400
TZOFFSETTO:-0500
TZNAME:America/New_York EST
END:STANDARD
BEGIN:STANDARD
DTSTART:20261101T010000
RDATE:20270314T030000
TZOFFSETFROM:-0400
TZOFFSETTO:-0500
TZNAME:America/New_York EST
END:STANDARD
BEGIN:STANDARD
DTSTART:20271107T010000
RDATE:20280312T030000
TZOFFSETFROM:-0400
TZOFFSETTO:-0500
TZNAME:America/New_York EST
END:STANDARD
BEGIN:STANDARD
DTSTART:20281105T010000
RDATE:20290311T030000
TZOFFSETFROM:-0400
TZOFFSETTO:-0500
TZNAME:America/New_York EST
END:STANDARD
BEGIN:DAYLIGHT
DTSTART:20240803T183000
RDATE:20241103T010000
TZOFFSETFROM:-0500
TZOFFSETTO:-0400
TZNAME:America/New_York EDT
END:DAYLIGHT
BEGIN:DAYLIGHT
DTSTART:20250309T030000
RDATE:20251102T010000
TZOFFSETFROM:-0500
TZOFFSETTO:-0400
TZNAME:America/New_York EDT
END:DAYLIGHT
BEGIN:DAYLIGHT
DTSTART:20260308T030000
RDATE:20261101T010000
TZOFFSETFROM:-0500
TZOFFSETTO:-0400
TZNAME:America/New_York EDT
END:DAYLIGHT
BEGIN:DAYLIGHT
DTSTART:20270314T030000
RDATE:20271107T010000
TZOFFSETFROM:-0500
TZOFFSETTO:-0400
TZNAME:America/New_York EDT
END:DAYLIGHT
BEGIN:DAYLIGHT
DTSTART:20280312T030000
RDATE:20281105T010000
TZOFFSETFROM:-0500
TZOFFSETTO:-0400
TZNAME:America/New_York EDT
END:DAYLIGHT
END:VTIMEZONE
BEGIN:VEVENT
UID:f39891bcdba35383e25aee163792cf92
CATEGORIES:Racing Sales
CREATED:20250729T124528
SUMMARY:Fasig-Tipton, The Saratoga Sale, Saratoga Springs, NY
LOCATION:Fasig-Tipton Saratoga
DESCRIPTION:THE SARATOGA SALE\n
Selected Yearlings\n
Fasig-Tipton has catalogued 222 se
 lected yearlings for the 104th Saratoga Sale, to be held on Monday and Tues
 day, August 4 and 5, in Saratoga Springs, New York.  Sessions will begin ea
 ch evening at 6:30 pm in the Humphrey S. Finney Sales Pavilion.\n
\n
\n
“We
  have assembled another outstanding group of yearlings for Saratoga, the ty
 pe of quality that buyers expect to find at the number one ranked yearling 
 sale by percentage of Grade 1 winners,” said Fasig-Tipton President Boyd Br
 owning. \n
\n
\n
The Saratoga Sale is once again the top ranked major North
  American yearling sale by percentage of Grade 1 winners and graded stakes 
 winners according to statistics recently released by The BloodHorse MarketW
 atch.\n
\n
\n
The sale has produced six individual grade one winners in the
  last year.  Recent sales graduates include Eclipse Champion and Breeders’ 
 Cup Classic winner Sierra Leone; Journalism, winner of this year’s Preaknes
 s S.; Seize the Grey (2024 Preakness S. and Pennsylvania Derby); Tappan Str
 eet (2025 Florida Derby); Kingsbarns (2024 Stephen Foster S.); and And One 
 More Time (2024 Natalma S.)\n
\n
\n
The sale also has the distinction of pr
 oducing the last three Preakness Stakes winners in Journalism (2025), Seize
  the Grey (2024), and National Treasure (2023).
X-ALT-DESC;FMTTYPE=text/html:THE SARATOGA SALE<br />Selected Yearlings<br />Fasig-Tipton has catalogued 
 222 selected yearlings for the 104th Saratoga Sale, to be held on Monday an
 d Tuesday, August 4 and 5, in Saratoga Springs, New York.  Sessions will be
 gin each evening at 6:30 pm in the Humphrey S. Finney Sales Pavilion.<br />
 <br /><br />“We have assembled another outstanding group of yearlings for S
 aratoga, the type of quality that buyers expect to find at the number one r
 anked yearling sale by percentage of Grade 1 winners,” said Fasig-Tipton Pr
 esident Boyd Browning. <br /><br /><br />The Saratoga Sale is once again th
 e top ranked major North American yearling sale by percentage of Grade 1 wi
 nners and graded stakes winners according to statistics recently released b
 y The BloodHorse MarketWatch.<br /><br /><br />The sale has produced six in
 dividual grade one winners in the last year.  Recent sales graduates includ
 e Eclipse Champion and Breeders’ Cup Classic winner Sierra Leone; Journalis
 m, winner of this year’s Preakness S.; Seize the Grey (2024 Preakness S. an
 d Pennsylvania Derby); Tappan Street (2025 Florida Derby); Kingsbarns (2024
  Stephen Foster S.); and And One More Time (2024 Natalma S.)<br /><br /><br
  />The sale also has the distinction of producing the last three Preakness 
 Stakes winners in Journalism (2025), Seize the Grey (2024), and National Tr
 easure (2023).
DTSTAMP:20260424T235020
DTSTART;TZID=America/New_York:20250804T183000
DTEND;TZID=America/New_York;VALUE=DATE:20250806
SEQUENCE:0
TRANSP:OPAQUE
END:VEVENT
END:VCALENDAR