BEGIN:VCALENDAR
VERSION:2.0
PRODID:-//jEvents 2.0 for Joomla//EN
CALSCALE:GREGORIAN
METHOD:PUBLISH
BEGIN:VTIMEZONE
TZID:America/New_York
BEGIN:STANDARD
DTSTART:20241103T010000
RDATE:20250309T030000
TZOFFSETFROM:-0400
TZOFFSETTO:-0500
TZNAME:America/New_York EST
END:STANDARD
BEGIN:STANDARD
DTSTART:20251102T010000
RDATE:20260308T030000
TZOFFSETFROM:-0400
TZOFFSETTO:-0500
TZNAME:America/New_York EST
END:STANDARD
BEGIN:STANDARD
DTSTART:20261101T010000
RDATE:20270314T030000
TZOFFSETFROM:-0400
TZOFFSETTO:-0500
TZNAME:America/New_York EST
END:STANDARD
BEGIN:STANDARD
DTSTART:20271107T010000
RDATE:20280312T030000
TZOFFSETFROM:-0400
TZOFFSETTO:-0500
TZNAME:America/New_York EST
END:STANDARD
BEGIN:STANDARD
DTSTART:20281105T010000
RDATE:20290311T030000
TZOFFSETFROM:-0400
TZOFFSETTO:-0500
TZNAME:America/New_York EST
END:STANDARD
BEGIN:DAYLIGHT
DTSTART:20240802T000000
RDATE:20241103T010000
TZOFFSETFROM:-0500
TZOFFSETTO:-0400
TZNAME:America/New_York EDT
END:DAYLIGHT
BEGIN:DAYLIGHT
DTSTART:20250309T030000
RDATE:20251102T010000
TZOFFSETFROM:-0500
TZOFFSETTO:-0400
TZNAME:America/New_York EDT
END:DAYLIGHT
BEGIN:DAYLIGHT
DTSTART:20260308T030000
RDATE:20261101T010000
TZOFFSETFROM:-0500
TZOFFSETTO:-0400
TZNAME:America/New_York EDT
END:DAYLIGHT
BEGIN:DAYLIGHT
DTSTART:20270314T030000
RDATE:20271107T010000
TZOFFSETFROM:-0500
TZOFFSETTO:-0400
TZNAME:America/New_York EDT
END:DAYLIGHT
BEGIN:DAYLIGHT
DTSTART:20280312T030000
RDATE:20281105T010000
TZOFFSETFROM:-0500
TZOFFSETTO:-0400
TZNAME:America/New_York EDT
END:DAYLIGHT
END:VTIMEZONE
BEGIN:VEVENT
UID:fa38817a2b18bc0f3ac3902ee5e855cc
CATEGORIES:English Riding
CREATED:20250729T123857
SUMMARY:Summer Schooling Event III at Orchard Hill Equestrian Center, MA
LOCATION:Orchard Hill Equestrian Center
DESCRIPTION:Levels offered:\n
Pre-elementary- USDF Intro test A, 18″ jumps\n
Elementary
 - USEA Starter Test A, 2′ jumps\n
Starter- USEA Starter Test A, 2’3″ jumps\
 n
Beginner Novice- USEA BN Test A, 2’7″ jumps\n
Novice- USEA Novice Test A,
  2’11” Jumps\n
\n
Entry Fees:
$165 for each horse and rider entry\n
$185 fo
 r a rider entry with use of Orchard Hill school horse\n
\n
We welcome new a
 nd experienced riders at five levels:\n
\n
\n
Dressage is held in two quiet
  sand arenas at the top of the hill, while both jumping phases are in sand 
 rings adjacent to parking.  Summer shows include a food truck! \n
\n
Entrie
 s are online; ride times and results are posted here and on our Facebook pa
 ge.
X-ALT-DESC;FMTTYPE=text/html:Levels offered:<br />Pre-elementary- USDF Intro test A, 18″ jumps<br />Elem
 entary- USEA Starter Test A, 2′ jumps<br />Starter- USEA Starter Test A, 2’
 3″ jumps<br />Beginner Novice- USEA BN Test A, 2’7″ jumps<br />Novice- USEA
  Novice Test A, 2’11” Jumps<br /><br />Entry Fees:$165 for each horse and r
 ider entry<br />$185 for a rider entry with use of Orchard Hill school hors
 e<br /><br />We welcome new and experienced riders at five levels:<br /><br
  /><br />Dressage is held in two quiet sand arenas at the top of the hill, 
 while both jumping phases are in sand rings adjacent to parking.  Summer sh
 ows include a food truck! <br /><br />Entries are online; ride times and re
 sults are posted here and on our Facebook page.
DTSTAMP:20260425T030719
DTSTART;TZID=America/New_York;VALUE=DATE:20250803
DTEND;TZID=America/New_York;VALUE=DATE:20250804
SEQUENCE:0
TRANSP:OPAQUE
END:VEVENT
END:VCALENDAR