BEGIN:VCALENDAR
VERSION:2.0
PRODID:-//jEvents 2.0 for Joomla//EN
CALSCALE:GREGORIAN
METHOD:PUBLISH
BEGIN:VTIMEZONE
TZID:America/New_York
BEGIN:STANDARD
DTSTART:20241103T010000
RDATE:20250309T030000
TZOFFSETFROM:-0400
TZOFFSETTO:-0500
TZNAME:America/New_York EST
END:STANDARD
BEGIN:STANDARD
DTSTART:20251102T010000
RDATE:20260308T030000
TZOFFSETFROM:-0400
TZOFFSETTO:-0500
TZNAME:America/New_York EST
END:STANDARD
BEGIN:STANDARD
DTSTART:20261101T010000
RDATE:20270314T030000
TZOFFSETFROM:-0400
TZOFFSETTO:-0500
TZNAME:America/New_York EST
END:STANDARD
BEGIN:STANDARD
DTSTART:20271107T010000
RDATE:20280312T030000
TZOFFSETFROM:-0400
TZOFFSETTO:-0500
TZNAME:America/New_York EST
END:STANDARD
BEGIN:STANDARD
DTSTART:20281105T010000
RDATE:20290311T030000
TZOFFSETFROM:-0400
TZOFFSETTO:-0500
TZNAME:America/New_York EST
END:STANDARD
BEGIN:DAYLIGHT
DTSTART:20240817T180000
RDATE:20241103T010000
TZOFFSETFROM:-0500
TZOFFSETTO:-0400
TZNAME:America/New_York EDT
END:DAYLIGHT
BEGIN:DAYLIGHT
DTSTART:20250309T030000
RDATE:20251102T010000
TZOFFSETFROM:-0500
TZOFFSETTO:-0400
TZNAME:America/New_York EDT
END:DAYLIGHT
BEGIN:DAYLIGHT
DTSTART:20260308T030000
RDATE:20261101T010000
TZOFFSETFROM:-0500
TZOFFSETTO:-0400
TZNAME:America/New_York EDT
END:DAYLIGHT
BEGIN:DAYLIGHT
DTSTART:20270314T030000
RDATE:20271107T010000
TZOFFSETFROM:-0500
TZOFFSETTO:-0400
TZNAME:America/New_York EDT
END:DAYLIGHT
BEGIN:DAYLIGHT
DTSTART:20280312T030000
RDATE:20281105T010000
TZOFFSETFROM:-0500
TZOFFSETTO:-0400
TZNAME:America/New_York EDT
END:DAYLIGHT
END:VTIMEZONE
BEGIN:VEVENT
UID:9fe6be519588990217efdfeb09f2a3e1
CATEGORIES:Retire & Rehome
CREATED:20250625T134638
SUMMARY:Casino Night presented by National Museum of Racing and Hall of Fame
LOCATION:Canfield Casino
DESCRIPTION:Casino Night benefitting NMRHOF and PDJF
\n

Join us for a night of high st
 akes and heart! Casino Night at the National Museum of Racing and Hall of F
 ame benefits both the Museum and the Permanently Disabled Jockeys Fund. You
 r bets will go a long way in supporting the legacy of horse racing and thos
 e who’ve given so much to the sport. Your ticket includes admission, food a
 nd beverage, and $250 worth of play. In addition to gaming, we will have a 
 50/50 raffle and a silent auction. Let’s roll the dice for a great cause! 

 \n

Schedule of Events:

6:00-8:00 p.m.: Food and Gaming Open\n
8:15-9:00 p
 .m.: Dessert and Ticket Drop\n
9-9:30 p.m.: Collect Your Prizes\n
\n
Ticket
 s:

Museum Members: $100\n
Admission: $150\n
Admission and Individual Museu
 m Membership: $175\n
Cash ONLY to purchase more chips and 50/50 raffle! \n

 \n

Purchase tickets here: Casino Night tickets (https://1049a.blackbaudhos
 ting.com/1049a/Casino-Night-with-PDJF)\n

 
X-ALT-DESC;FMTTYPE=text/html:<p>Casino Night benefitting NMRHOF and PDJF</p><p>Join us for a night of hi
 gh stakes and heart! Casino Night at the National Museum of Racing and Hall
  of Fame benefits both the Museum and the Permanently Disabled Jockeys Fund
 . Your bets will go a long way in supporting the legacy of horse racing and
  those who’ve given so much to the sport. Your ticket includes admission, f
 ood and beverage, and $250 worth of play. In addition to gaming, we will ha
 ve a 50/50 raffle and a silent auction. Let’s roll the dice for a great cau
 se! </p><p>Schedule of Events:6:00-8:00 p.m.: Food and Gaming Open<br />8:1
 5-9:00 p.m.: Dessert and Ticket Drop<br />9-9:30 p.m.: Collect Your Prizes<
 br /></p><p>Tickets:Museum Members: $100<br />Admission: $150<br />Admissio
 n and Individual Museum Membership: $175<br />Cash ONLY to purchase more ch
 ips and 50/50 raffle! <br /></p><p>Purchase tickets here: <a href="https://
 1049a.blackbaudhosting.com/1049a/Casino-Night-with-PDJF">Casino Night ticke
 ts</a></p> 
DTSTAMP:20260425T023809
DTSTART;TZID=America/New_York:20250818T180000
DTEND;TZID=America/New_York:20250818T213000
SEQUENCE:0
TRANSP:OPAQUE
END:VEVENT
END:VCALENDAR