BEGIN:VCALENDAR
VERSION:2.0
PRODID:-//jEvents 2.0 for Joomla//EN
CALSCALE:GREGORIAN
METHOD:PUBLISH
BEGIN:VTIMEZONE
TZID:America/New_York
BEGIN:STANDARD
DTSTART:20241103T010000
RDATE:20250309T030000
TZOFFSETFROM:-0400
TZOFFSETTO:-0500
TZNAME:America/New_York EST
END:STANDARD
BEGIN:STANDARD
DTSTART:20251102T010000
RDATE:20260308T030000
TZOFFSETFROM:-0400
TZOFFSETTO:-0500
TZNAME:America/New_York EST
END:STANDARD
BEGIN:STANDARD
DTSTART:20261101T010000
RDATE:20270314T030000
TZOFFSETFROM:-0400
TZOFFSETTO:-0500
TZNAME:America/New_York EST
END:STANDARD
BEGIN:STANDARD
DTSTART:20271107T010000
RDATE:20280312T030000
TZOFFSETFROM:-0400
TZOFFSETTO:-0500
TZNAME:America/New_York EST
END:STANDARD
BEGIN:STANDARD
DTSTART:20281105T010000
RDATE:20290311T030000
TZOFFSETFROM:-0400
TZOFFSETTO:-0500
TZNAME:America/New_York EST
END:STANDARD
BEGIN:DAYLIGHT
DTSTART:20240619T183000
RDATE:20241103T010000
TZOFFSETFROM:-0500
TZOFFSETTO:-0400
TZNAME:America/New_York EDT
END:DAYLIGHT
BEGIN:DAYLIGHT
DTSTART:20250309T030000
RDATE:20251102T010000
TZOFFSETFROM:-0500
TZOFFSETTO:-0400
TZNAME:America/New_York EDT
END:DAYLIGHT
BEGIN:DAYLIGHT
DTSTART:20260308T030000
RDATE:20261101T010000
TZOFFSETFROM:-0500
TZOFFSETTO:-0400
TZNAME:America/New_York EDT
END:DAYLIGHT
BEGIN:DAYLIGHT
DTSTART:20270314T030000
RDATE:20271107T010000
TZOFFSETFROM:-0500
TZOFFSETTO:-0400
TZNAME:America/New_York EDT
END:DAYLIGHT
BEGIN:DAYLIGHT
DTSTART:20280312T030000
RDATE:20281105T010000
TZOFFSETFROM:-0500
TZOFFSETTO:-0400
TZNAME:America/New_York EDT
END:DAYLIGHT
END:VTIMEZONE
BEGIN:VEVENT
UID:4eead3f76b340f2eec59fafe212f9701
CATEGORIES:Retire & Rehome
CREATED:20250527T114705
SUMMARY:Therapeutic Horses of Saratoga - Saratoga County Horsemen’s Social
LOCATION:Therapeutic Horses of Saratoga
DESCRIPTION:Saratoga County Horsemen’s Social<br /><br />Join us for an evening with th
 e horsemen of the greater Capital District! Enjoy live music, delicious foo
 d from Neighborhood Kitchen, and drinks from Old Tavern Farm Winery while n
 etworking with industry professionals.<br /><br />Explore the THS farm, mee
 t the horses available for adoption, and participate in our silent auction.
  This is the perfect opportunity to connect with fellow horse lovers and en
 gage in conversations with equestrians, farriers, veterinarians, and horse 
 enthusiasts.<br /><br />Date: Friday, June 20th<br />Time: 6:30 PM – 9:30 P
 M<br />Location: Therapeutic Horses of Saratoga<br />683 RT-29, Saratoga Sp
 rings, New York 12866<br />Tickets:<br />Early Bird Price: $35<br />From Ju
 ne 1st – 20th: $40<br />Ticket price includes admission and drop tickets. G
 et yours soon before they sell out!
DTSTAMP:20260425T024235
DTSTART;TZID=America/New_York:20250620T183000
DTEND;TZID=America/New_York:20250620T213000
SEQUENCE:0
TRANSP:OPAQUE
END:VEVENT
END:VCALENDAR