BEGIN:VCALENDAR
VERSION:2.0
PRODID:-//jEvents 2.0 for Joomla//EN
CALSCALE:GREGORIAN
METHOD:PUBLISH
BEGIN:VTIMEZONE
TZID:America/New_York
BEGIN:STANDARD
DTSTART:20241103T010000
RDATE:20250309T030000
TZOFFSETFROM:-0400
TZOFFSETTO:-0500
TZNAME:America/New_York EST
END:STANDARD
BEGIN:STANDARD
DTSTART:20251102T010000
RDATE:20260308T030000
TZOFFSETFROM:-0400
TZOFFSETTO:-0500
TZNAME:America/New_York EST
END:STANDARD
BEGIN:STANDARD
DTSTART:20261101T010000
RDATE:20270314T030000
TZOFFSETFROM:-0400
TZOFFSETTO:-0500
TZNAME:America/New_York EST
END:STANDARD
BEGIN:STANDARD
DTSTART:20271107T010000
RDATE:20280312T030000
TZOFFSETFROM:-0400
TZOFFSETTO:-0500
TZNAME:America/New_York EST
END:STANDARD
BEGIN:STANDARD
DTSTART:20281105T010000
RDATE:20290311T030000
TZOFFSETFROM:-0400
TZOFFSETTO:-0500
TZNAME:America/New_York EST
END:STANDARD
BEGIN:DAYLIGHT
DTSTART:20240530T120000
RDATE:20241103T010000
TZOFFSETFROM:-0500
TZOFFSETTO:-0400
TZNAME:America/New_York EDT
END:DAYLIGHT
BEGIN:DAYLIGHT
DTSTART:20250309T030000
RDATE:20251102T010000
TZOFFSETFROM:-0500
TZOFFSETTO:-0400
TZNAME:America/New_York EDT
END:DAYLIGHT
BEGIN:DAYLIGHT
DTSTART:20260308T030000
RDATE:20261101T010000
TZOFFSETFROM:-0500
TZOFFSETTO:-0400
TZNAME:America/New_York EDT
END:DAYLIGHT
BEGIN:DAYLIGHT
DTSTART:20270314T030000
RDATE:20271107T010000
TZOFFSETFROM:-0500
TZOFFSETTO:-0400
TZNAME:America/New_York EDT
END:DAYLIGHT
BEGIN:DAYLIGHT
DTSTART:20280312T030000
RDATE:20281105T010000
TZOFFSETFROM:-0500
TZOFFSETTO:-0400
TZNAME:America/New_York EDT
END:DAYLIGHT
END:VTIMEZONE
BEGIN:VEVENT
UID:14f2b40adc9c80f8774e5af1dd0cdcaa
CATEGORIES:Retire & Rehome
CREATED:19691231T190000
SUMMARY:Old Friends at Cabin Creek - Open House
LOCATION:Old Friends at Cabin Creek\n483 Sand Hill Road\n Greenfield Center\nNY\n128
 33\nUSA
DESCRIPTION:SPRING HOURS START... March 29, 2025!!\n
We will be open every SATURDAY fro
 m 12-3.\n
It's an open house, so NO RESERVATIONS ARE NEEDED!
Old Friends at
  Cabin Creek, the Bobby Frankel Division, is Saratoga County’s only thoroug
 hbred retirement farm and one of the few that will take thoroughbred stalli
 ons. Our purpose is to provide dignified retirement for all racehorses, bot
 h known and unknown. Completely staffed by volunteers and run entirely on d
 onation, our goal is to provide a natural, nurturing forever home to retire
 d race horses, and offer the public an up-close and personal experience wit
 h our thoroughbred horses. 
\n

We are open to the public year round with m
 any special events during track season.
\n

Old Friends at Cabin Creek is a
  501(c)3 charitable organization.\n
X-ALT-DESC;FMTTYPE=text/html:SPRING HOURS START... March 29, 2025!!<br />We will be open every SATURDAY 
 from 12-3.<br />It's an open house, so NO RESERVATIONS ARE NEEDED!<p>Old Fr
 iends at Cabin Creek, the Bobby Frankel Division, is Saratoga County’s only
  thoroughbred retirement farm and one of the few that will take thoroughbre
 d stallions. Our purpose is to provide dignified retirement for all racehor
 ses, both known and unknown. Completely staffed by volunteers and run entir
 ely on donation, our goal is to provide a natural, nurturing forever home t
 o retired race horses, and offer the public an up-close and personal experi
 ence with our thoroughbred horses. </p><p>We are open to the public year ro
 und with many special events during track season.</p><p>Old Friends at Cabi
 n Creek is a 501(c)3 charitable organization.</p>
DTSTAMP:20260425T122433
DTSTART;TZID=America/New_York:20250531T120000
DTEND;TZID=America/New_York:20250531T150000
SEQUENCE:0
RRULE:FREQ=WEEKLY;UNTIL=20250901T000000Z;INTERVAL=1;BYDAY=SA
TRANSP:OPAQUE
END:VEVENT
END:VCALENDAR