BEGIN:VCALENDAR
VERSION:2.0
PRODID:-//jEvents 2.0 for Joomla//EN
CALSCALE:GREGORIAN
METHOD:PUBLISH
BEGIN:VTIMEZONE
TZID:America/New_York
BEGIN:STANDARD
DTSTART:20241103T010000
RDATE:20250309T030000
TZOFFSETFROM:-0400
TZOFFSETTO:-0500
TZNAME:America/New_York EST
END:STANDARD
BEGIN:STANDARD
DTSTART:20251102T010000
RDATE:20260308T030000
TZOFFSETFROM:-0400
TZOFFSETTO:-0500
TZNAME:America/New_York EST
END:STANDARD
BEGIN:STANDARD
DTSTART:20261101T010000
RDATE:20270314T030000
TZOFFSETFROM:-0400
TZOFFSETTO:-0500
TZNAME:America/New_York EST
END:STANDARD
BEGIN:STANDARD
DTSTART:20271107T010000
RDATE:20280312T030000
TZOFFSETFROM:-0400
TZOFFSETTO:-0500
TZNAME:America/New_York EST
END:STANDARD
BEGIN:STANDARD
DTSTART:20281105T010000
RDATE:20290311T030000
TZOFFSETFROM:-0400
TZOFFSETTO:-0500
TZNAME:America/New_York EST
END:STANDARD
BEGIN:DAYLIGHT
DTSTART:20240321T100000
RDATE:20241103T010000
TZOFFSETFROM:-0500
TZOFFSETTO:-0400
TZNAME:America/New_York EDT
END:DAYLIGHT
BEGIN:DAYLIGHT
DTSTART:20250309T030000
RDATE:20251102T010000
TZOFFSETFROM:-0500
TZOFFSETTO:-0400
TZNAME:America/New_York EDT
END:DAYLIGHT
BEGIN:DAYLIGHT
DTSTART:20260308T030000
RDATE:20261101T010000
TZOFFSETFROM:-0500
TZOFFSETTO:-0400
TZNAME:America/New_York EDT
END:DAYLIGHT
BEGIN:DAYLIGHT
DTSTART:20270314T030000
RDATE:20271107T010000
TZOFFSETFROM:-0500
TZOFFSETTO:-0400
TZNAME:America/New_York EDT
END:DAYLIGHT
BEGIN:DAYLIGHT
DTSTART:20280312T030000
RDATE:20281105T010000
TZOFFSETFROM:-0500
TZOFFSETTO:-0400
TZNAME:America/New_York EDT
END:DAYLIGHT
END:VTIMEZONE
BEGIN:VEVENT
UID:629736f5168d69f98a1ea24808cdc339
CATEGORIES:Recreation & Lifestyle
CREATED:20250318T112113
SUMMARY:Job Fair for Kentucky Derby Week - Churchill Downs
LOCATION:Churchill Downs
DESCRIPTION:Churchill Downs and its partners Andy Frain Services, Kentucky Derby Museum
 , Levy and Pritchard Sports &amp; Entertainment Group will host a job fair 
 to recruit for Kentucky Derby Week and the Churchill Downs Spring Meet. The
  event is scheduled for Saturday, Mar. 22 from 10 a.m. to 2 p.m. in the Fir
 st Turn Club.
\n

The job fair will include on-the-spot interviews and hiri
 ng for positions during Kentucky Derby Week, which runs from Saturday, Apr.
  26, through Saturday, May 3, and the Churchill Downs Spring Meet, which co
 ntinues through Sunday, June 29.
\n

Available positions include box office
 , cleaning/janitorial, food &amp; beverage, gate staff, guest services, mut
 uel tellers, programs, retail sales, security and tour guides.
\n
X-ALT-DESC;FMTTYPE=text/html:<p>Churchill Downs and its partners Andy Frain Services, Kentucky Derby Mus
 eum, Levy and Pritchard Sports & Entertainment Group will host a job fair t
 o recruit for Kentucky Derby Week and the Churchill Downs Spring Meet. The 
 event is scheduled for Saturday, Mar. 22 from 10 a.m. to 2 p.m. in the Firs
 t Turn Club.</p><p>The job fair will include on-the-spot interviews and hir
 ing for positions during Kentucky Derby Week, which runs from Saturday, Apr
 . 26, through Saturday, May 3, and the Churchill Downs Spring Meet, which c
 ontinues through Sunday, June 29.</p><p>Available positions include box off
 ice, cleaning/janitorial, food & beverage, gate staff, guest services, mutu
 el tellers, programs, retail sales, security and tour guides.</p>
DTSTAMP:20260425T023807
DTSTART;TZID=America/New_York:20250322T100000
DTEND;TZID=America/New_York:20250322T140000
SEQUENCE:0
TRANSP:OPAQUE
END:VEVENT
END:VCALENDAR