BEGIN:VCALENDAR
VERSION:2.0
PRODID:-//jEvents 2.0 for Joomla//EN
CALSCALE:GREGORIAN
METHOD:PUBLISH
BEGIN:VTIMEZONE
TZID:America/New_York
BEGIN:STANDARD
DTSTART:20241103T010000
RDATE:20250309T030000
TZOFFSETFROM:-0400
TZOFFSETTO:-0500
TZNAME:America/New_York EST
END:STANDARD
BEGIN:STANDARD
DTSTART:20251102T010000
RDATE:20260308T030000
TZOFFSETFROM:-0400
TZOFFSETTO:-0500
TZNAME:America/New_York EST
END:STANDARD
BEGIN:STANDARD
DTSTART:20261101T010000
RDATE:20270314T030000
TZOFFSETFROM:-0400
TZOFFSETTO:-0500
TZNAME:America/New_York EST
END:STANDARD
BEGIN:STANDARD
DTSTART:20271107T010000
RDATE:20280312T030000
TZOFFSETFROM:-0400
TZOFFSETTO:-0500
TZNAME:America/New_York EST
END:STANDARD
BEGIN:STANDARD
DTSTART:20281105T010000
RDATE:20290311T030000
TZOFFSETFROM:-0400
TZOFFSETTO:-0500
TZNAME:America/New_York EST
END:STANDARD
BEGIN:DAYLIGHT
DTSTART:20241026T000000
RDATE:20241103T010000
TZOFFSETFROM:-0500
TZOFFSETTO:-0400
TZNAME:America/New_York EDT
END:DAYLIGHT
BEGIN:DAYLIGHT
DTSTART:20250309T030000
RDATE:20251102T010000
TZOFFSETFROM:-0500
TZOFFSETTO:-0400
TZNAME:America/New_York EDT
END:DAYLIGHT
BEGIN:DAYLIGHT
DTSTART:20260308T030000
RDATE:20261101T010000
TZOFFSETFROM:-0500
TZOFFSETTO:-0400
TZNAME:America/New_York EDT
END:DAYLIGHT
BEGIN:DAYLIGHT
DTSTART:20270314T030000
RDATE:20271107T010000
TZOFFSETFROM:-0500
TZOFFSETTO:-0400
TZNAME:America/New_York EDT
END:DAYLIGHT
BEGIN:DAYLIGHT
DTSTART:20280312T030000
RDATE:20281105T010000
TZOFFSETFROM:-0500
TZOFFSETTO:-0400
TZNAME:America/New_York EDT
END:DAYLIGHT
END:VTIMEZONE
BEGIN:VEVENT
UID:8d15e1c65bebbbf23abd94bbea0cf6c6
CATEGORIES:Racing Sales
CREATED:20250224T121206
SUMMARY:Tattersalls October Yearling Sale, Book 3 2025
LOCATION:Tattersalls Ltd Terrace House
DESCRIPTION:Autumn Horses In Training Sale 2025\n
Sale Date: 27-31 Oct 2025\n
Sale Star
 t Times: Mon: 09.30am, Tue: 09.30am, Wed: 09.30am, Thu: 09.30am, Fri: 09.30
 am\n
Entries Close: 8 Sep 2025\n
Catalogue Online: 1 Oct 2025\n
Minimum Bid
 : 1,000 guineas\n
\n
The World’s Largest Horses in Training Sale\n
There is
  truly no other sale quite like the Tattersalls Autumn Horses in Training S
 ale and it continues to attract buyers from all corners of the world for wh
 om the sale is an unmissable annual event.\n
\n
The offering of progressive
  horses in training combined with fillies and mares from outstanding intern
 ational families annually attracts a diversity of buyer which sets the Autu
 mn Horses in Training Sale apart from any other sale of this type.\n
\n
\n

 La Bellota Tops Strong Third Day of Tattersalls Autumn Horses in Training S
 ale
X-ALT-DESC;FMTTYPE=text/html:Autumn Horses In Training Sale 2025<br />Sale Date: 27-31 Oct 2025<br />Sal
 e Start Times: Mon: 09.30am, Tue: 09.30am, Wed: 09.30am, Thu: 09.30am, Fri:
  09.30am<br />Entries Close: 8 Sep 2025<br />Catalogue Online: 1 Oct 2025<b
 r />Minimum Bid: 1,000 guineas<br /><br />The World’s Largest Horses in Tra
 ining Sale<br />There is truly no other sale quite like the Tattersalls Aut
 umn Horses in Training Sale and it continues to attract buyers from all cor
 ners of the world for whom the sale is an unmissable annual event.<br /><br
  />The offering of progressive horses in training combined with fillies and
  mares from outstanding international families annually attracts a diversit
 y of buyer which sets the Autumn Horses in Training Sale apart from any oth
 er sale of this type.<br /><br /><br />La Bellota Tops Strong Third Day of 
 Tattersalls Autumn Horses in Training Sale
DTSTAMP:20260425T030717
DTSTART;TZID=America/New_York;VALUE=DATE:20251027
DTEND;TZID=America/New_York;VALUE=DATE:20251101
SEQUENCE:0
TRANSP:OPAQUE
END:VEVENT
END:VCALENDAR