BEGIN:VCALENDAR
VERSION:2.0
PRODID:-//jEvents 2.0 for Joomla//EN
CALSCALE:GREGORIAN
METHOD:PUBLISH
BEGIN:VTIMEZONE
TZID:America/New_York
BEGIN:STANDARD
DTSTART:20241103T010000
RDATE:20250309T030000
TZOFFSETFROM:-0400
TZOFFSETTO:-0500
TZNAME:America/New_York EST
END:STANDARD
BEGIN:STANDARD
DTSTART:20251102T010000
RDATE:20260308T030000
TZOFFSETFROM:-0400
TZOFFSETTO:-0500
TZNAME:America/New_York EST
END:STANDARD
BEGIN:STANDARD
DTSTART:20261101T010000
RDATE:20270314T030000
TZOFFSETFROM:-0400
TZOFFSETTO:-0500
TZNAME:America/New_York EST
END:STANDARD
BEGIN:STANDARD
DTSTART:20271107T010000
RDATE:20280312T030000
TZOFFSETFROM:-0400
TZOFFSETTO:-0500
TZNAME:America/New_York EST
END:STANDARD
BEGIN:STANDARD
DTSTART:20281105T010000
RDATE:20290311T030000
TZOFFSETFROM:-0400
TZOFFSETTO:-0500
TZNAME:America/New_York EST
END:STANDARD
BEGIN:DAYLIGHT
DTSTART:20241012T000000
RDATE:20241103T010000
TZOFFSETFROM:-0500
TZOFFSETTO:-0400
TZNAME:America/New_York EDT
END:DAYLIGHT
BEGIN:DAYLIGHT
DTSTART:20250309T030000
RDATE:20251102T010000
TZOFFSETFROM:-0500
TZOFFSETTO:-0400
TZNAME:America/New_York EDT
END:DAYLIGHT
BEGIN:DAYLIGHT
DTSTART:20260308T030000
RDATE:20261101T010000
TZOFFSETFROM:-0500
TZOFFSETTO:-0400
TZNAME:America/New_York EDT
END:DAYLIGHT
BEGIN:DAYLIGHT
DTSTART:20270314T030000
RDATE:20271107T010000
TZOFFSETFROM:-0500
TZOFFSETTO:-0400
TZNAME:America/New_York EDT
END:DAYLIGHT
BEGIN:DAYLIGHT
DTSTART:20280312T030000
RDATE:20281105T010000
TZOFFSETFROM:-0500
TZOFFSETTO:-0400
TZNAME:America/New_York EDT
END:DAYLIGHT
END:VTIMEZONE
BEGIN:VEVENT
UID:cdba78e50c8ca2571ea713774afb34ef
CATEGORIES:Racing Sales
CREATED:20250224T120926
SUMMARY:Tattersalls October Yearling Sale, Book 2 2025
LOCATION:Tattersalls Ltd Terrace House
DESCRIPTION:October Yearling Sale, Book 2 2025<br />Sale Date: 13-15 Oct 2025Sale Start
  Times: Mon: 10.00am, Tue: 10.00am, Wed: 10.00amNominations Close: 24 Mar 2
 025Entries Close: 4 Jul 2025Catalogue Online: 11 Aug 2025Minimum Bid: 3,000
  gnsBook 2 of Europe’s Largest Yearling SaleEvery year European consignors 
 bring an outstanding quality of yearling to Book 2 of the Tattersalls Octob
 er Yearling Sale, and the sale’s reputation for consistently producing race
 horses of the very highest calibre brings buyers to Park Paddocks in overwh
 elming numbers.875,000 Guineas Sea The Stars Colt Headlines Strong Start to
  Book 2 of Tattersalls October Yearling Sale
DTSTAMP:20260425T030825
DTSTART;TZID=America/New_York;VALUE=DATE:20251013
DTEND;TZID=America/New_York;VALUE=DATE:20251016
SEQUENCE:0
TRANSP:OPAQUE
END:VEVENT
END:VCALENDAR