BEGIN:VCALENDAR
VERSION:2.0
PRODID:-//jEvents 2.0 for Joomla//EN
CALSCALE:GREGORIAN
METHOD:PUBLISH
BEGIN:VTIMEZONE
TZID:America/New_York
BEGIN:STANDARD
DTSTART:20241103T010000
RDATE:20250309T030000
TZOFFSETFROM:-0400
TZOFFSETTO:-0500
TZNAME:America/New_York EST
END:STANDARD
BEGIN:STANDARD
DTSTART:20251102T010000
RDATE:20260308T030000
TZOFFSETFROM:-0400
TZOFFSETTO:-0500
TZNAME:America/New_York EST
END:STANDARD
BEGIN:STANDARD
DTSTART:20261101T010000
RDATE:20270314T030000
TZOFFSETFROM:-0400
TZOFFSETTO:-0500
TZNAME:America/New_York EST
END:STANDARD
BEGIN:STANDARD
DTSTART:20271107T010000
RDATE:20280312T030000
TZOFFSETFROM:-0400
TZOFFSETTO:-0500
TZNAME:America/New_York EST
END:STANDARD
BEGIN:STANDARD
DTSTART:20281105T010000
RDATE:20290311T030000
TZOFFSETFROM:-0400
TZOFFSETTO:-0500
TZNAME:America/New_York EST
END:STANDARD
BEGIN:DAYLIGHT
DTSTART:20241006T000000
RDATE:20241103T010000
TZOFFSETFROM:-0500
TZOFFSETTO:-0400
TZNAME:America/New_York EDT
END:DAYLIGHT
BEGIN:DAYLIGHT
DTSTART:20250309T030000
RDATE:20251102T010000
TZOFFSETFROM:-0500
TZOFFSETTO:-0400
TZNAME:America/New_York EDT
END:DAYLIGHT
BEGIN:DAYLIGHT
DTSTART:20260308T030000
RDATE:20261101T010000
TZOFFSETFROM:-0500
TZOFFSETTO:-0400
TZNAME:America/New_York EDT
END:DAYLIGHT
BEGIN:DAYLIGHT
DTSTART:20270314T030000
RDATE:20271107T010000
TZOFFSETFROM:-0500
TZOFFSETTO:-0400
TZNAME:America/New_York EDT
END:DAYLIGHT
BEGIN:DAYLIGHT
DTSTART:20280312T030000
RDATE:20281105T010000
TZOFFSETFROM:-0500
TZOFFSETTO:-0400
TZNAME:America/New_York EDT
END:DAYLIGHT
END:VTIMEZONE
BEGIN:VEVENT
UID:a21f094a42a262bd78f6a5affa2deb1a
CATEGORIES:Racing Sales
CREATED:20250224T120807
SUMMARY:Tattersalls October Yearling Sale, Book 1 2025
LOCATION:Tattersalls Ltd Terrace House
DESCRIPTION:Tattersalls October Yearling Sale, Book 1 2025\n
Sale Date: 7-9 Oct 2025\n

 Sale Start Times: Tue: 11.00am, Wed: 11.00am, Thu: 11.00am, \n
Nominations 
 Close: 24 Mar 2025\n
Entries Close: 4 Jul 2025\n
Catalogue Online: 6 Aug 20
 25\n
Minimum Bid: 5,000 gns\n
\n
Europe’s Premier Yearling Sale\n
Every yea
 r breeders and consignors send the cream of the European yearling crop to B
 ook 1 of the Tattersalls October Yearling Sale and every year the sale prod
 uces the highest percentage of superior racehorses of any European yearling
  sale.
X-ALT-DESC;FMTTYPE=text/html:Tattersalls October Yearling Sale, Book 1 2025<br />Sale Date: 7-9 Oct 2025
 <br />Sale Start Times: Tue: 11.00am, Wed: 11.00am, Thu: 11.00am, <br />Nom
 inations Close: 24 Mar 2025<br />Entries Close: 4 Jul 2025<br />Catalogue O
 nline: 6 Aug 2025<br />Minimum Bid: 5,000 gns<br /><br />Europe’s Premier Y
 earling Sale<br />Every year breeders and consignors send the cream of the 
 European yearling crop to Book 1 of the Tattersalls October Yearling Sale a
 nd every year the sale produces the highest percentage of superior racehors
 es of any European yearling sale.
DTSTAMP:20260425T030714
DTSTART;TZID=America/New_York;VALUE=DATE:20251007
DTEND;TZID=America/New_York;VALUE=DATE:20251010
SEQUENCE:0
TRANSP:OPAQUE
END:VEVENT
END:VCALENDAR