BEGIN:VCALENDAR
VERSION:2.0
PRODID:-//jEvents 2.0 for Joomla//EN
CALSCALE:GREGORIAN
METHOD:PUBLISH
BEGIN:VTIMEZONE
TZID:America/New_York
BEGIN:STANDARD
DTSTART:20241103T010000
RDATE:20250309T030000
TZOFFSETFROM:-0400
TZOFFSETTO:-0500
TZNAME:America/New_York EST
END:STANDARD
BEGIN:STANDARD
DTSTART:20251102T010000
RDATE:20260308T030000
TZOFFSETFROM:-0400
TZOFFSETTO:-0500
TZNAME:America/New_York EST
END:STANDARD
BEGIN:STANDARD
DTSTART:20261101T010000
RDATE:20270314T030000
TZOFFSETFROM:-0400
TZOFFSETTO:-0500
TZNAME:America/New_York EST
END:STANDARD
BEGIN:STANDARD
DTSTART:20271107T010000
RDATE:20280312T030000
TZOFFSETFROM:-0400
TZOFFSETTO:-0500
TZNAME:America/New_York EST
END:STANDARD
BEGIN:STANDARD
DTSTART:20281105T010000
RDATE:20290311T030000
TZOFFSETFROM:-0400
TZOFFSETTO:-0500
TZNAME:America/New_York EST
END:STANDARD
BEGIN:DAYLIGHT
DTSTART:20240908T000000
RDATE:20241103T010000
TZOFFSETFROM:-0500
TZOFFSETTO:-0400
TZNAME:America/New_York EDT
END:DAYLIGHT
BEGIN:DAYLIGHT
DTSTART:20250309T030000
RDATE:20251102T010000
TZOFFSETFROM:-0500
TZOFFSETTO:-0400
TZNAME:America/New_York EDT
END:DAYLIGHT
BEGIN:DAYLIGHT
DTSTART:20260308T030000
RDATE:20261101T010000
TZOFFSETFROM:-0500
TZOFFSETTO:-0400
TZNAME:America/New_York EDT
END:DAYLIGHT
BEGIN:DAYLIGHT
DTSTART:20270314T030000
RDATE:20271107T010000
TZOFFSETFROM:-0500
TZOFFSETTO:-0400
TZNAME:America/New_York EDT
END:DAYLIGHT
BEGIN:DAYLIGHT
DTSTART:20280312T030000
RDATE:20281105T010000
TZOFFSETFROM:-0500
TZOFFSETTO:-0400
TZNAME:America/New_York EDT
END:DAYLIGHT
END:VTIMEZONE
BEGIN:VEVENT
UID:3dcdc53fce23b45856c7498ecf16eba2
CATEGORIES:Racing Sales
CREATED:20250224T120643
SUMMARY:Tattersalls September Sale 2025
LOCATION:Tattersalls Ltd Terrace House
DESCRIPTION:Tattersalls September Sale 2025\n
Sale Date: 9 Sep 2025\n
Sale Start Time: 
 10.00am\n
Entries Close: 28 Jul 2025\n
Catalogue Online: 8 Aug 2025\n
Minim
 um Bid: 1,000 GUINEAS\n
\n
A Mixed HIT Sale\n
Since its inception in 2020, 
 this fixture has established itself as a consistent source of Group winners
  bought for as little as 10,000 guineas.\n
\n
The hallmark of horses in tra
 ining sales at Tattersalls is quality and diversity, with the Tattersalls S
 eptember Sale no different in attracting an abundance of domestic and inter
 national buyers to Park Paddocks.
X-ALT-DESC;FMTTYPE=text/html:Tattersalls September Sale 2025<br />Sale Date: 9 Sep 2025<br />Sale Start 
 Time: 10.00am<br />Entries Close: 28 Jul 2025<br />Catalogue Online: 8 Aug 
 2025<br />Minimum Bid: 1,000 GUINEAS<br /><br />A Mixed HIT Sale<br />Since
  its inception in 2020, this fixture has established itself as a consistent
  source of Group winners bought for as little as 10,000 guineas.<br /><br /
 >The hallmark of horses in training sales at Tattersalls is quality and div
 ersity, with the Tattersalls September Sale no different in attracting an a
 bundance of domestic and international buyers to Park Paddocks.
DTSTAMP:20260425T030721
DTSTART;TZID=America/New_York;VALUE=DATE:20250909
DTEND;TZID=America/New_York;VALUE=DATE:20250910
SEQUENCE:0
TRANSP:OPAQUE
END:VEVENT
END:VCALENDAR