BEGIN:VCALENDAR
VERSION:2.0
PRODID:-//jEvents 2.0 for Joomla//EN
CALSCALE:GREGORIAN
METHOD:PUBLISH
BEGIN:VTIMEZONE
TZID:America/New_York
BEGIN:STANDARD
DTSTART:20241103T010000
RDATE:20250309T030000
TZOFFSETFROM:-0400
TZOFFSETTO:-0500
TZNAME:America/New_York EST
END:STANDARD
BEGIN:STANDARD
DTSTART:20251102T010000
RDATE:20260308T030000
TZOFFSETFROM:-0400
TZOFFSETTO:-0500
TZNAME:America/New_York EST
END:STANDARD
BEGIN:STANDARD
DTSTART:20261101T010000
RDATE:20270314T030000
TZOFFSETFROM:-0400
TZOFFSETTO:-0500
TZNAME:America/New_York EST
END:STANDARD
BEGIN:STANDARD
DTSTART:20271107T010000
RDATE:20280312T030000
TZOFFSETFROM:-0400
TZOFFSETTO:-0500
TZNAME:America/New_York EST
END:STANDARD
BEGIN:STANDARD
DTSTART:20281105T010000
RDATE:20290311T030000
TZOFFSETFROM:-0400
TZOFFSETTO:-0500
TZNAME:America/New_York EST
END:STANDARD
BEGIN:DAYLIGHT
DTSTART:20240901T000000
RDATE:20241103T010000
TZOFFSETFROM:-0500
TZOFFSETTO:-0400
TZNAME:America/New_York EDT
END:DAYLIGHT
BEGIN:DAYLIGHT
DTSTART:20250309T030000
RDATE:20251102T010000
TZOFFSETFROM:-0500
TZOFFSETTO:-0400
TZNAME:America/New_York EDT
END:DAYLIGHT
BEGIN:DAYLIGHT
DTSTART:20260308T030000
RDATE:20261101T010000
TZOFFSETFROM:-0500
TZOFFSETTO:-0400
TZNAME:America/New_York EDT
END:DAYLIGHT
BEGIN:DAYLIGHT
DTSTART:20270314T030000
RDATE:20271107T010000
TZOFFSETFROM:-0500
TZOFFSETTO:-0400
TZNAME:America/New_York EDT
END:DAYLIGHT
BEGIN:DAYLIGHT
DTSTART:20280312T030000
RDATE:20281105T010000
TZOFFSETFROM:-0500
TZOFFSETTO:-0400
TZNAME:America/New_York EDT
END:DAYLIGHT
END:VTIMEZONE
BEGIN:VEVENT
UID:792dae3db54aba475c2b62362fb39f35
CATEGORIES:Racing Sales
CREATED:20250224T120457
SUMMARY:Tattersalls Somerville Yearling Sale 2025
LOCATION:Tattersalls Ltd Terrace House
DESCRIPTION:Tattersalls Somerville Yearling Sale 2025\n
Sale Date: 2 Sep 2025\n
Sale St
 art Time: 10.00am\n
Nominations Close: 24 Mar 2025\n
Entries Close: 4 Jul 2
 025\n
Catalogue Online: 23 Jul 2025\n
Minimum Bid: 1,000 GUINEAS

Europe’s 
 Most Progressive Yearling Sale
The Tattersalls Somerville Yearling Sale has
  quickly established itself as a leading source of top-class racehorses wit
 h Group 1 winners Anisette and Bradsell leading the way alongside Group 2 D
 uchess Of Cambridge Stakes winner Arabian Dusk.

All Tattersalls Somerville
  yearlings are eligible for the £100,000 Tattersalls Somerville Auction Sta
 kes as well as the ever-popular £150,000 Tattersalls October Auction Stakes
 .


Records Across The Board At Tattersalls Somerville Yearling Sale
X-ALT-DESC;FMTTYPE=text/html:Tattersalls Somerville Yearling Sale 2025<br />Sale Date: 2 Sep 2025<br />S
 ale Start Time: 10.00am<br />Nominations Close: 24 Mar 2025<br />Entries Cl
 ose: 4 Jul 2025<br />Catalogue Online: 23 Jul 2025<br />Minimum Bid: 1,000 
 GUINEASEurope’s Most Progressive Yearling SaleThe Tattersalls Somerville Ye
 arling Sale has quickly established itself as a leading source of top-class
  racehorses with Group 1 winners Anisette and Bradsell leading the way alon
 gside Group 2 Duchess Of Cambridge Stakes winner Arabian Dusk.All Tattersal
 ls Somerville yearlings are eligible for the £100,000 Tattersalls Somervill
 e Auction Stakes as well as the ever-popular £150,000 Tattersalls October A
 uction Stakes.Records Across The Board At Tattersalls Somerville Yearling S
 ale
DTSTAMP:20260425T030717
DTSTART;TZID=America/New_York;VALUE=DATE:20250902
DTEND;TZID=America/New_York;VALUE=DATE:20250903
SEQUENCE:0
TRANSP:OPAQUE
END:VEVENT
END:VCALENDAR