BEGIN:VCALENDAR
VERSION:2.0
PRODID:-//jEvents 2.0 for Joomla//EN
CALSCALE:GREGORIAN
METHOD:PUBLISH
BEGIN:VTIMEZONE
TZID:America/New_York
BEGIN:STANDARD
DTSTART:20241103T010000
RDATE:20250309T030000
TZOFFSETFROM:-0400
TZOFFSETTO:-0500
TZNAME:America/New_York EST
END:STANDARD
BEGIN:STANDARD
DTSTART:20251102T010000
RDATE:20260308T030000
TZOFFSETFROM:-0400
TZOFFSETTO:-0500
TZNAME:America/New_York EST
END:STANDARD
BEGIN:STANDARD
DTSTART:20261101T010000
RDATE:20270314T030000
TZOFFSETFROM:-0400
TZOFFSETTO:-0500
TZNAME:America/New_York EST
END:STANDARD
BEGIN:STANDARD
DTSTART:20271107T010000
RDATE:20280312T030000
TZOFFSETFROM:-0400
TZOFFSETTO:-0500
TZNAME:America/New_York EST
END:STANDARD
BEGIN:STANDARD
DTSTART:20281105T010000
RDATE:20290311T030000
TZOFFSETFROM:-0400
TZOFFSETTO:-0500
TZNAME:America/New_York EST
END:STANDARD
BEGIN:DAYLIGHT
DTSTART:20240311T000000
RDATE:20241103T010000
TZOFFSETFROM:-0500
TZOFFSETTO:-0400
TZNAME:America/New_York EDT
END:DAYLIGHT
BEGIN:DAYLIGHT
DTSTART:20250309T030000
RDATE:20251102T010000
TZOFFSETFROM:-0500
TZOFFSETTO:-0400
TZNAME:America/New_York EDT
END:DAYLIGHT
BEGIN:DAYLIGHT
DTSTART:20260308T030000
RDATE:20261101T010000
TZOFFSETFROM:-0500
TZOFFSETTO:-0400
TZNAME:America/New_York EDT
END:DAYLIGHT
BEGIN:DAYLIGHT
DTSTART:20270314T030000
RDATE:20271107T010000
TZOFFSETFROM:-0500
TZOFFSETTO:-0400
TZNAME:America/New_York EDT
END:DAYLIGHT
BEGIN:DAYLIGHT
DTSTART:20280312T030000
RDATE:20281105T010000
TZOFFSETFROM:-0500
TZOFFSETTO:-0400
TZNAME:America/New_York EDT
END:DAYLIGHT
END:VTIMEZONE
BEGIN:VEVENT
UID:79f9c92525c3fec1816cc5ad0a40fec2
CATEGORIES:English Riding
CREATED:20250219T140006
SUMMARY:Terranova Winter Series V Finale
LOCATION:TerraNova Equestrian Center
DESCRIPTION:A RATED USEF LEVEL 5 &amp; SPLIT ROCK JUMPING TOUR CSI2\n
Discover the ulti
 mate competition experience at TerraNova Equestrian Center, Florida's premi
 er equestrian destination. Featuring luxury facilities, world-class competi
 tions, and a convenient calendar to complement your winter season, TerraNov
 a is the perfect oasis for horses and riders alike.  \n
$65,000 1.45m CSI2*
  FEI Grand Prix – Saturday AM (C Ranking)\n

$32,000 1.45m CSI2* FEI Speed 
 Welcome - Friday PM (D Ranking)\n

$20,000 1.35m National Prix directly fol
 lowing FEI GP (Open to everyone, including FEI horses)\n

All Jumper levels
 , beginning with X-Rail Jumpers\n

.60m, .70m, .80m Mini Prix\n

All Junior
 /Amateur Jumper divisions and classics\n

$5,000 USHJA National Hunter Derb
 y \n

All “National” Hunter and Equitation Levels beginning with Walk-Trot 
 Poles\n\n
X-ALT-DESC;FMTTYPE=text/html:<p>A RATED USEF LEVEL 5 & SPLIT ROCK JUMPING TOUR CSI2</p><p>Discover the u
 ltimate competition experience at TerraNova Equestrian Center, Florida's pr
 emier equestrian destination. Featuring luxury facilities, world-class comp
 etitions, and a convenient calendar to complement your winter season, Terra
 Nova is the perfect oasis for horses and riders alike.  </p><p>$65,000 1.45
 m CSI2* FEI Grand Prix – Saturday AM (C Ranking)<br />$32,000 1.45m CSI2* F
 EI Speed Welcome - Friday PM (D Ranking)<br />$20,000 1.35m National Prix d
 irectly following FEI GP (Open to everyone, including FEI horses)<br />All 
 Jumper levels, beginning with X-Rail Jumpers<br />.60m, .70m, .80m Mini Pri
 x<br />All Junior/Amateur Jumper divisions and classics<br />$5,000 USHJA N
 ational Hunter Derby <br />All “National” Hunter and Equitation Levels begi
 nning with Walk-Trot Poles<br /></p>
DTSTAMP:20260425T005619
DTSTART;TZID=America/New_York;VALUE=DATE:20250312
DTEND;TZID=America/New_York;VALUE=DATE:20250317
SEQUENCE:0
TRANSP:OPAQUE
END:VEVENT
END:VCALENDAR