BEGIN:VCALENDAR
VERSION:2.0
PRODID:-//jEvents 2.0 for Joomla//EN
CALSCALE:GREGORIAN
METHOD:PUBLISH
BEGIN:VTIMEZONE
TZID:America/New_York
BEGIN:STANDARD
DTSTART:20240218T180000
RDATE:20240310T030000
TZOFFSETFROM:-0400
TZOFFSETTO:-0500
TZNAME:America/New_York EST
END:STANDARD
BEGIN:STANDARD
DTSTART:20241103T010000
RDATE:20250309T030000
TZOFFSETFROM:-0400
TZOFFSETTO:-0500
TZNAME:America/New_York EST
END:STANDARD
BEGIN:STANDARD
DTSTART:20251102T010000
RDATE:20260308T030000
TZOFFSETFROM:-0400
TZOFFSETTO:-0500
TZNAME:America/New_York EST
END:STANDARD
BEGIN:STANDARD
DTSTART:20261101T010000
RDATE:20270314T030000
TZOFFSETFROM:-0400
TZOFFSETTO:-0500
TZNAME:America/New_York EST
END:STANDARD
BEGIN:STANDARD
DTSTART:20271107T010000
RDATE:20280312T030000
TZOFFSETFROM:-0400
TZOFFSETTO:-0500
TZNAME:America/New_York EST
END:STANDARD
BEGIN:STANDARD
DTSTART:20281105T010000
RDATE:20290311T030000
TZOFFSETFROM:-0400
TZOFFSETTO:-0500
TZNAME:America/New_York EST
END:STANDARD
BEGIN:DAYLIGHT
DTSTART:20240310T030000
RDATE:20241103T010000
TZOFFSETFROM:-0500
TZOFFSETTO:-0400
TZNAME:America/New_York EDT
END:DAYLIGHT
BEGIN:DAYLIGHT
DTSTART:20250309T030000
RDATE:20251102T010000
TZOFFSETFROM:-0500
TZOFFSETTO:-0400
TZNAME:America/New_York EDT
END:DAYLIGHT
BEGIN:DAYLIGHT
DTSTART:20260308T030000
RDATE:20261101T010000
TZOFFSETFROM:-0500
TZOFFSETTO:-0400
TZNAME:America/New_York EDT
END:DAYLIGHT
BEGIN:DAYLIGHT
DTSTART:20270314T030000
RDATE:20271107T010000
TZOFFSETFROM:-0500
TZOFFSETTO:-0400
TZNAME:America/New_York EDT
END:DAYLIGHT
BEGIN:DAYLIGHT
DTSTART:20280312T030000
RDATE:20281105T010000
TZOFFSETFROM:-0500
TZOFFSETTO:-0400
TZNAME:America/New_York EDT
END:DAYLIGHT
END:VTIMEZONE
BEGIN:VEVENT
UID:4e26400bd2ef136a264913121aa8b024
CATEGORIES:Health & Education
CREATED:20250210T121637
SUMMARY:Cornell’s Equine Seminar Series presents “Behavior Medication Consideration for Horses”
LOCATION:Online Virtual Event
DESCRIPTION:Cornell’s Equine Seminar Series presents “Behavior Medication Consideration
  for Horses”\n
\n
WHAT: Dr. Katherine Anderson is an Assistant Clinical Pro
 fessor with the Cornell Duffield Institute for Animal Behavior. She will de
 lve into considerations for behavioral medications in horses with stereotyp
 ies, anxiety, aggression, sleep deprivation, and other conditions.\n
\n
WHE
 N: Tuesday, February 18, 2025, 6:00-7:00 p.m. ET\n
\n
WHERE: Via Zoom; regi
 stration required: https://cornell.zoom.us/webinar/register/WN_UE9wNlxzQyal
 bIklX7iw3A#/registration\n
\n
MEDIA: The event is free and open to the publ
 ic. Media members are asked to RSVP to Len Johnson, Len.Johnson@Cornell.edu
 \n
\n
 \n
\n
ITHACA, N.Y. – Drugs are commonly used in horses for infection
 , pain, endocrine disorders, and a variety of other conditions. But what ab
 out behavioral disorders? In this webinar, Dr. Anderson will delve into con
 siderations for behavioral medications in horses with stereotypies, anxiety
 , aggression, sleep deprivation, and other conditions. She will discuss whe
 n medications might be appropriate, which drugs to consider (and which ones
  to avoid), and how they work.\n
\n
 \n
\n
Dr. Anderson is an Assistant Cli
 nical Professor with the Cornell Duffield Institute for Animal Behavior. Sh
 e received her D.V.M. from Cornell in 2008 and board certification in behav
 ior in 2023. She has more than ten years of general clinical experience wor
 king with both large and small animals, in particular dogs, cats, ruminants
 , and horses.\n
\n
 \n
\n
This seminar is part of the Cornell Equine Semina
 r Series, and will be presented on Tuesday, February 18, 2025 from 6:00-7:0
 0 p.m. Eastern Time via Zoom. Please register in advance: https://cornell.z
 oom.us/webinar/register/WN_UE9wNlxzQyalbIklX7iw3A#/registration\n
\n
 \n
\n
 
The Cornell Equine Seminar Series is presented by the Cornell Equine Hospi
 tal and Cornell Cooperative Extension. Held monthly, equine experts present
  on important equine health and management topics. The event is free and op
 en to the public.  Media members are asked to register with Len Johnson at 
 Len.Johnson@Cornell.edu.\n
\n
 \n
\n
For additional information about the c
 ollege, see the College of Veterinary Medicine news website.
X-ALT-DESC;FMTTYPE=text/html:Cornell’s Equine Seminar Series presents “Behavior Medication Consideration
  for Horses”<br /><br />WHAT: Dr. Katherine Anderson is an Assistant Clinic
 al Professor with the Cornell Duffield Institute for Animal Behavior. She w
 ill delve into considerations for behavioral medications in horses with ste
 reotypies, anxiety, aggression, sleep deprivation, and other conditions.<br
  /><br />WHEN: Tuesday, February 18, 2025, 6:00-7:00 p.m. ET<br /><br />WHE
 RE: Via Zoom; registration required: https://cornell.zoom.us/webinar/regist
 er/WN_UE9wNlxzQyalbIklX7iw3A#/registration<br /><br />MEDIA: The event is f
 ree and open to the public. Media members are asked to RSVP to Len Johnson,
  Len.Johnson@Cornell.edu<br /><br /> <br /><br />ITHACA, N.Y. – Drugs are c
 ommonly used in horses for infection, pain, endocrine disorders, and a vari
 ety of other conditions. But what about behavioral disorders? In this webin
 ar, Dr. Anderson will delve into considerations for behavioral medications 
 in horses with stereotypies, anxiety, aggression, sleep deprivation, and ot
 her conditions. She will discuss when medications might be appropriate, whi
 ch drugs to consider (and which ones to avoid), and how they work.<br /><br
  /> <br /><br />Dr. Anderson is an Assistant Clinical Professor with the Co
 rnell Duffield Institute for Animal Behavior. She received her D.V.M. from 
 Cornell in 2008 and board certification in behavior in 2023. She has more t
 han ten years of general clinical experience working with both large and sm
 all animals, in particular dogs, cats, ruminants, and horses.<br /><br /> <
 br /><br />This seminar is part of the Cornell Equine Seminar Series, and w
 ill be presented on Tuesday, February 18, 2025 from 6:00-7:00 p.m. Eastern 
 Time via Zoom. Please register in advance: https://cornell.zoom.us/webinar/
 register/WN_UE9wNlxzQyalbIklX7iw3A#/registration<br /><br /> <br /><br />Th
 e Cornell Equine Seminar Series is presented by the Cornell Equine Hospital
  and Cornell Cooperative Extension. Held monthly, equine experts present on
  important equine health and management topics. The event is free and open 
 to the public.  Media members are asked to register with Len Johnson at Len
 .Johnson@Cornell.edu.<br /><br /> <br /><br />For additional information ab
 out the college, see the College of Veterinary Medicine news website.
DTSTAMP:20260425T023806
DTSTART;TZID=America/New_York:20250218T180000
DTEND;TZID=America/New_York:20250218T190000
SEQUENCE:0
TRANSP:OPAQUE
END:VEVENT
END:VCALENDAR