BEGIN:VCALENDAR
VERSION:2.0
PRODID:-//jEvents 2.0 for Joomla//EN
CALSCALE:GREGORIAN
METHOD:PUBLISH
BEGIN:VTIMEZONE
TZID:America/New_York
BEGIN:STANDARD
DTSTART:20240201T000000
RDATE:20240310T030000
TZOFFSETFROM:-0400
TZOFFSETTO:-0500
TZNAME:America/New_York EST
END:STANDARD
BEGIN:STANDARD
DTSTART:20241103T010000
RDATE:20250309T030000
TZOFFSETFROM:-0400
TZOFFSETTO:-0500
TZNAME:America/New_York EST
END:STANDARD
BEGIN:STANDARD
DTSTART:20251102T010000
RDATE:20260308T030000
TZOFFSETFROM:-0400
TZOFFSETTO:-0500
TZNAME:America/New_York EST
END:STANDARD
BEGIN:STANDARD
DTSTART:20261101T010000
RDATE:20270314T030000
TZOFFSETFROM:-0400
TZOFFSETTO:-0500
TZNAME:America/New_York EST
END:STANDARD
BEGIN:STANDARD
DTSTART:20271107T010000
RDATE:20280312T030000
TZOFFSETFROM:-0400
TZOFFSETTO:-0500
TZNAME:America/New_York EST
END:STANDARD
BEGIN:STANDARD
DTSTART:20281105T010000
RDATE:20290311T030000
TZOFFSETFROM:-0400
TZOFFSETTO:-0500
TZNAME:America/New_York EST
END:STANDARD
BEGIN:DAYLIGHT
DTSTART:20240310T030000
RDATE:20241103T010000
TZOFFSETFROM:-0500
TZOFFSETTO:-0400
TZNAME:America/New_York EDT
END:DAYLIGHT
BEGIN:DAYLIGHT
DTSTART:20250309T030000
RDATE:20251102T010000
TZOFFSETFROM:-0500
TZOFFSETTO:-0400
TZNAME:America/New_York EDT
END:DAYLIGHT
BEGIN:DAYLIGHT
DTSTART:20260308T030000
RDATE:20261101T010000
TZOFFSETFROM:-0500
TZOFFSETTO:-0400
TZNAME:America/New_York EDT
END:DAYLIGHT
BEGIN:DAYLIGHT
DTSTART:20270314T030000
RDATE:20271107T010000
TZOFFSETFROM:-0500
TZOFFSETTO:-0400
TZNAME:America/New_York EDT
END:DAYLIGHT
BEGIN:DAYLIGHT
DTSTART:20280312T030000
RDATE:20281105T010000
TZOFFSETFROM:-0500
TZOFFSETTO:-0400
TZNAME:America/New_York EDT
END:DAYLIGHT
END:VTIMEZONE
BEGIN:VEVENT
UID:03c741d1f389a1a33fdb9e45486cdfeb
CATEGORIES:Polo
CREATED:20250109T105629
SUMMARY:White Turf Snow Polo, Rennverein St. Moritz, Switzerland
LOCATION:Rennverein St. Moritz
DESCRIPTION:Noble thoroughbred horses from all over Europe and international jockeys as
  well as a fantastic supporting program will once again delight guests from
  all over the world on the frozen St. Moritzersee. in 2025</br>White Turf, 
 a unique, exclusive, top-class event with exciting horse-racing, gourmet ca
 tering, lively music and inspiring art exhibitions, all taking place in win
 ter sunshine on the frozen lake among the stunningly beautiful, snow-capped
  mountains of St. Moritz.<br /><br />This spectacular, major event is not j
 ust one with Champagne on ice for the rich and beautiful but an annual even
 t where race-horse owners, trainers and jockeys from all over the world mee
 t up as well as being an unmissable fixture on the calendar for local peopl
 e.<br /><br />It is thanks to the sponsors as well as the municipality of S
 t Moritz and the local tourist board, who have been supporting White Turf f
 or decades, to make this top-class race-meeting possible.<br />

<!-- Jooml
 aWorks "AllVideos" Plugin (v7.0) starts here -->

<div class="avPlayerWrapp
 er avVideo">
    <div class="avPlayerContainer">
        <div id="AVPlayerI
 D_0_d3b17e3456598c3bdbd6846104b2be37" class="avPlayerBlock">
            <i
 frame src="https://www.youtube.com/embed/WPQBh_4vtLE?si=RMc_KTdFmOe-tGlY&am
 p;rel=0&amp;fs=1&amp;wmode=transparent" width="400" height="300" allow="aut
 oplay; fullscreen; encrypted-media" allowfullscreen="true" frameborder="0" 
 scrolling="no" title="JoomlaWorks AllVideos Player"></iframe>        </div>
 
            </div>
</div>

<!-- JoomlaWorks "AllVideos" Plugin (v7.0) ends
  here -->


DTSTAMP:20260425T024220
DTSTART;TZID=America/New_York;VALUE=DATE:20250201
DTEND;TZID=America/New_York;VALUE=DATE:20250217
SEQUENCE:0
TRANSP:OPAQUE
END:VEVENT
END:VCALENDAR