BEGIN:VCALENDAR
VERSION:2.0
PRODID:-//jEvents 2.0 for Joomla//EN
CALSCALE:GREGORIAN
METHOD:PUBLISH
BEGIN:VTIMEZONE
TZID:America/New_York
BEGIN:STANDARD
DTSTART:20240211T000000
RDATE:20240310T030000
TZOFFSETFROM:-0400
TZOFFSETTO:-0500
TZNAME:America/New_York EST
END:STANDARD
BEGIN:STANDARD
DTSTART:20241103T010000
RDATE:20250309T030000
TZOFFSETFROM:-0400
TZOFFSETTO:-0500
TZNAME:America/New_York EST
END:STANDARD
BEGIN:STANDARD
DTSTART:20251102T010000
RDATE:20260308T030000
TZOFFSETFROM:-0400
TZOFFSETTO:-0500
TZNAME:America/New_York EST
END:STANDARD
BEGIN:STANDARD
DTSTART:20261101T010000
RDATE:20270314T030000
TZOFFSETFROM:-0400
TZOFFSETTO:-0500
TZNAME:America/New_York EST
END:STANDARD
BEGIN:STANDARD
DTSTART:20271107T010000
RDATE:20280312T030000
TZOFFSETFROM:-0400
TZOFFSETTO:-0500
TZNAME:America/New_York EST
END:STANDARD
BEGIN:STANDARD
DTSTART:20281105T010000
RDATE:20290311T030000
TZOFFSETFROM:-0400
TZOFFSETTO:-0500
TZNAME:America/New_York EST
END:STANDARD
BEGIN:DAYLIGHT
DTSTART:20240310T030000
RDATE:20241103T010000
TZOFFSETFROM:-0500
TZOFFSETTO:-0400
TZNAME:America/New_York EDT
END:DAYLIGHT
BEGIN:DAYLIGHT
DTSTART:20250309T030000
RDATE:20251102T010000
TZOFFSETFROM:-0500
TZOFFSETTO:-0400
TZNAME:America/New_York EDT
END:DAYLIGHT
BEGIN:DAYLIGHT
DTSTART:20260308T030000
RDATE:20261101T010000
TZOFFSETFROM:-0500
TZOFFSETTO:-0400
TZNAME:America/New_York EDT
END:DAYLIGHT
BEGIN:DAYLIGHT
DTSTART:20270314T030000
RDATE:20271107T010000
TZOFFSETFROM:-0500
TZOFFSETTO:-0400
TZNAME:America/New_York EDT
END:DAYLIGHT
BEGIN:DAYLIGHT
DTSTART:20280312T030000
RDATE:20281105T010000
TZOFFSETFROM:-0500
TZOFFSETTO:-0400
TZNAME:America/New_York EDT
END:DAYLIGHT
END:VTIMEZONE
BEGIN:VEVENT
UID:fa8fe75d12193283873b12ac44089620
CATEGORIES:English Riding
CREATED:20250109T104259
SUMMARY:HITS Ocala Winter Festival – V - National / 5
LOCATION:HITS Post Time Farm
DESCRIPTION:$2,500 Adequan Open Welcome - Wednesday\n
$25,000 Alliant Private Client Cu
 p - Thursday\n
$15,000 STX Open Speed - Friday\n
$80,000 Go Rentals Grand P
 rix - Saturday\n
$24,500 HorseFlight Jumper Classic - Sunday\n
$10,000 USHJ
 A JrAm National Hunter Derby - Featuring\n
$7,500 NAL JrAm 1.35m Jumper Cla
 ssic \n
$7,500 CWD JrAm 1.45m Jumper Classic\n
X-ALT-DESC;FMTTYPE=text/html:$2,500 Adequan Open Welcome - Wednesday<br />$25,000 Alliant Private Client
  Cup - Thursday<br />$15,000 STX Open Speed - Friday<br />$80,000 Go Rental
 s Grand Prix - Saturday<br />$24,500 HorseFlight Jumper Classic - Sunday<br
  />$10,000 USHJA JrAm National Hunter Derby - Featuring<br />$7,500 NAL JrA
 m 1.35m Jumper Classic <br />$7,500 CWD JrAm 1.45m Jumper Classic<br />
DTSTAMP:20260425T005621
DTSTART;TZID=America/New_York;VALUE=DATE:20250211
DTEND;TZID=America/New_York;VALUE=DATE:20250217
SEQUENCE:0
TRANSP:OPAQUE
END:VEVENT
END:VCALENDAR