BEGIN:VCALENDAR
VERSION:2.0
PRODID:-//jEvents 2.0 for Joomla//EN
CALSCALE:GREGORIAN
METHOD:PUBLISH
BEGIN:VTIMEZONE
TZID:America/New_York
BEGIN:STANDARD
DTSTART:20240204T000000
RDATE:20240310T030000
TZOFFSETFROM:-0400
TZOFFSETTO:-0500
TZNAME:America/New_York EST
END:STANDARD
BEGIN:STANDARD
DTSTART:20241103T010000
RDATE:20250309T030000
TZOFFSETFROM:-0400
TZOFFSETTO:-0500
TZNAME:America/New_York EST
END:STANDARD
BEGIN:STANDARD
DTSTART:20251102T010000
RDATE:20260308T030000
TZOFFSETFROM:-0400
TZOFFSETTO:-0500
TZNAME:America/New_York EST
END:STANDARD
BEGIN:STANDARD
DTSTART:20261101T010000
RDATE:20270314T030000
TZOFFSETFROM:-0400
TZOFFSETTO:-0500
TZNAME:America/New_York EST
END:STANDARD
BEGIN:STANDARD
DTSTART:20271107T010000
RDATE:20280312T030000
TZOFFSETFROM:-0400
TZOFFSETTO:-0500
TZNAME:America/New_York EST
END:STANDARD
BEGIN:STANDARD
DTSTART:20281105T010000
RDATE:20290311T030000
TZOFFSETFROM:-0400
TZOFFSETTO:-0500
TZNAME:America/New_York EST
END:STANDARD
BEGIN:DAYLIGHT
DTSTART:20240310T030000
RDATE:20241103T010000
TZOFFSETFROM:-0500
TZOFFSETTO:-0400
TZNAME:America/New_York EDT
END:DAYLIGHT
BEGIN:DAYLIGHT
DTSTART:20250309T030000
RDATE:20251102T010000
TZOFFSETFROM:-0500
TZOFFSETTO:-0400
TZNAME:America/New_York EDT
END:DAYLIGHT
BEGIN:DAYLIGHT
DTSTART:20260308T030000
RDATE:20261101T010000
TZOFFSETFROM:-0500
TZOFFSETTO:-0400
TZNAME:America/New_York EDT
END:DAYLIGHT
BEGIN:DAYLIGHT
DTSTART:20270314T030000
RDATE:20271107T010000
TZOFFSETFROM:-0500
TZOFFSETTO:-0400
TZNAME:America/New_York EDT
END:DAYLIGHT
BEGIN:DAYLIGHT
DTSTART:20280312T030000
RDATE:20281105T010000
TZOFFSETFROM:-0500
TZOFFSETTO:-0400
TZNAME:America/New_York EDT
END:DAYLIGHT
END:VTIMEZONE
BEGIN:VEVENT
UID:b5bdfd11c219b9b388e6bc196e1a0683
CATEGORIES:English Riding
CREATED:20250109T104124
SUMMARY:HITS Ocala Winter Classic – IV - Premier / 5
LOCATION:HITS Post Time Farm
DESCRIPTION:For four decades and counting, the HITS Ocala Winter Circuit has provided o
 ne of the largest show circuits in the country. Over a period of 12 weeks e
 ach winter, HITS Ocala hosts an array of top-level USEF-rated shows , where
  premier competition and diverse opportunities for riders and horses of all
  levels come together to create a vibrant and unforgettable equestrian expe
 rience.\n
$2,500 Adequan Open Welcome - Wednesday\n
$25,000 Alliant Private
  Client Cup - Thursday\n
$15,000 STX Open Speed - Friday\n
$80,000 HITS Gra
 nd Prix - Saturday\n
$24,500 HorseFlight Jumper Classic - Sunday\n
$20,000 
 USHJA Jr/Am National Hunter Derby - Featuring\n
$40,000 USHJA International
  Hunter Derby - Featuring\n
$1,500 USHJA Pony Hunter Derby - Featuring\n
WC
 HR  - Featuring\n
X-ALT-DESC;FMTTYPE=text/html:<p>For four decades and counting, the HITS Ocala Winter Circuit has provide
 d one of the largest show circuits in the country. Over a period of 12 week
 s each winter, HITS Ocala hosts an array of top-level USEF-rated shows , wh
 ere premier competition and diverse opportunities for riders and horses of 
 all levels come together to create a vibrant and unforgettable equestrian e
 xperience.</p>$2,500 Adequan Open Welcome - Wednesday<br />$25,000 Alliant 
 Private Client Cup - Thursday<br />$15,000 STX Open Speed - Friday<br />$80
 ,000 HITS Grand Prix - Saturday<br />$24,500 HorseFlight Jumper Classic - S
 unday<br />$20,000 USHJA Jr/Am National Hunter Derby - Featuring<br />$40,0
 00 USHJA International Hunter Derby - Featuring<br />$1,500 USHJA Pony Hunt
 er Derby - Featuring<br />WCHR  - Featuring<br />
DTSTAMP:20260425T005621
DTSTART;TZID=America/New_York;VALUE=DATE:20250204
DTEND;TZID=America/New_York;VALUE=DATE:20250210
SEQUENCE:0
TRANSP:OPAQUE
END:VEVENT
END:VCALENDAR